BEGIN:VCALENDAR
VERSION:2.0
PRODID:-//Faith Bible Church of Vallejo - ECPv6.15.20//NONSGML v1.0//EN
CALSCALE:GREGORIAN
METHOD:PUBLISH
X-ORIGINAL-URL:https://fbcvallejo.net
X-WR-CALDESC:Events for Faith Bible Church of Vallejo
REFRESH-INTERVAL;VALUE=DURATION:PT1H
X-Robots-Tag:noindex
X-PUBLISHED-TTL:PT1H
BEGIN:VTIMEZONE
TZID:America/Los_Angeles
BEGIN:DAYLIGHT
TZOFFSETFROM:-0800
TZOFFSETTO:-0700
TZNAME:PDT
DTSTART:20240310T100000
END:DAYLIGHT
BEGIN:STANDARD
TZOFFSETFROM:-0700
TZOFFSETTO:-0800
TZNAME:PST
DTSTART:20241103T090000
END:STANDARD
BEGIN:DAYLIGHT
TZOFFSETFROM:-0800
TZOFFSETTO:-0700
TZNAME:PDT
DTSTART:20250309T100000
END:DAYLIGHT
BEGIN:STANDARD
TZOFFSETFROM:-0700
TZOFFSETTO:-0800
TZNAME:PST
DTSTART:20251102T090000
END:STANDARD
BEGIN:DAYLIGHT
TZOFFSETFROM:-0800
TZOFFSETTO:-0700
TZNAME:PDT
DTSTART:20260308T100000
END:DAYLIGHT
BEGIN:STANDARD
TZOFFSETFROM:-0700
TZOFFSETTO:-0800
TZNAME:PST
DTSTART:20261101T090000
END:STANDARD
END:VTIMEZONE
BEGIN:VEVENT
DTSTART;TZID=America/Los_Angeles:20250704T000000
DTEND;TZID=America/Los_Angeles:20250704T235959
DTSTAMP:20260424T061924
CREATED:20250102T223300Z
LAST-MODIFIED:20250704T190304Z
UID:1612-1751587200-1751673599@fbcvallejo.net
SUMMARY:Faith Food BBQ
DESCRIPTION:
URL:https://fbcvallejo.net/_event/faith-food-bbq/
END:VEVENT
BEGIN:VEVENT
DTSTART;TZID=America/Los_Angeles:20250704T000000
DTEND;TZID=America/Los_Angeles:20250704T235959
DTSTAMP:20260424T061924
CREATED:20250102T223301Z
LAST-MODIFIED:20250704T190304Z
UID:1613-1751587200-1751673599@fbcvallejo.net
SUMMARY:No Youth Bible Study - Holiday Weekend
DESCRIPTION:
URL:https://fbcvallejo.net/_event/no-youth-bible-study-holiday-weekend/
END:VEVENT
END:VCALENDAR