BEGIN:VCALENDAR
VERSION:2.0
PRODID:-//Faith Bible Church of Vallejo - ECPv6.15.20//NONSGML v1.0//EN
CALSCALE:GREGORIAN
METHOD:PUBLISH
X-WR-CALNAME:Faith Bible Church of Vallejo
X-ORIGINAL-URL:https://fbcvallejo.net
X-WR-CALDESC:Events for Faith Bible Church of Vallejo
REFRESH-INTERVAL;VALUE=DURATION:PT1H
X-Robots-Tag:noindex
X-PUBLISHED-TTL:PT1H
BEGIN:VTIMEZONE
TZID:America/Los_Angeles
BEGIN:DAYLIGHT
TZOFFSETFROM:-0800
TZOFFSETTO:-0700
TZNAME:PDT
DTSTART:20250309T100000
END:DAYLIGHT
BEGIN:STANDARD
TZOFFSETFROM:-0700
TZOFFSETTO:-0800
TZNAME:PST
DTSTART:20251102T090000
END:STANDARD
BEGIN:DAYLIGHT
TZOFFSETFROM:-0800
TZOFFSETTO:-0700
TZNAME:PDT
DTSTART:20260308T100000
END:DAYLIGHT
BEGIN:STANDARD
TZOFFSETFROM:-0700
TZOFFSETTO:-0800
TZNAME:PST
DTSTART:20261101T090000
END:STANDARD
BEGIN:DAYLIGHT
TZOFFSETFROM:-0800
TZOFFSETTO:-0700
TZNAME:PDT
DTSTART:20270314T100000
END:DAYLIGHT
BEGIN:STANDARD
TZOFFSETFROM:-0700
TZOFFSETTO:-0800
TZNAME:PST
DTSTART:20271107T090000
END:STANDARD
END:VTIMEZONE
BEGIN:VEVENT
DTSTART;TZID=America/Los_Angeles:20260301T000000
DTEND;TZID=America/Los_Angeles:20260301T235959
DTSTAMP:20260423T174229
CREATED:20250717T204740Z
LAST-MODIFIED:20260106T175955Z
UID:4074-1772323200-1772409599@fbcvallejo.net
SUMMARY:Communion
DESCRIPTION:
URL:https://fbcvallejo.net/_event/communion-17/
END:VEVENT
BEGIN:VEVENT
DTSTART;TZID=America/Los_Angeles:20260301T000000
DTEND;TZID=America/Los_Angeles:20260301T235959
DTSTAMP:20260423T174229
CREATED:20260107T180023Z
LAST-MODIFIED:20260301T233423Z
UID:11732-1772323200-1772409599@fbcvallejo.net
SUMMARY:Communion
DESCRIPTION:
URL:https://fbcvallejo.net/_event/communion-25/
END:VEVENT
BEGIN:VEVENT
DTSTART;TZID=America/Los_Angeles:20260301T090000
DTEND;TZID=America/Los_Angeles:20260301T103000
DTSTAMP:20260423T174229
CREATED:20250718T204820Z
LAST-MODIFIED:20260106T175955Z
UID:4078-1772355600-1772361000@fbcvallejo.net
SUMMARY:9AM Sunday Service
DESCRIPTION:Weekly Bulletins – https://fbcvallejo.net/sermons/bulletins/ \nMap Directions – https://maps.app.goo.gl/EeDx3fN8phUAtJ8y5
URL:https://fbcvallejo.net/_event/9am-sunday-service-72/
LOCATION:901 Solano Ave\, Vallejo\, CA\, United States
END:VEVENT
BEGIN:VEVENT
DTSTART;TZID=America/Los_Angeles:20260301T110000
DTEND;TZID=America/Los_Angeles:20260301T123000
DTSTAMP:20260423T174229
CREATED:20250719T210052Z
LAST-MODIFIED:20260106T175955Z
UID:4084-1772362800-1772368200@fbcvallejo.net
SUMMARY:11AM Children's Sunday School
DESCRIPTION:Children’s Sanctuary \nMap Directions – https://maps.app.goo.gl/EeDx3fN8phUAtJ8y5
URL:https://fbcvallejo.net/_event/11am-childrens-sunday-school-72/
LOCATION:901 Solano Ave\, Vallejo\, CA\, United States
END:VEVENT
BEGIN:VEVENT
DTSTART;TZID=America/Los_Angeles:20260301T110000
DTEND;TZID=America/Los_Angeles:20260301T123000
DTSTAMP:20260423T174229
CREATED:20250719T210052Z
LAST-MODIFIED:20260106T175955Z
UID:4085-1772362800-1772368200@fbcvallejo.net
SUMMARY:11AM Sunday Service
DESCRIPTION:Weekly Bulletins – https://fbcvallejo.net/sermons/bulletins/ \nMap Directions – https://maps.app.goo.gl/EeDx3fN8phUAtJ8y5
URL:https://fbcvallejo.net/_event/11am-sunday-service-72/
LOCATION:901 Solano Ave\, Vallejo\, CA\, United States
END:VEVENT
BEGIN:VEVENT
DTSTART;TZID=America/Los_Angeles:20260301T110000
DTEND;TZID=America/Los_Angeles:20260301T123000
DTSTAMP:20260423T174229
CREATED:20250720T210250Z
LAST-MODIFIED:20260106T175955Z
UID:4092-1772362800-1772368200@fbcvallejo.net
SUMMARY:11AM Sunday Live Stream Service
DESCRIPTION:Weekly Bulletins – https://fbcvallejo.net/sermons/bulletins/ \nLivestream Links \nFacebook: https://www.facebook.com/faithbiblechurchvallejo/live \nYouTube: https://youtube.com/channel/UCRvwFe65dkysxaJgD6mHUIw/live  
URL:https://fbcvallejo.net/_event/11am-sunday-live-stream-service-72/
LOCATION:901 Solano Ave\, Vallejo\, CA\, United States
END:VEVENT
BEGIN:VEVENT
DTSTART;TZID=America/Los_Angeles:20260301T110000
DTEND;TZID=America/Los_Angeles:20260301T130000
DTSTAMP:20260423T174229
CREATED:20250720T210250Z
LAST-MODIFIED:20260106T175955Z
UID:4091-1772362800-1772370000@fbcvallejo.net
SUMMARY:Faith Food Fridays
DESCRIPTION:
URL:https://fbcvallejo.net/_event/faith-food-fridays-72/
END:VEVENT
END:VCALENDAR