BEGIN:VCALENDAR
VERSION:2.0
PRODID:-//Faith Bible Church of Vallejo - ECPv6.15.20//NONSGML v1.0//EN
CALSCALE:GREGORIAN
METHOD:PUBLISH
X-WR-CALNAME:Faith Bible Church of Vallejo
X-ORIGINAL-URL:https://fbcvallejo.net
X-WR-CALDESC:Events for Faith Bible Church of Vallejo
REFRESH-INTERVAL;VALUE=DURATION:PT1H
X-Robots-Tag:noindex
X-PUBLISHED-TTL:PT1H
BEGIN:VTIMEZONE
TZID:America/Los_Angeles
BEGIN:DAYLIGHT
TZOFFSETFROM:-0800
TZOFFSETTO:-0700
TZNAME:PDT
DTSTART:20230312T100000
END:DAYLIGHT
BEGIN:STANDARD
TZOFFSETFROM:-0700
TZOFFSETTO:-0800
TZNAME:PST
DTSTART:20231105T090000
END:STANDARD
BEGIN:DAYLIGHT
TZOFFSETFROM:-0800
TZOFFSETTO:-0700
TZNAME:PDT
DTSTART:20240310T100000
END:DAYLIGHT
BEGIN:STANDARD
TZOFFSETFROM:-0700
TZOFFSETTO:-0800
TZNAME:PST
DTSTART:20241103T090000
END:STANDARD
BEGIN:DAYLIGHT
TZOFFSETFROM:-0800
TZOFFSETTO:-0700
TZNAME:PDT
DTSTART:20250309T100000
END:DAYLIGHT
BEGIN:STANDARD
TZOFFSETFROM:-0700
TZOFFSETTO:-0800
TZNAME:PST
DTSTART:20251102T090000
END:STANDARD
END:VTIMEZONE
BEGIN:VEVENT
DTSTART;TZID=America/Los_Angeles:20241117T110000
DTEND;TZID=America/Los_Angeles:20241117T130000
DTSTAMP:20260425T033047
CREATED:20241014T005828Z
LAST-MODIFIED:20241116T223220Z
UID:399-1731841200-1731848400@fbcvallejo.net
SUMMARY:Faith Food Fridays
DESCRIPTION:
URL:https://fbcvallejo.net/_event/faith-food-fridays-5/
END:VEVENT
BEGIN:VEVENT
DTSTART;TZID=America/Los_Angeles:20241117T110000
DTEND;TZID=America/Los_Angeles:20241117T123000
DTSTAMP:20260425T033047
CREATED:20241014T005829Z
LAST-MODIFIED:20241116T223219Z
UID:401-1731841200-1731846600@fbcvallejo.net
SUMMARY:11AM Sunday Live Stream Service
DESCRIPTION:Weekly Bulletins – https://fbcvallejo.net/sermons/bulletins/ \nLivestream Links \nFacebook: https://www.facebook.com/faithbiblechurchvallejo/live \nYouTube: https://youtube.com/channel/UCRvwFe65dkysxaJgD6mHUIw/live  
URL:https://fbcvallejo.net/_event/11am-sunday-live-stream-service-5/
LOCATION:901 Solano Ave\, Vallejo\, CA\, United States
END:VEVENT
BEGIN:VEVENT
DTSTART;TZID=America/Los_Angeles:20241117T110000
DTEND;TZID=America/Los_Angeles:20241117T123000
DTSTAMP:20260425T033047
CREATED:20241014T005829Z
LAST-MODIFIED:20241116T223219Z
UID:402-1731841200-1731846600@fbcvallejo.net
SUMMARY:11AM Sunday Service
DESCRIPTION:Weekly Bulletins – https://fbcvallejo.net/sermons/bulletins/ \nMap Directions – https://maps.app.goo.gl/EeDx3fN8phUAtJ8y5
URL:https://fbcvallejo.net/_event/11am-sunday-service-5/
LOCATION:901 Solano Ave\, Vallejo\, CA\, United States
END:VEVENT
BEGIN:VEVENT
DTSTART;TZID=America/Los_Angeles:20241117T110000
DTEND;TZID=America/Los_Angeles:20241117T123000
DTSTAMP:20260425T033047
CREATED:20241014T005828Z
LAST-MODIFIED:20241116T223219Z
UID:400-1731841200-1731846600@fbcvallejo.net
SUMMARY:11AM Children's Sunday School
DESCRIPTION:Children’s Sanctuary \nMap Directions – https://maps.app.goo.gl/EeDx3fN8phUAtJ8y5
URL:https://fbcvallejo.net/_event/11am-childrens-sunday-school-5/
LOCATION:901 Solano Ave\, Vallejo\, CA\, United States
END:VEVENT
BEGIN:VEVENT
DTSTART;TZID=America/Los_Angeles:20241117T090000
DTEND;TZID=America/Los_Angeles:20241117T103000
DTSTAMP:20260425T033047
CREATED:20241014T005828Z
LAST-MODIFIED:20241116T223219Z
UID:398-1731834000-1731839400@fbcvallejo.net
SUMMARY:9AM Sunday Service
DESCRIPTION:Weekly Bulletins – https://fbcvallejo.net/sermons/bulletins/ \nMap Directions – https://maps.app.goo.gl/EeDx3fN8phUAtJ8y5
URL:https://fbcvallejo.net/_event/9am-sunday-service-5/
LOCATION:901 Solano Ave\, Vallejo\, CA\, United States
END:VEVENT
BEGIN:VEVENT
DTSTART;TZID=America/Los_Angeles:20241116T130000
DTEND;TZID=America/Los_Angeles:20241116T160000
DTSTAMP:20260425T033047
CREATED:20241014T005828Z
LAST-MODIFIED:20241116T223219Z
UID:397-1731762000-1731772800@fbcvallejo.net
SUMMARY:The Songs of Moses & Miriam
DESCRIPTION:FBCV Women’s Ministry invite you to give back\, give thanks and praise together through the songs of Moses and Miriam. Bring a dish to share. Donations needed for 100 care packages: socks\, beanies\, gloves\, scarves\, toiletries\, etc.Please contact Sis. Joy at 925-759-3703 for more information.https://fbcvallejo.net/the-songs-of-moses-miriam/
URL:https://fbcvallejo.net/_event/the-songs-of-moses-miriam/
LOCATION:2525 Flosden Rd\, American Canyon\, CA\, United States
CATEGORIES:Event
END:VEVENT
BEGIN:VEVENT
DTSTART;TZID=America/Los_Angeles:20241110T110000
DTEND;TZID=America/Los_Angeles:20241110T130000
DTSTAMP:20260425T033047
CREATED:20241014T005827Z
LAST-MODIFIED:20241109T213457Z
UID:394-1731236400-1731243600@fbcvallejo.net
SUMMARY:Faith Food Fridays
DESCRIPTION:
URL:https://fbcvallejo.net/_event/faith-food-fridays-4/
END:VEVENT
BEGIN:VEVENT
DTSTART;TZID=America/Los_Angeles:20241110T110000
DTEND;TZID=America/Los_Angeles:20241110T123000
DTSTAMP:20260425T033047
CREATED:20241014T005828Z
LAST-MODIFIED:20241109T213457Z
UID:395-1731236400-1731241800@fbcvallejo.net
SUMMARY:11AM Children's Sunday School
DESCRIPTION:Children’s Sanctuary \nMap Directions – https://maps.app.goo.gl/EeDx3fN8phUAtJ8y5
URL:https://fbcvallejo.net/_event/11am-childrens-sunday-school-4/
LOCATION:901 Solano Ave\, Vallejo\, CA\, United States
END:VEVENT
BEGIN:VEVENT
DTSTART;TZID=America/Los_Angeles:20241110T110000
DTEND;TZID=America/Los_Angeles:20241110T123000
DTSTAMP:20260425T033047
CREATED:20241014T005827Z
LAST-MODIFIED:20241109T213457Z
UID:392-1731236400-1731241800@fbcvallejo.net
SUMMARY:11AM Sunday Service
DESCRIPTION:Weekly Bulletins – https://fbcvallejo.net/sermons/bulletins/ \nMap Directions – https://maps.app.goo.gl/EeDx3fN8phUAtJ8y5
URL:https://fbcvallejo.net/_event/11am-sunday-service-4/
LOCATION:901 Solano Ave\, Vallejo\, CA\, United States
END:VEVENT
BEGIN:VEVENT
DTSTART;TZID=America/Los_Angeles:20241110T110000
DTEND;TZID=America/Los_Angeles:20241110T123000
DTSTAMP:20260425T033047
CREATED:20241014T005827Z
LAST-MODIFIED:20241109T213457Z
UID:393-1731236400-1731241800@fbcvallejo.net
SUMMARY:11AM Sunday Live Stream Service
DESCRIPTION:Weekly Bulletins – https://fbcvallejo.net/sermons/bulletins/ \nLivestream Links \nFacebook: https://www.facebook.com/faithbiblechurchvallejo/live \nYouTube: https://youtube.com/channel/UCRvwFe65dkysxaJgD6mHUIw/live  
URL:https://fbcvallejo.net/_event/11am-sunday-live-stream-service-4/
LOCATION:901 Solano Ave\, Vallejo\, CA\, United States
END:VEVENT
BEGIN:VEVENT
DTSTART;TZID=America/Los_Angeles:20241110T090000
DTEND;TZID=America/Los_Angeles:20241110T103000
DTSTAMP:20260425T033047
CREATED:20241014T005827Z
LAST-MODIFIED:20241109T213456Z
UID:391-1731229200-1731234600@fbcvallejo.net
SUMMARY:9AM Sunday Service
DESCRIPTION:Weekly Bulletins – https://fbcvallejo.net/sermons/bulletins/ \nMap Directions – https://maps.app.goo.gl/EeDx3fN8phUAtJ8y5
URL:https://fbcvallejo.net/_event/9am-sunday-service-4/
LOCATION:901 Solano Ave\, Vallejo\, CA\, United States
END:VEVENT
BEGIN:VEVENT
DTSTART;TZID=America/Los_Angeles:20241107T193000
DTEND;TZID=America/Los_Angeles:20241107T203000
DTSTAMP:20260425T033047
CREATED:20241014T005827Z
LAST-MODIFIED:20241107T212050Z
UID:390-1731007800-1731011400@fbcvallejo.net
SUMMARY:Women's Prayer Meeting
DESCRIPTION:
URL:https://fbcvallejo.net/_event/womens-prayer-meeting/
LOCATION:ZOOM
END:VEVENT
BEGIN:VEVENT
DTSTART;TZID=America/Los_Angeles:20241103T110000
DTEND;TZID=America/Los_Angeles:20241103T130000
DTSTAMP:20260425T033047
CREATED:20241014T005826Z
LAST-MODIFIED:20241103T205519Z
UID:387-1730631600-1730638800@fbcvallejo.net
SUMMARY:Faith Food Fridays
DESCRIPTION:
URL:https://fbcvallejo.net/_event/faith-food-fridays-3/
END:VEVENT
BEGIN:VEVENT
DTSTART;TZID=America/Los_Angeles:20241103T110000
DTEND;TZID=America/Los_Angeles:20241103T123000
DTSTAMP:20260425T033047
CREATED:20241014T005826Z
LAST-MODIFIED:20241102T205515Z
UID:388-1730631600-1730637000@fbcvallejo.net
SUMMARY:11AM Sunday Live Stream Service
DESCRIPTION:Weekly Bulletins – https://fbcvallejo.net/sermons/bulletins/ \nLivestream Links \nFacebook: https://www.facebook.com/faithbiblechurchvallejo/live \nYouTube: https://youtube.com/channel/UCRvwFe65dkysxaJgD6mHUIw/live  
URL:https://fbcvallejo.net/_event/11am-sunday-live-stream-service-3/
LOCATION:901 Solano Ave\, Vallejo\, CA\, United States
END:VEVENT
BEGIN:VEVENT
DTSTART;TZID=America/Los_Angeles:20241103T110000
DTEND;TZID=America/Los_Angeles:20241103T123000
DTSTAMP:20260425T033047
CREATED:20241014T005826Z
LAST-MODIFIED:20241102T205514Z
UID:386-1730631600-1730637000@fbcvallejo.net
SUMMARY:11AM Children's Sunday School
DESCRIPTION:Children’s Sanctuary \nMap Directions – https://maps.app.goo.gl/EeDx3fN8phUAtJ8y5
URL:https://fbcvallejo.net/_event/11am-childrens-sunday-school-3/
LOCATION:901 Solano Ave\, Vallejo\, CA\, United States
END:VEVENT
BEGIN:VEVENT
DTSTART;TZID=America/Los_Angeles:20241103T110000
DTEND;TZID=America/Los_Angeles:20241103T123000
DTSTAMP:20260425T033047
CREATED:20241014T005825Z
LAST-MODIFIED:20241102T205516Z
UID:383-1730631600-1730637000@fbcvallejo.net
SUMMARY:11AM Sunday Service
DESCRIPTION:Weekly Bulletins – https://fbcvallejo.net/sermons/bulletins/ \nMap Directions – https://maps.app.goo.gl/EeDx3fN8phUAtJ8y5
URL:https://fbcvallejo.net/_event/11am-sunday-service-3/
LOCATION:901 Solano Ave\, Vallejo\, CA\, United States
END:VEVENT
BEGIN:VEVENT
DTSTART;TZID=America/Los_Angeles:20241103T090000
DTEND;TZID=America/Los_Angeles:20241103T103000
DTSTAMP:20260425T033047
CREATED:20241014T005826Z
LAST-MODIFIED:20241102T205514Z
UID:385-1730624400-1730629800@fbcvallejo.net
SUMMARY:9AM Sunday Service
DESCRIPTION:Weekly Bulletins – https://fbcvallejo.net/sermons/bulletins/ \nMap Directions – https://maps.app.goo.gl/EeDx3fN8phUAtJ8y5
URL:https://fbcvallejo.net/_event/9am-sunday-service-3/
LOCATION:901 Solano Ave\, Vallejo\, CA\, United States
END:VEVENT
BEGIN:VEVENT
DTSTART;TZID=America/Los_Angeles:20241103T000000
DTEND;TZID=America/Los_Angeles:20241103T235959
DTSTAMP:20260425T033047
CREATED:20241014T005825Z
LAST-MODIFIED:20241103T205518Z
UID:384-1730592000-1730678399@fbcvallejo.net
SUMMARY:Communion
DESCRIPTION:
URL:https://fbcvallejo.net/_event/communion/
END:VEVENT
BEGIN:VEVENT
DTSTART;TZID=America/Los_Angeles:20241027T110000
DTEND;TZID=America/Los_Angeles:20241027T130000
DTSTAMP:20260425T033047
CREATED:20241014T005825Z
LAST-MODIFIED:20241027T200018Z
UID:382-1730026800-1730034000@fbcvallejo.net
SUMMARY:Faith Food Fridays
DESCRIPTION:
URL:https://fbcvallejo.net/_event/faith-food-fridays-2/
END:VEVENT
BEGIN:VEVENT
DTSTART;TZID=America/Los_Angeles:20241027T110000
DTEND;TZID=America/Los_Angeles:20241027T123000
DTSTAMP:20260425T033047
CREATED:20241014T005824Z
LAST-MODIFIED:20241026T200206Z
UID:379-1730026800-1730032200@fbcvallejo.net
SUMMARY:11AM Children's Sunday School
DESCRIPTION:Children’s Sanctuary \nMap Directions – https://maps.app.goo.gl/EeDx3fN8phUAtJ8y5
URL:https://fbcvallejo.net/_event/11am-childrens-sunday-school-2/
LOCATION:901 Solano Ave\, Vallejo\, CA\, United States
END:VEVENT
BEGIN:VEVENT
DTSTART;TZID=America/Los_Angeles:20241027T110000
DTEND;TZID=America/Los_Angeles:20241027T123000
DTSTAMP:20260425T033047
CREATED:20241014T005824Z
LAST-MODIFIED:20241026T200206Z
UID:380-1730026800-1730032200@fbcvallejo.net
SUMMARY:11AM Sunday Live Stream Service
DESCRIPTION:Weekly Bulletins – https://fbcvallejo.net/sermons/bulletins/ \nLivestream Links \nFacebook: https://www.facebook.com/faithbiblechurchvallejo/live \nYouTube: https://youtube.com/channel/UCRvwFe65dkysxaJgD6mHUIw/live  
URL:https://fbcvallejo.net/_event/11am-sunday-live-stream-service-2/
LOCATION:901 Solano Ave\, Vallejo\, CA\, United States
END:VEVENT
BEGIN:VEVENT
DTSTART;TZID=America/Los_Angeles:20241027T110000
DTEND;TZID=America/Los_Angeles:20241027T123000
DTSTAMP:20260425T033047
CREATED:20241014T005824Z
LAST-MODIFIED:20241026T200206Z
UID:381-1730026800-1730032200@fbcvallejo.net
SUMMARY:11AM Sunday Service
DESCRIPTION:Weekly Bulletins – https://fbcvallejo.net/sermons/bulletins/ \nMap Directions – https://maps.app.goo.gl/EeDx3fN8phUAtJ8y5
URL:https://fbcvallejo.net/_event/11am-sunday-service-2/
LOCATION:901 Solano Ave\, Vallejo\, CA\, United States
END:VEVENT
BEGIN:VEVENT
DTSTART;TZID=America/Los_Angeles:20241027T090000
DTEND;TZID=America/Los_Angeles:20241027T103000
DTSTAMP:20260425T033047
CREATED:20241014T005823Z
LAST-MODIFIED:20241026T200205Z
UID:378-1730019600-1730025000@fbcvallejo.net
SUMMARY:9AM Sunday Service
DESCRIPTION:Weekly Bulletins – https://fbcvallejo.net/sermons/bulletins/ \nMap Directions – https://maps.app.goo.gl/EeDx3fN8phUAtJ8y5
URL:https://fbcvallejo.net/_event/9am-sunday-service-2/
LOCATION:901 Solano Ave\, Vallejo\, CA\, United States
END:VEVENT
BEGIN:VEVENT
DTSTART;TZID=America/Los_Angeles:20241026T100000
DTEND;TZID=America/Los_Angeles:20241026T120000
DTSTAMP:20260425T033047
CREATED:20241014T005822Z
LAST-MODIFIED:20241025T195931Z
UID:377-1729936800-1729944000@fbcvallejo.net
SUMMARY:HARVEST FEST
DESCRIPTION:Harvest festival hosted by The Mommy Ministry of FBCV. There will be Snacks\, games and prizes. Come in costume!https://fbcvallejo.net/harvest-fest/
URL:https://fbcvallejo.net/_event/harvest-fest-2/
LOCATION:Azevedo Ranch Road\, 1101 Azevedo Ranch Rd\, Vallejo\, CA\, United States
CATEGORIES:Event
END:VEVENT
BEGIN:VEVENT
DTSTART;TZID=America/Los_Angeles:20241020T110000
DTEND;TZID=America/Los_Angeles:20241020T130000
DTSTAMP:20260425T033047
CREATED:20241014T005821Z
LAST-MODIFIED:20241020T190321Z
UID:375-1729422000-1729429200@fbcvallejo.net
SUMMARY:Faith Food Fridays
DESCRIPTION:
URL:https://fbcvallejo.net/_event/faith-food-fridays/
END:VEVENT
BEGIN:VEVENT
DTSTART;TZID=America/Los_Angeles:20241020T110000
DTEND;TZID=America/Los_Angeles:20241020T123000
DTSTAMP:20260425T033047
CREATED:20241014T005820Z
LAST-MODIFIED:20241020T190321Z
UID:374-1729422000-1729427400@fbcvallejo.net
SUMMARY:11AM Sunday Live Stream Service
DESCRIPTION:Weekly Bulletins – https://fbcvallejo.net/sermons/bulletins/ \nLivestream Links \nFacebook: https://www.facebook.com/faithbiblechurchvallejo/live \nYouTube: https://youtube.com/channel/UCRvwFe65dkysxaJgD6mHUIw/live  
URL:https://fbcvallejo.net/_event/11am-sunday-live-stream-service/
LOCATION:901 Solano Ave\, Vallejo\, CA\, United States
END:VEVENT
BEGIN:VEVENT
DTSTART;TZID=America/Los_Angeles:20241020T110000
DTEND;TZID=America/Los_Angeles:20241020T123000
DTSTAMP:20260425T033047
CREATED:20241014T005819Z
LAST-MODIFIED:20241020T190321Z
UID:373-1729422000-1729427400@fbcvallejo.net
SUMMARY:11AM Children's Sunday School
DESCRIPTION:Children’s Sanctuary \nMap Directions – https://maps.app.goo.gl/EeDx3fN8phUAtJ8y5
URL:https://fbcvallejo.net/_event/11am-childrens-sunday-school/
LOCATION:901 Solano Ave\, Vallejo\, CA\, United States
END:VEVENT
BEGIN:VEVENT
DTSTART;TZID=America/Los_Angeles:20241020T110000
DTEND;TZID=America/Los_Angeles:20241020T123000
DTSTAMP:20260425T033047
CREATED:20241014T005818Z
LAST-MODIFIED:20241020T190321Z
UID:372-1729422000-1729427400@fbcvallejo.net
SUMMARY:11AM Sunday Service
DESCRIPTION:Weekly Bulletins – https://fbcvallejo.net/sermons/bulletins/ \nMap Directions – https://maps.app.goo.gl/EeDx3fN8phUAtJ8y5
URL:https://fbcvallejo.net/_event/11am-sunday-service/
LOCATION:901 Solano Ave\, Vallejo\, CA\, United States
END:VEVENT
BEGIN:VEVENT
DTSTART;TZID=America/Los_Angeles:20241020T090000
DTEND;TZID=America/Los_Angeles:20241020T103000
DTSTAMP:20260425T033047
CREATED:20241014T005817Z
LAST-MODIFIED:20241019T185420Z
UID:371-1729414800-1729420200@fbcvallejo.net
SUMMARY:9AM Sunday Service
DESCRIPTION:Weekly Bulletins – https://fbcvallejo.net/sermons/bulletins/ \nMap Directions – https://maps.app.goo.gl/EeDx3fN8phUAtJ8y5
URL:https://fbcvallejo.net/_event/9am-sunday-service/
LOCATION:901 Solano Ave\, Vallejo\, CA\, United States
END:VEVENT
END:VCALENDAR