BEGIN:VCALENDAR
VERSION:2.0
PRODID:-//Faith Bible Church of Vallejo - ECPv6.15.20//NONSGML v1.0//EN
CALSCALE:GREGORIAN
METHOD:PUBLISH
X-WR-CALNAME:Faith Bible Church of Vallejo
X-ORIGINAL-URL:https://fbcvallejo.net
X-WR-CALDESC:Events for Faith Bible Church of Vallejo
REFRESH-INTERVAL;VALUE=DURATION:PT1H
X-Robots-Tag:noindex
X-PUBLISHED-TTL:PT1H
BEGIN:VTIMEZONE
TZID:America/Los_Angeles
BEGIN:DAYLIGHT
TZOFFSETFROM:-0800
TZOFFSETTO:-0700
TZNAME:PDT
DTSTART:20240310T100000
END:DAYLIGHT
BEGIN:STANDARD
TZOFFSETFROM:-0700
TZOFFSETTO:-0800
TZNAME:PST
DTSTART:20241103T090000
END:STANDARD
BEGIN:DAYLIGHT
TZOFFSETFROM:-0800
TZOFFSETTO:-0700
TZNAME:PDT
DTSTART:20250309T100000
END:DAYLIGHT
BEGIN:STANDARD
TZOFFSETFROM:-0700
TZOFFSETTO:-0800
TZNAME:PST
DTSTART:20251102T090000
END:STANDARD
BEGIN:DAYLIGHT
TZOFFSETFROM:-0800
TZOFFSETTO:-0700
TZNAME:PDT
DTSTART:20260308T100000
END:DAYLIGHT
BEGIN:STANDARD
TZOFFSETFROM:-0700
TZOFFSETTO:-0800
TZNAME:PST
DTSTART:20261101T090000
END:STANDARD
END:VTIMEZONE
BEGIN:VEVENT
DTSTART;TZID=America/Los_Angeles:20250924T190000
DTEND;TZID=America/Los_Angeles:20250924T200000
DTSTAMP:20260424T063833
CREATED:20241231T222728Z
LAST-MODIFIED:20250925T023235Z
UID:1472-1758740400-1758744000@fbcvallejo.net
SUMMARY:Prayer Meeting
DESCRIPTION:
URL:https://fbcvallejo.net/_event/prayer-meeting-38/
END:VEVENT
BEGIN:VEVENT
DTSTART;TZID=America/Los_Angeles:20250923T190000
DTEND;TZID=America/Los_Angeles:20250923T210000
DTSTAMP:20260424T063833
CREATED:20250227T213053Z
LAST-MODIFIED:20250924T033341Z
UID:2071-1758654000-1758661200@fbcvallejo.net
SUMMARY:Celebrate Recovery
DESCRIPTION:
URL:https://fbcvallejo.net/_event/celebrate-recovery-38/
END:VEVENT
BEGIN:VEVENT
DTSTART;TZID=America/Los_Angeles:20250921T110000
DTEND;TZID=America/Los_Angeles:20250921T130000
DTSTAMP:20260424T063833
CREATED:20241014T005928Z
LAST-MODIFIED:20250921T134632Z
UID:644-1758452400-1758459600@fbcvallejo.net
SUMMARY:Faith Food Fridays
DESCRIPTION:
URL:https://fbcvallejo.net/_event/faith-food-fridays-49/
END:VEVENT
BEGIN:VEVENT
DTSTART;TZID=America/Los_Angeles:20250921T110000
DTEND;TZID=America/Los_Angeles:20250921T123000
DTSTAMP:20260424T063833
CREATED:20241014T005928Z
LAST-MODIFIED:20250921T134633Z
UID:642-1758452400-1758457800@fbcvallejo.net
SUMMARY:11AM Sunday Service
DESCRIPTION:Weekly Bulletins – https://fbcvallejo.net/sermons/bulletins/ \nMap Directions – https://maps.app.goo.gl/EeDx3fN8phUAtJ8y5
URL:https://fbcvallejo.net/_event/11am-sunday-service-49/
LOCATION:901 Solano Ave\, Vallejo\, CA\, United States
END:VEVENT
BEGIN:VEVENT
DTSTART;TZID=America/Los_Angeles:20250921T110000
DTEND;TZID=America/Los_Angeles:20250921T123000
DTSTAMP:20260424T063833
CREATED:20241014T005928Z
LAST-MODIFIED:20250921T134633Z
UID:643-1758452400-1758457800@fbcvallejo.net
SUMMARY:11AM Children's Sunday School
DESCRIPTION:Children’s Sanctuary \nMap Directions – https://maps.app.goo.gl/EeDx3fN8phUAtJ8y5
URL:https://fbcvallejo.net/_event/11am-childrens-sunday-school-49/
LOCATION:901 Solano Ave\, Vallejo\, CA\, United States
END:VEVENT
BEGIN:VEVENT
DTSTART;TZID=America/Los_Angeles:20250921T110000
DTEND;TZID=America/Los_Angeles:20250921T123000
DTSTAMP:20260424T063833
CREATED:20241014T005927Z
LAST-MODIFIED:20250921T134633Z
UID:641-1758452400-1758457800@fbcvallejo.net
SUMMARY:11AM Sunday Live Stream Service
DESCRIPTION:Weekly Bulletins – https://fbcvallejo.net/sermons/bulletins/ \nLivestream Links \nFacebook: https://www.facebook.com/faithbiblechurchvallejo/live \nYouTube: https://youtube.com/channel/UCRvwFe65dkysxaJgD6mHUIw/live  
URL:https://fbcvallejo.net/_event/11am-sunday-live-stream-service-49/
LOCATION:901 Solano Ave\, Vallejo\, CA\, United States
END:VEVENT
BEGIN:VEVENT
DTSTART;TZID=America/Los_Angeles:20250921T090000
DTEND;TZID=America/Los_Angeles:20250921T103000
DTSTAMP:20260424T063833
CREATED:20241014T005927Z
LAST-MODIFIED:20250921T134633Z
UID:640-1758445200-1758450600@fbcvallejo.net
SUMMARY:9AM Sunday Service
DESCRIPTION:Weekly Bulletins – https://fbcvallejo.net/sermons/bulletins/ \nMap Directions – https://maps.app.goo.gl/EeDx3fN8phUAtJ8y5
URL:https://fbcvallejo.net/_event/9am-sunday-service-49/
LOCATION:901 Solano Ave\, Vallejo\, CA\, United States
END:VEVENT
BEGIN:VEVENT
DTSTART;TZID=America/Los_Angeles:20250919T190000
DTEND;TZID=America/Los_Angeles:20250919T213000
DTSTAMP:20260424T063833
CREATED:20250224T210111Z
LAST-MODIFIED:20250908T001645Z
UID:2060-1758308400-1758317400@fbcvallejo.net
SUMMARY:Youth Bible Study
DESCRIPTION:
URL:https://fbcvallejo.net/_event/youth-bible-study-6/
LOCATION:Fellowship Hall
END:VEVENT
BEGIN:VEVENT
DTSTART;TZID=America/Los_Angeles:20250919T190000
DTEND;TZID=America/Los_Angeles:20250919T213000
DTSTAMP:20260424T063833
CREATED:20250217T193252Z
LAST-MODIFIED:20250920T041604Z
UID:2024-1758308400-1758317400@fbcvallejo.net
SUMMARY:Youth Bible Study Kick-Off
DESCRIPTION:
URL:https://fbcvallejo.net/_event/youth-bible-study-kick-off-2/
LOCATION:Fellowship Hall
END:VEVENT
BEGIN:VEVENT
DTSTART;TZID=America/Los_Angeles:20250917T190000
DTEND;TZID=America/Los_Angeles:20250917T200000
DTSTAMP:20260424T063833
CREATED:20241231T222727Z
LAST-MODIFIED:20250915T003330Z
UID:1471-1758135600-1758139200@fbcvallejo.net
SUMMARY:Prayer Meeting
DESCRIPTION:
URL:https://fbcvallejo.net/_event/prayer-meeting-37/
END:VEVENT
BEGIN:VEVENT
DTSTART;TZID=America/Los_Angeles:20250916T190000
DTEND;TZID=America/Los_Angeles:20250916T210000
DTSTAMP:20260424T063833
CREATED:20250223T204636Z
LAST-MODIFIED:20250915T003329Z
UID:2054-1758049200-1758056400@fbcvallejo.net
SUMMARY:Celebrate Recovery
DESCRIPTION:
URL:https://fbcvallejo.net/_event/celebrate-recovery-37/
END:VEVENT
BEGIN:VEVENT
DTSTART;TZID=America/Los_Angeles:20250914T130000
DTEND;TZID=America/Los_Angeles:20250914T140000
DTSTAMP:20260424T063833
CREATED:20250223T204636Z
LAST-MODIFIED:20250913T001651Z
UID:2053-1757854800-1757858400@fbcvallejo.net
SUMMARY:Elders' Meeting
DESCRIPTION:
URL:https://fbcvallejo.net/_event/elders-meeting-6/
END:VEVENT
BEGIN:VEVENT
DTSTART;TZID=America/Los_Angeles:20250914T110000
DTEND;TZID=America/Los_Angeles:20250914T130000
DTSTAMP:20260424T063833
CREATED:20241014T005926Z
LAST-MODIFIED:20250913T001655Z
UID:637-1757847600-1757854800@fbcvallejo.net
SUMMARY:Faith Food Fridays
DESCRIPTION:
URL:https://fbcvallejo.net/_event/faith-food-fridays-48/
END:VEVENT
BEGIN:VEVENT
DTSTART;TZID=America/Los_Angeles:20250914T110000
DTEND;TZID=America/Los_Angeles:20250914T123000
DTSTAMP:20260424T063833
CREATED:20241014T005927Z
LAST-MODIFIED:20250913T001655Z
UID:638-1757847600-1757853000@fbcvallejo.net
SUMMARY:11AM Children's Sunday School
DESCRIPTION:Children’s Sanctuary \nMap Directions – https://maps.app.goo.gl/EeDx3fN8phUAtJ8y5
URL:https://fbcvallejo.net/_event/11am-childrens-sunday-school-48/
LOCATION:901 Solano Ave\, Vallejo\, CA\, United States
END:VEVENT
BEGIN:VEVENT
DTSTART;TZID=America/Los_Angeles:20250914T110000
DTEND;TZID=America/Los_Angeles:20250914T123000
DTSTAMP:20260424T063833
CREATED:20241014T005927Z
LAST-MODIFIED:20250913T001650Z
UID:639-1757847600-1757853000@fbcvallejo.net
SUMMARY:11AM Sunday Service
DESCRIPTION:Weekly Bulletins – https://fbcvallejo.net/sermons/bulletins/ \nMap Directions – https://maps.app.goo.gl/EeDx3fN8phUAtJ8y5
URL:https://fbcvallejo.net/_event/11am-sunday-service-48/
LOCATION:901 Solano Ave\, Vallejo\, CA\, United States
END:VEVENT
BEGIN:VEVENT
DTSTART;TZID=America/Los_Angeles:20250914T110000
DTEND;TZID=America/Los_Angeles:20250914T123000
DTSTAMP:20260424T063833
CREATED:20241014T005926Z
LAST-MODIFIED:20250913T001654Z
UID:636-1757847600-1757853000@fbcvallejo.net
SUMMARY:11AM Sunday Live Stream Service
DESCRIPTION:Weekly Bulletins – https://fbcvallejo.net/sermons/bulletins/ \nLivestream Links \nFacebook: https://www.facebook.com/faithbiblechurchvallejo/live \nYouTube: https://youtube.com/channel/UCRvwFe65dkysxaJgD6mHUIw/live  
URL:https://fbcvallejo.net/_event/11am-sunday-live-stream-service-48/
LOCATION:901 Solano Ave\, Vallejo\, CA\, United States
END:VEVENT
BEGIN:VEVENT
DTSTART;TZID=America/Los_Angeles:20250914T090000
DTEND;TZID=America/Los_Angeles:20250914T103000
DTSTAMP:20260424T063833
CREATED:20241014T005926Z
LAST-MODIFIED:20250913T001649Z
UID:635-1757840400-1757845800@fbcvallejo.net
SUMMARY:9AM Sunday Service
DESCRIPTION:Weekly Bulletins – https://fbcvallejo.net/sermons/bulletins/ \nMap Directions – https://maps.app.goo.gl/EeDx3fN8phUAtJ8y5
URL:https://fbcvallejo.net/_event/9am-sunday-service-48/
LOCATION:901 Solano Ave\, Vallejo\, CA\, United States
END:VEVENT
BEGIN:VEVENT
DTSTART;TZID=America/Los_Angeles:20250910T190000
DTEND;TZID=America/Los_Angeles:20250910T200000
DTSTAMP:20260424T063833
CREATED:20241231T222727Z
LAST-MODIFIED:20250910T001450Z
UID:1470-1757530800-1757534400@fbcvallejo.net
SUMMARY:Prayer Meeting
DESCRIPTION:
URL:https://fbcvallejo.net/_event/prayer-meeting-36/
END:VEVENT
BEGIN:VEVENT
DTSTART;TZID=America/Los_Angeles:20250909T190000
DTEND;TZID=America/Los_Angeles:20250909T210000
DTSTAMP:20260424T063833
CREATED:20250217T193252Z
LAST-MODIFIED:20250910T001449Z
UID:2023-1757444400-1757451600@fbcvallejo.net
SUMMARY:Celebrate Recovery
DESCRIPTION:
URL:https://fbcvallejo.net/_event/celebrate-recovery-36/
END:VEVENT
BEGIN:VEVENT
DTSTART;TZID=America/Los_Angeles:20250907T110000
DTEND;TZID=America/Los_Angeles:20250907T130000
DTSTAMP:20260424T063833
CREATED:20241014T005925Z
LAST-MODIFIED:20250906T124707Z
UID:631-1757242800-1757250000@fbcvallejo.net
SUMMARY:Faith Food Fridays
DESCRIPTION:
URL:https://fbcvallejo.net/_event/faith-food-fridays-47/
END:VEVENT
BEGIN:VEVENT
DTSTART;TZID=America/Los_Angeles:20250907T110000
DTEND;TZID=America/Los_Angeles:20250907T123000
DTSTAMP:20260424T063833
CREATED:20241014T005926Z
LAST-MODIFIED:20250906T124706Z
UID:634-1757242800-1757248200@fbcvallejo.net
SUMMARY:11AM Sunday Service
DESCRIPTION:Weekly Bulletins – https://fbcvallejo.net/sermons/bulletins/ \nMap Directions – https://maps.app.goo.gl/EeDx3fN8phUAtJ8y5
URL:https://fbcvallejo.net/_event/11am-sunday-service-47/
LOCATION:901 Solano Ave\, Vallejo\, CA\, United States
END:VEVENT
BEGIN:VEVENT
DTSTART;TZID=America/Los_Angeles:20250907T110000
DTEND;TZID=America/Los_Angeles:20250907T123000
DTSTAMP:20260424T063833
CREATED:20241014T005925Z
LAST-MODIFIED:20250906T124706Z
UID:632-1757242800-1757248200@fbcvallejo.net
SUMMARY:11AM Children's Sunday School
DESCRIPTION:Children’s Sanctuary \nMap Directions – https://maps.app.goo.gl/EeDx3fN8phUAtJ8y5
URL:https://fbcvallejo.net/_event/11am-childrens-sunday-school-47/
LOCATION:901 Solano Ave\, Vallejo\, CA\, United States
END:VEVENT
BEGIN:VEVENT
DTSTART;TZID=America/Los_Angeles:20250907T110000
DTEND;TZID=America/Los_Angeles:20250907T123000
DTSTAMP:20260424T063833
CREATED:20241014T005925Z
LAST-MODIFIED:20250906T124707Z
UID:630-1757242800-1757248200@fbcvallejo.net
SUMMARY:11AM Sunday Live Stream Service
DESCRIPTION:Weekly Bulletins – https://fbcvallejo.net/sermons/bulletins/ \nLivestream Links \nFacebook: https://www.facebook.com/faithbiblechurchvallejo/live \nYouTube: https://youtube.com/channel/UCRvwFe65dkysxaJgD6mHUIw/live  
URL:https://fbcvallejo.net/_event/11am-sunday-live-stream-service-47/
LOCATION:901 Solano Ave\, Vallejo\, CA\, United States
END:VEVENT
BEGIN:VEVENT
DTSTART;TZID=America/Los_Angeles:20250907T090000
DTEND;TZID=America/Los_Angeles:20250907T103000
DTSTAMP:20260424T063833
CREATED:20241014T005924Z
LAST-MODIFIED:20250906T124707Z
UID:629-1757235600-1757241000@fbcvallejo.net
SUMMARY:9AM Sunday Service
DESCRIPTION:Weekly Bulletins – https://fbcvallejo.net/sermons/bulletins/ \nMap Directions – https://maps.app.goo.gl/EeDx3fN8phUAtJ8y5
URL:https://fbcvallejo.net/_event/9am-sunday-service-47/
LOCATION:901 Solano Ave\, Vallejo\, CA\, United States
END:VEVENT
BEGIN:VEVENT
DTSTART;TZID=America/Los_Angeles:20250907T000000
DTEND;TZID=America/Los_Angeles:20250907T235959
DTSTAMP:20260424T063833
CREATED:20241014T005925Z
LAST-MODIFIED:20250906T124706Z
UID:633-1757203200-1757289599@fbcvallejo.net
SUMMARY:Communion
DESCRIPTION:
URL:https://fbcvallejo.net/_event/communion-11/
END:VEVENT
BEGIN:VEVENT
DTSTART;TZID=America/Los_Angeles:20250906T100000
DTEND;TZID=America/Los_Angeles:20250906T123000
DTSTAMP:20260424T063833
CREATED:20250102T223310Z
LAST-MODIFIED:20250906T124706Z
UID:1624-1757152800-1757161800@fbcvallejo.net
SUMMARY:Men's Teaching Hour Meeting #4 - Coffee/Prayer
DESCRIPTION:
URL:https://fbcvallejo.net/_event/mens-teaching-hour-meeting-3-coffee-prayer/
LOCATION:Fellowship Hall
END:VEVENT
BEGIN:VEVENT
DTSTART;TZID=America/Los_Angeles:20250904T193000
DTEND;TZID=America/Los_Angeles:20250904T203000
DTSTAMP:20260424T063833
CREATED:20241014T005924Z
LAST-MODIFIED:20250904T123149Z
UID:628-1757014200-1757017800@fbcvallejo.net
SUMMARY:Women's Prayer Meeting
DESCRIPTION:
URL:https://fbcvallejo.net/_event/womens-prayer-meeting-11/
LOCATION:ZOOM
END:VEVENT
BEGIN:VEVENT
DTSTART;TZID=America/Los_Angeles:20250903T190000
DTEND;TZID=America/Los_Angeles:20250903T200000
DTSTAMP:20260424T063833
CREATED:20241231T222726Z
LAST-MODIFIED:20250902T183027Z
UID:1469-1756926000-1756929600@fbcvallejo.net
SUMMARY:Prayer Meeting
DESCRIPTION:
URL:https://fbcvallejo.net/_event/prayer-meeting-35/
END:VEVENT
BEGIN:VEVENT
DTSTART;TZID=America/Los_Angeles:20250902T190000
DTEND;TZID=America/Los_Angeles:20250902T210000
DTSTAMP:20260424T063833
CREATED:20250210T191905Z
LAST-MODIFIED:20250902T183027Z
UID:2000-1756839600-1756846800@fbcvallejo.net
SUMMARY:Celebrate Recovery
DESCRIPTION:
URL:https://fbcvallejo.net/_event/celebrate-recovery-35/
END:VEVENT
BEGIN:VEVENT
DTSTART;TZID=America/Los_Angeles:20250831T110000
DTEND;TZID=America/Los_Angeles:20250831T130000
DTSTAMP:20260424T063833
CREATED:20241014T005924Z
LAST-MODIFIED:20250831T182946Z
UID:626-1756638000-1756645200@fbcvallejo.net
SUMMARY:Faith Food Fridays
DESCRIPTION:
URL:https://fbcvallejo.net/_event/faith-food-fridays-46/
END:VEVENT
END:VCALENDAR