BEGIN:VCALENDAR
VERSION:2.0
PRODID:-//Faith Bible Church of Vallejo - ECPv6.15.20//NONSGML v1.0//EN
CALSCALE:GREGORIAN
METHOD:PUBLISH
X-WR-CALNAME:Faith Bible Church of Vallejo
X-ORIGINAL-URL:https://fbcvallejo.net
X-WR-CALDESC:Events for Faith Bible Church of Vallejo
REFRESH-INTERVAL;VALUE=DURATION:PT1H
X-Robots-Tag:noindex
X-PUBLISHED-TTL:PT1H
BEGIN:VTIMEZONE
TZID:America/Los_Angeles
BEGIN:DAYLIGHT
TZOFFSETFROM:-0800
TZOFFSETTO:-0700
TZNAME:PDT
DTSTART:20240310T100000
END:DAYLIGHT
BEGIN:STANDARD
TZOFFSETFROM:-0700
TZOFFSETTO:-0800
TZNAME:PST
DTSTART:20241103T090000
END:STANDARD
BEGIN:DAYLIGHT
TZOFFSETFROM:-0800
TZOFFSETTO:-0700
TZNAME:PDT
DTSTART:20250309T100000
END:DAYLIGHT
BEGIN:STANDARD
TZOFFSETFROM:-0700
TZOFFSETTO:-0800
TZNAME:PST
DTSTART:20251102T090000
END:STANDARD
BEGIN:DAYLIGHT
TZOFFSETFROM:-0800
TZOFFSETTO:-0700
TZNAME:PDT
DTSTART:20260308T100000
END:DAYLIGHT
BEGIN:STANDARD
TZOFFSETFROM:-0700
TZOFFSETTO:-0800
TZNAME:PST
DTSTART:20261101T090000
END:STANDARD
END:VTIMEZONE
BEGIN:VEVENT
DTSTART;TZID=America/Los_Angeles:20250302T110000
DTEND;TZID=America/Los_Angeles:20250302T123000
DTSTAMP:20260425T081407
CREATED:20241014T005849Z
LAST-MODIFIED:20250301T214632Z
UID:486-1740913200-1740918600@fbcvallejo.net
SUMMARY:11AM Sunday Live Stream Service
DESCRIPTION:Weekly Bulletins – https://fbcvallejo.net/sermons/bulletins/ \nLivestream Links \nFacebook: https://www.facebook.com/faithbiblechurchvallejo/live \nYouTube: https://youtube.com/channel/UCRvwFe65dkysxaJgD6mHUIw/live  
URL:https://fbcvallejo.net/_event/11am-sunday-live-stream-service-20/
LOCATION:901 Solano Ave\, Vallejo\, CA\, United States
END:VEVENT
BEGIN:VEVENT
DTSTART;TZID=America/Los_Angeles:20250302T110000
DTEND;TZID=America/Los_Angeles:20250302T130000
DTSTAMP:20260425T081407
CREATED:20241014T005848Z
LAST-MODIFIED:20250301T214633Z
UID:483-1740913200-1740920400@fbcvallejo.net
SUMMARY:Faith Food Fridays
DESCRIPTION:
URL:https://fbcvallejo.net/_event/faith-food-fridays-20/
END:VEVENT
BEGIN:VEVENT
DTSTART;TZID=America/Los_Angeles:20250304T190000
DTEND;TZID=America/Los_Angeles:20250304T210000
DTSTAMP:20260425T081407
CREATED:20250104T225114Z
LAST-MODIFIED:20250304T214603Z
UID:1722-1741114800-1741122000@fbcvallejo.net
SUMMARY:Celebrate Recovery
DESCRIPTION:
URL:https://fbcvallejo.net/_event/celebrate-recovery-9/
END:VEVENT
BEGIN:VEVENT
DTSTART;TZID=America/Los_Angeles:20250305T190000
DTEND;TZID=America/Los_Angeles:20250305T200000
DTSTAMP:20260425T081407
CREATED:20241231T222706Z
LAST-MODIFIED:20250305T215651Z
UID:1437-1741201200-1741204800@fbcvallejo.net
SUMMARY:Prayer Meeting
DESCRIPTION:
URL:https://fbcvallejo.net/_event/prayer-meeting-9/
END:VEVENT
BEGIN:VEVENT
DTSTART;TZID=America/Los_Angeles:20250306T193000
DTEND;TZID=America/Los_Angeles:20250306T203000
DTSTAMP:20260425T081407
CREATED:20241014T005849Z
LAST-MODIFIED:20250306T220100Z
UID:487-1741289400-1741293000@fbcvallejo.net
SUMMARY:Women's Prayer Meeting
DESCRIPTION:
URL:https://fbcvallejo.net/_event/womens-prayer-meeting-5/
LOCATION:ZOOM
END:VEVENT
BEGIN:VEVENT
DTSTART;TZID=America/Los_Angeles:20250307T190000
DTEND;TZID=America/Los_Angeles:20250307T213000
DTSTAMP:20260425T081407
CREATED:20250102T223218Z
LAST-MODIFIED:20250307T220108Z
UID:1580-1741374000-1741383000@fbcvallejo.net
SUMMARY:Youth Outing
DESCRIPTION:
URL:https://fbcvallejo.net/_event/youth-outing-2/
LOCATION:TBD
END:VEVENT
BEGIN:VEVENT
DTSTART;TZID=America/Los_Angeles:20250309T090000
DTEND;TZID=America/Los_Angeles:20250309T103000
DTSTAMP:20260425T081407
CREATED:20241014T005849Z
LAST-MODIFIED:20250308T215957Z
UID:488-1741510800-1741516200@fbcvallejo.net
SUMMARY:9AM Sunday Service
DESCRIPTION:Weekly Bulletins – https://fbcvallejo.net/sermons/bulletins/ \nMap Directions – https://maps.app.goo.gl/EeDx3fN8phUAtJ8y5
URL:https://fbcvallejo.net/_event/9am-sunday-service-21/
LOCATION:901 Solano Ave\, Vallejo\, CA\, United States
END:VEVENT
BEGIN:VEVENT
DTSTART;TZID=America/Los_Angeles:20250309T110000
DTEND;TZID=America/Los_Angeles:20250309T123000
DTSTAMP:20260425T081407
CREATED:20241014T005849Z
LAST-MODIFIED:20250308T215958Z
UID:489-1741518000-1741523400@fbcvallejo.net
SUMMARY:11AM Sunday Live Stream Service
DESCRIPTION:Weekly Bulletins – https://fbcvallejo.net/sermons/bulletins/ \nLivestream Links \nFacebook: https://www.facebook.com/faithbiblechurchvallejo/live \nYouTube: https://youtube.com/channel/UCRvwFe65dkysxaJgD6mHUIw/live  
URL:https://fbcvallejo.net/_event/11am-sunday-live-stream-service-21/
LOCATION:901 Solano Ave\, Vallejo\, CA\, United States
END:VEVENT
BEGIN:VEVENT
DTSTART;TZID=America/Los_Angeles:20250309T110000
DTEND;TZID=America/Los_Angeles:20250309T123000
DTSTAMP:20260425T081407
CREATED:20241014T005850Z
LAST-MODIFIED:20250308T215958Z
UID:490-1741518000-1741523400@fbcvallejo.net
SUMMARY:11AM Sunday Service
DESCRIPTION:Weekly Bulletins – https://fbcvallejo.net/sermons/bulletins/ \nMap Directions – https://maps.app.goo.gl/EeDx3fN8phUAtJ8y5
URL:https://fbcvallejo.net/_event/11am-sunday-service-21/
LOCATION:901 Solano Ave\, Vallejo\, CA\, United States
END:VEVENT
BEGIN:VEVENT
DTSTART;TZID=America/Los_Angeles:20250309T110000
DTEND;TZID=America/Los_Angeles:20250309T123000
DTSTAMP:20260425T081407
CREATED:20241014T005850Z
LAST-MODIFIED:20250308T215958Z
UID:492-1741518000-1741523400@fbcvallejo.net
SUMMARY:11AM Children's Sunday School
DESCRIPTION:Children’s Sanctuary \nMap Directions – https://maps.app.goo.gl/EeDx3fN8phUAtJ8y5
URL:https://fbcvallejo.net/_event/11am-childrens-sunday-school-21/
LOCATION:901 Solano Ave\, Vallejo\, CA\, United States
END:VEVENT
BEGIN:VEVENT
DTSTART;TZID=America/Los_Angeles:20250309T110000
DTEND;TZID=America/Los_Angeles:20250309T130000
DTSTAMP:20260425T081407
CREATED:20241014T005850Z
LAST-MODIFIED:20250308T215959Z
UID:491-1741518000-1741525200@fbcvallejo.net
SUMMARY:Faith Food Fridays
DESCRIPTION:
URL:https://fbcvallejo.net/_event/faith-food-fridays-21/
END:VEVENT
BEGIN:VEVENT
DTSTART;TZID=America/Los_Angeles:20250309T130000
DTEND;TZID=America/Los_Angeles:20250309T140000
DTSTAMP:20260425T081407
CREATED:20250102T223237Z
LAST-MODIFIED:20250308T215958Z
UID:1581-1741525200-1741528800@fbcvallejo.net
SUMMARY:Elders' Meeting
DESCRIPTION:
URL:https://fbcvallejo.net/_event/elders-meeting-2/
END:VEVENT
BEGIN:VEVENT
DTSTART;TZID=America/Los_Angeles:20250311T190000
DTEND;TZID=America/Los_Angeles:20250311T200000
DTSTAMP:20260425T081407
CREATED:20250103T224901Z
LAST-MODIFIED:20250311T215909Z
UID:1689-1741719600-1741723200@fbcvallejo.net
SUMMARY:The Veritas School Board Meeting
DESCRIPTION:
URL:https://fbcvallejo.net/_event/the-veritas-school-board-meeting-5/
END:VEVENT
BEGIN:VEVENT
DTSTART;TZID=America/Los_Angeles:20250311T190000
DTEND;TZID=America/Los_Angeles:20250311T210000
DTSTAMP:20260425T081407
CREATED:20250104T225115Z
LAST-MODIFIED:20250311T215909Z
UID:1723-1741719600-1741726800@fbcvallejo.net
SUMMARY:Celebrate Recovery
DESCRIPTION:
URL:https://fbcvallejo.net/_event/celebrate-recovery-10/
END:VEVENT
BEGIN:VEVENT
DTSTART;TZID=America/Los_Angeles:20250312T190000
DTEND;TZID=America/Los_Angeles:20250312T200000
DTSTAMP:20260425T081407
CREATED:20241231T222707Z
LAST-MODIFIED:20250312T220251Z
UID:1438-1741806000-1741809600@fbcvallejo.net
SUMMARY:Prayer Meeting
DESCRIPTION:
URL:https://fbcvallejo.net/_event/prayer-meeting-10/
END:VEVENT
BEGIN:VEVENT
DTSTART;TZID=America/Los_Angeles:20250314T190000
DTEND;TZID=America/Los_Angeles:20250314T213000
DTSTAMP:20260425T081407
CREATED:20250102T223238Z
LAST-MODIFIED:20250314T221707Z
UID:1582-1741978800-1741987800@fbcvallejo.net
SUMMARY:JRHC Pre Camp Worship Rally/Fellowship
DESCRIPTION:
URL:https://fbcvallejo.net/_event/jrhc-pre-camp-worship-rally-fellowship/
LOCATION:Fellowship Hall
END:VEVENT
BEGIN:VEVENT
DTSTART;TZID=America/Los_Angeles:20250315T100000
DTEND;TZID=America/Los_Angeles:20250315T123000
DTSTAMP:20260425T081407
CREATED:20250102T223239Z
LAST-MODIFIED:20250314T221707Z
UID:1583-1742032800-1742041800@fbcvallejo.net
SUMMARY:Men's Teaching Hour Meeting #1 - Coffee/Prayer
DESCRIPTION:
URL:https://fbcvallejo.net/_event/mens-teaching-hour-meeting-1-coffee-prayer/
LOCATION:Fellowship Hall
END:VEVENT
BEGIN:VEVENT
DTSTART;TZID=America/Los_Angeles:20250316T090000
DTEND;TZID=America/Los_Angeles:20250316T103000
DTSTAMP:20260425T081407
CREATED:20241014T005850Z
LAST-MODIFIED:20250315T221559Z
UID:493-1742115600-1742121000@fbcvallejo.net
SUMMARY:9AM Sunday Service
DESCRIPTION:Weekly Bulletins – https://fbcvallejo.net/sermons/bulletins/ \nMap Directions – https://maps.app.goo.gl/EeDx3fN8phUAtJ8y5
URL:https://fbcvallejo.net/_event/9am-sunday-service-22/
LOCATION:901 Solano Ave\, Vallejo\, CA\, United States
END:VEVENT
BEGIN:VEVENT
DTSTART;TZID=America/Los_Angeles:20250316T110000
DTEND;TZID=America/Los_Angeles:20250316T123000
DTSTAMP:20260425T081407
CREATED:20241014T005851Z
LAST-MODIFIED:20250315T221600Z
UID:495-1742122800-1742128200@fbcvallejo.net
SUMMARY:11AM Sunday Service
DESCRIPTION:Weekly Bulletins – https://fbcvallejo.net/sermons/bulletins/ \nMap Directions – https://maps.app.goo.gl/EeDx3fN8phUAtJ8y5
URL:https://fbcvallejo.net/_event/11am-sunday-service-22/
LOCATION:901 Solano Ave\, Vallejo\, CA\, United States
END:VEVENT
BEGIN:VEVENT
DTSTART;TZID=America/Los_Angeles:20250316T110000
DTEND;TZID=America/Los_Angeles:20250316T123000
DTSTAMP:20260425T081407
CREATED:20241014T005851Z
LAST-MODIFIED:20250315T221600Z
UID:496-1742122800-1742128200@fbcvallejo.net
SUMMARY:11AM Sunday Live Stream Service
DESCRIPTION:Weekly Bulletins – https://fbcvallejo.net/sermons/bulletins/ \nLivestream Links \nFacebook: https://www.facebook.com/faithbiblechurchvallejo/live \nYouTube: https://youtube.com/channel/UCRvwFe65dkysxaJgD6mHUIw/live  
URL:https://fbcvallejo.net/_event/11am-sunday-live-stream-service-22/
LOCATION:901 Solano Ave\, Vallejo\, CA\, United States
END:VEVENT
BEGIN:VEVENT
DTSTART;TZID=America/Los_Angeles:20250316T110000
DTEND;TZID=America/Los_Angeles:20250316T123000
DTSTAMP:20260425T081407
CREATED:20241014T005851Z
LAST-MODIFIED:20250315T221600Z
UID:494-1742122800-1742128200@fbcvallejo.net
SUMMARY:11AM Children's Sunday School
DESCRIPTION:Children’s Sanctuary \nMap Directions – https://maps.app.goo.gl/EeDx3fN8phUAtJ8y5
URL:https://fbcvallejo.net/_event/11am-childrens-sunday-school-22/
LOCATION:901 Solano Ave\, Vallejo\, CA\, United States
END:VEVENT
BEGIN:VEVENT
DTSTART;TZID=America/Los_Angeles:20250316T110000
DTEND;TZID=America/Los_Angeles:20250316T130000
DTSTAMP:20260425T081407
CREATED:20241014T005851Z
LAST-MODIFIED:20250315T221559Z
UID:497-1742122800-1742130000@fbcvallejo.net
SUMMARY:Faith Food Fridays
DESCRIPTION:
URL:https://fbcvallejo.net/_event/faith-food-fridays-22/
END:VEVENT
BEGIN:VEVENT
DTSTART;TZID=America/Los_Angeles:20250318T190000
DTEND;TZID=America/Los_Angeles:20250318T210000
DTSTAMP:20260425T081407
CREATED:20250104T225116Z
LAST-MODIFIED:20250318T230257Z
UID:1725-1742324400-1742331600@fbcvallejo.net
SUMMARY:Celebrate Recovery
DESCRIPTION:
URL:https://fbcvallejo.net/_event/celebrate-recovery-11/
END:VEVENT
BEGIN:VEVENT
DTSTART;TZID=America/Los_Angeles:20250319T190000
DTEND;TZID=America/Los_Angeles:20250319T200000
DTSTAMP:20260425T081407
CREATED:20241231T222707Z
LAST-MODIFIED:20250319T230143Z
UID:1439-1742410800-1742414400@fbcvallejo.net
SUMMARY:Prayer Meeting
DESCRIPTION:
URL:https://fbcvallejo.net/_event/prayer-meeting-11/
END:VEVENT
BEGIN:VEVENT
DTSTART;TZID=America/Los_Angeles:20250321T190000
DTEND;TZID=America/Los_Angeles:20250321T213000
DTSTAMP:20260425T081407
CREATED:20250102T223240Z
LAST-MODIFIED:20250321T231547Z
UID:1584-1742583600-1742592600@fbcvallejo.net
SUMMARY:Youth ACTS OF THE APOSTLES SERIES #5
DESCRIPTION:
URL:https://fbcvallejo.net/_event/youth-bible-study/
LOCATION:Fellowship Hall
END:VEVENT
BEGIN:VEVENT
DTSTART;TZID=America/Los_Angeles:20250323T090000
DTEND;TZID=America/Los_Angeles:20250323T103000
DTSTAMP:20260425T081407
CREATED:20241014T005851Z
LAST-MODIFIED:20250322T232021Z
UID:498-1742720400-1742725800@fbcvallejo.net
SUMMARY:9AM Sunday Service
DESCRIPTION:Weekly Bulletins – https://fbcvallejo.net/sermons/bulletins/ \nMap Directions – https://maps.app.goo.gl/EeDx3fN8phUAtJ8y5
URL:https://fbcvallejo.net/_event/9am-sunday-service-23/
LOCATION:901 Solano Ave\, Vallejo\, CA\, United States
END:VEVENT
BEGIN:VEVENT
DTSTART;TZID=America/Los_Angeles:20250323T110000
DTEND;TZID=America/Los_Angeles:20250323T123000
DTSTAMP:20260425T081407
CREATED:20241014T005852Z
LAST-MODIFIED:20250322T232021Z
UID:501-1742727600-1742733000@fbcvallejo.net
SUMMARY:11AM Sunday Service
DESCRIPTION:Weekly Bulletins – https://fbcvallejo.net/sermons/bulletins/ \nMap Directions – https://maps.app.goo.gl/EeDx3fN8phUAtJ8y5
URL:https://fbcvallejo.net/_event/11am-sunday-service-23/
LOCATION:901 Solano Ave\, Vallejo\, CA\, United States
END:VEVENT
BEGIN:VEVENT
DTSTART;TZID=America/Los_Angeles:20250323T110000
DTEND;TZID=America/Los_Angeles:20250323T123000
DTSTAMP:20260425T081407
CREATED:20241014T005852Z
LAST-MODIFIED:20250322T232022Z
UID:499-1742727600-1742733000@fbcvallejo.net
SUMMARY:11AM Children's Sunday School
DESCRIPTION:Children’s Sanctuary \nMap Directions – https://maps.app.goo.gl/EeDx3fN8phUAtJ8y5
URL:https://fbcvallejo.net/_event/11am-childrens-sunday-school-23/
LOCATION:901 Solano Ave\, Vallejo\, CA\, United States
END:VEVENT
BEGIN:VEVENT
DTSTART;TZID=America/Los_Angeles:20250323T110000
DTEND;TZID=America/Los_Angeles:20250323T123000
DTSTAMP:20260425T081407
CREATED:20241014T005852Z
LAST-MODIFIED:20250322T232021Z
UID:500-1742727600-1742733000@fbcvallejo.net
SUMMARY:11AM Sunday Live Stream Service
DESCRIPTION:Weekly Bulletins – https://fbcvallejo.net/sermons/bulletins/ \nLivestream Links \nFacebook: https://www.facebook.com/faithbiblechurchvallejo/live \nYouTube: https://youtube.com/channel/UCRvwFe65dkysxaJgD6mHUIw/live  
URL:https://fbcvallejo.net/_event/11am-sunday-live-stream-service-23/
LOCATION:901 Solano Ave\, Vallejo\, CA\, United States
END:VEVENT
BEGIN:VEVENT
DTSTART;TZID=America/Los_Angeles:20250323T110000
DTEND;TZID=America/Los_Angeles:20250323T130000
DTSTAMP:20260425T081407
CREATED:20241014T005852Z
LAST-MODIFIED:20250322T232022Z
UID:502-1742727600-1742734800@fbcvallejo.net
SUMMARY:Faith Food Fridays
DESCRIPTION:
URL:https://fbcvallejo.net/_event/faith-food-fridays-23/
END:VEVENT
END:VCALENDAR