BEGIN:VCALENDAR
VERSION:2.0
PRODID:-//Faith Bible Church of Vallejo - ECPv6.15.20//NONSGML v1.0//EN
CALSCALE:GREGORIAN
METHOD:PUBLISH
X-ORIGINAL-URL:https://fbcvallejo.net
X-WR-CALDESC:Events for Faith Bible Church of Vallejo
REFRESH-INTERVAL;VALUE=DURATION:PT1H
X-Robots-Tag:noindex
X-PUBLISHED-TTL:PT1H
BEGIN:VTIMEZONE
TZID:America/Los_Angeles
BEGIN:DAYLIGHT
TZOFFSETFROM:-0800
TZOFFSETTO:-0700
TZNAME:PDT
DTSTART:20240310T100000
END:DAYLIGHT
BEGIN:STANDARD
TZOFFSETFROM:-0700
TZOFFSETTO:-0800
TZNAME:PST
DTSTART:20241103T090000
END:STANDARD
BEGIN:DAYLIGHT
TZOFFSETFROM:-0800
TZOFFSETTO:-0700
TZNAME:PDT
DTSTART:20250309T100000
END:DAYLIGHT
BEGIN:STANDARD
TZOFFSETFROM:-0700
TZOFFSETTO:-0800
TZNAME:PST
DTSTART:20251102T090000
END:STANDARD
BEGIN:DAYLIGHT
TZOFFSETFROM:-0800
TZOFFSETTO:-0700
TZNAME:PDT
DTSTART:20260308T100000
END:DAYLIGHT
BEGIN:STANDARD
TZOFFSETFROM:-0700
TZOFFSETTO:-0800
TZNAME:PST
DTSTART:20261101T090000
END:STANDARD
END:VTIMEZONE
BEGIN:VEVENT
DTSTART;TZID=America/Los_Angeles:20250504T110000
DTEND;TZID=America/Los_Angeles:20250504T130000
DTSTAMP:20260425T074038
CREATED:20241014T005900Z
LAST-MODIFIED:20250503T204552Z
UID:535-1746356400-1746363600@fbcvallejo.net
SUMMARY:Faith Food Fridays
DESCRIPTION:
URL:https://fbcvallejo.net/_event/faith-food-fridays-29/
END:VEVENT
BEGIN:VEVENT
DTSTART;TZID=America/Los_Angeles:20250504T130000
DTEND;TZID=America/Los_Angeles:20250504T140000
DTSTAMP:20260425T074038
CREATED:20250102T223248Z
LAST-MODIFIED:20250504T210021Z
UID:1597-1746363600-1746367200@fbcvallejo.net
SUMMARY:Elders\, Leaders & Ministry Workers Quarterly Meeting
DESCRIPTION:
URL:https://fbcvallejo.net/_event/elders-leaders-ministry-workers-quarterly-meeting-2/
END:VEVENT
BEGIN:VEVENT
DTSTART;TZID=America/Los_Angeles:20250506T190000
DTEND;TZID=America/Los_Angeles:20250506T200000
DTSTAMP:20260425T074038
CREATED:20250103T224911Z
LAST-MODIFIED:20250506T210021Z
UID:1693-1746558000-1746561600@fbcvallejo.net
SUMMARY:The Veritas School Board Meeting
DESCRIPTION:
URL:https://fbcvallejo.net/_event/the-veritas-school-board-meeting-9/
END:VEVENT
BEGIN:VEVENT
DTSTART;TZID=America/Los_Angeles:20250506T190000
DTEND;TZID=America/Los_Angeles:20250506T210000
DTSTAMP:20260425T074038
CREATED:20250104T225127Z
LAST-MODIFIED:20250506T210022Z
UID:1738-1746558000-1746565200@fbcvallejo.net
SUMMARY:Celebrate Recovery
DESCRIPTION:
URL:https://fbcvallejo.net/_event/celebrate-recovery-18/
END:VEVENT
BEGIN:VEVENT
DTSTART;TZID=America/Los_Angeles:20250507T190000
DTEND;TZID=America/Los_Angeles:20250507T200000
DTSTAMP:20260425T074038
CREATED:20241231T222712Z
LAST-MODIFIED:20250507T211509Z
UID:1447-1746644400-1746648000@fbcvallejo.net
SUMMARY:Prayer Meeting
DESCRIPTION:
URL:https://fbcvallejo.net/_event/prayer-meeting-18/
END:VEVENT
BEGIN:VEVENT
DTSTART;TZID=America/Los_Angeles:20250509T190000
DTEND;TZID=America/Los_Angeles:20250509T213000
DTSTAMP:20260425T074038
CREATED:20250102T223249Z
LAST-MODIFIED:20250509T211536Z
UID:1598-1746817200-1746826200@fbcvallejo.net
SUMMARY:Youth Bible Study
DESCRIPTION:
URL:https://fbcvallejo.net/_event/youth-bible-study-5/
LOCATION:Fellowship Hall
END:VEVENT
BEGIN:VEVENT
DTSTART;TZID=America/Los_Angeles:20250510T000000
DTEND;TZID=America/Los_Angeles:20250510T235959
DTSTAMP:20260425T074038
CREATED:20241231T222712Z
LAST-MODIFIED:20250510T211806Z
UID:1448-1746835200-1746921599@fbcvallejo.net
SUMMARY:MM -Fall Fest
DESCRIPTION:
URL:https://fbcvallejo.net/_event/mm-fall-fest/
END:VEVENT
BEGIN:VEVENT
DTSTART;TZID=America/Los_Angeles:20250510T000000
DTEND;TZID=America/Los_Angeles:20250510T235959
DTSTAMP:20260425T074038
CREATED:20241231T222712Z
LAST-MODIFIED:20250510T211805Z
UID:1449-1746835200-1746921599@fbcvallejo.net
SUMMARY:Mommy Ministry 10th Year Anniversary
DESCRIPTION:
URL:https://fbcvallejo.net/_event/mommy-ministry-10th-year-anniversary/
END:VEVENT
BEGIN:VEVENT
DTSTART;TZID=America/Los_Angeles:20250511T090000
DTEND;TZID=America/Los_Angeles:20250511T103000
DTSTAMP:20260425T074038
CREATED:20241014T005901Z
LAST-MODIFIED:20250510T211806Z
UID:537-1746954000-1746959400@fbcvallejo.net
SUMMARY:9AM Sunday Service
DESCRIPTION:Weekly Bulletins – https://fbcvallejo.net/sermons/bulletins/ \nMap Directions – https://maps.app.goo.gl/EeDx3fN8phUAtJ8y5
URL:https://fbcvallejo.net/_event/9am-sunday-service-30/
LOCATION:901 Solano Ave\, Vallejo\, CA\, United States
END:VEVENT
BEGIN:VEVENT
DTSTART;TZID=America/Los_Angeles:20250511T103000
DTEND;TZID=America/Los_Angeles:20250511T130000
DTSTAMP:20260425T074038
CREATED:20241231T222713Z
LAST-MODIFIED:20250510T211806Z
UID:1450-1746959400-1746968400@fbcvallejo.net
SUMMARY:MM - Mother's Day (Booth)
DESCRIPTION:
URL:https://fbcvallejo.net/_event/mm-mothers-day-booth/
END:VEVENT
BEGIN:VEVENT
DTSTART;TZID=America/Los_Angeles:20250511T103000
DTEND;TZID=America/Los_Angeles:20250511T130000
DTSTAMP:20260425T074038
CREATED:20250102T223250Z
LAST-MODIFIED:20250510T211806Z
UID:1599-1746959400-1746968400@fbcvallejo.net
SUMMARY:Men's - Mother's Day Appreciation
DESCRIPTION:
URL:https://fbcvallejo.net/_event/mens-mothers-day-appreciation/
END:VEVENT
BEGIN:VEVENT
DTSTART;TZID=America/Los_Angeles:20250511T110000
DTEND;TZID=America/Los_Angeles:20250511T123000
DTSTAMP:20260425T074038
CREATED:20241014T005901Z
LAST-MODIFIED:20250510T211806Z
UID:538-1746961200-1746966600@fbcvallejo.net
SUMMARY:11AM Children's Sunday School
DESCRIPTION:Children’s Sanctuary \nMap Directions – https://maps.app.goo.gl/EeDx3fN8phUAtJ8y5
URL:https://fbcvallejo.net/_event/11am-childrens-sunday-school-30/
LOCATION:901 Solano Ave\, Vallejo\, CA\, United States
END:VEVENT
BEGIN:VEVENT
DTSTART;TZID=America/Los_Angeles:20250511T110000
DTEND;TZID=America/Los_Angeles:20250511T123000
DTSTAMP:20260425T074038
CREATED:20241014T005902Z
LAST-MODIFIED:20250510T211806Z
UID:540-1746961200-1746966600@fbcvallejo.net
SUMMARY:11AM Sunday Live Stream Service
DESCRIPTION:Weekly Bulletins – https://fbcvallejo.net/sermons/bulletins/ \nLivestream Links \nFacebook: https://www.facebook.com/faithbiblechurchvallejo/live \nYouTube: https://youtube.com/channel/UCRvwFe65dkysxaJgD6mHUIw/live  
URL:https://fbcvallejo.net/_event/11am-sunday-live-stream-service-30/
LOCATION:901 Solano Ave\, Vallejo\, CA\, United States
END:VEVENT
BEGIN:VEVENT
DTSTART;TZID=America/Los_Angeles:20250511T110000
DTEND;TZID=America/Los_Angeles:20250511T123000
DTSTAMP:20260425T074038
CREATED:20241014T005902Z
LAST-MODIFIED:20250510T211806Z
UID:541-1746961200-1746966600@fbcvallejo.net
SUMMARY:11AM Sunday Service
DESCRIPTION:Weekly Bulletins – https://fbcvallejo.net/sermons/bulletins/ \nMap Directions – https://maps.app.goo.gl/EeDx3fN8phUAtJ8y5
URL:https://fbcvallejo.net/_event/11am-sunday-service-30/
LOCATION:901 Solano Ave\, Vallejo\, CA\, United States
END:VEVENT
BEGIN:VEVENT
DTSTART;TZID=America/Los_Angeles:20250511T110000
DTEND;TZID=America/Los_Angeles:20250511T130000
DTSTAMP:20260425T074038
CREATED:20241014T005902Z
LAST-MODIFIED:20250510T211806Z
UID:539-1746961200-1746968400@fbcvallejo.net
SUMMARY:Faith Food Fridays
DESCRIPTION:
URL:https://fbcvallejo.net/_event/faith-food-fridays-30/
END:VEVENT
BEGIN:VEVENT
DTSTART;TZID=America/Los_Angeles:20250513T190000
DTEND;TZID=America/Los_Angeles:20250513T210000
DTSTAMP:20260425T074038
CREATED:20250104T225128Z
LAST-MODIFIED:20250513T213427Z
UID:1739-1747162800-1747170000@fbcvallejo.net
SUMMARY:Celebrate Recovery
DESCRIPTION:
URL:https://fbcvallejo.net/_event/celebrate-recovery-19/
END:VEVENT
BEGIN:VEVENT
DTSTART;TZID=America/Los_Angeles:20250514T190000
DTEND;TZID=America/Los_Angeles:20250514T200000
DTSTAMP:20260425T074038
CREATED:20241231T222713Z
LAST-MODIFIED:20250514T213411Z
UID:1451-1747249200-1747252800@fbcvallejo.net
SUMMARY:Prayer Meeting
DESCRIPTION:
URL:https://fbcvallejo.net/_event/prayer-meeting-19/
END:VEVENT
BEGIN:VEVENT
DTSTART;TZID=America/Los_Angeles:20250516T000000
DTEND;TZID=America/Los_Angeles:20250516T235959
DTSTAMP:20260425T074038
CREATED:20250102T223250Z
LAST-MODIFIED:20250516T214835Z
UID:1600-1747353600-1747439999@fbcvallejo.net
SUMMARY:No Youth Bible Study - Jr. High Camp Prep.
DESCRIPTION:
URL:https://fbcvallejo.net/_event/no-youth-bible-study-jr-high-camp-prep/
END:VEVENT
BEGIN:VEVENT
DTSTART;TZID=America/Los_Angeles:20250518T090000
DTEND;TZID=America/Los_Angeles:20250518T100000
DTSTAMP:20260425T074038
CREATED:20250102T223251Z
LAST-MODIFIED:20250517T214753Z
UID:1601-1747558800-1747562400@fbcvallejo.net
SUMMARY:Sunday School Coordinator Meeting
DESCRIPTION:
URL:https://fbcvallejo.net/_event/sunday-school-coordinator-meeting-2/
END:VEVENT
BEGIN:VEVENT
DTSTART;TZID=America/Los_Angeles:20250518T090000
DTEND;TZID=America/Los_Angeles:20250518T103000
DTSTAMP:20260425T074038
CREATED:20241014T005902Z
LAST-MODIFIED:20250517T214752Z
UID:542-1747558800-1747564200@fbcvallejo.net
SUMMARY:9AM Sunday Service
DESCRIPTION:Weekly Bulletins – https://fbcvallejo.net/sermons/bulletins/ \nMap Directions – https://maps.app.goo.gl/EeDx3fN8phUAtJ8y5
URL:https://fbcvallejo.net/_event/9am-sunday-service-31/
LOCATION:901 Solano Ave\, Vallejo\, CA\, United States
END:VEVENT
BEGIN:VEVENT
DTSTART;TZID=America/Los_Angeles:20250518T110000
DTEND;TZID=America/Los_Angeles:20250518T123000
DTSTAMP:20260425T074038
CREATED:20241014T005903Z
LAST-MODIFIED:20250517T214753Z
UID:545-1747566000-1747571400@fbcvallejo.net
SUMMARY:11AM Sunday Live Stream Service
DESCRIPTION:Weekly Bulletins – https://fbcvallejo.net/sermons/bulletins/ \nLivestream Links \nFacebook: https://www.facebook.com/faithbiblechurchvallejo/live \nYouTube: https://youtube.com/channel/UCRvwFe65dkysxaJgD6mHUIw/live  
URL:https://fbcvallejo.net/_event/11am-sunday-live-stream-service-31/
LOCATION:901 Solano Ave\, Vallejo\, CA\, United States
END:VEVENT
BEGIN:VEVENT
DTSTART;TZID=America/Los_Angeles:20250518T110000
DTEND;TZID=America/Los_Angeles:20250518T123000
DTSTAMP:20260425T074038
CREATED:20241014T005903Z
LAST-MODIFIED:20250517T214753Z
UID:546-1747566000-1747571400@fbcvallejo.net
SUMMARY:11AM Sunday Service
DESCRIPTION:Weekly Bulletins – https://fbcvallejo.net/sermons/bulletins/ \nMap Directions – https://maps.app.goo.gl/EeDx3fN8phUAtJ8y5
URL:https://fbcvallejo.net/_event/11am-sunday-service-31/
LOCATION:901 Solano Ave\, Vallejo\, CA\, United States
END:VEVENT
BEGIN:VEVENT
DTSTART;TZID=America/Los_Angeles:20250518T110000
DTEND;TZID=America/Los_Angeles:20250518T123000
DTSTAMP:20260425T074038
CREATED:20241014T005903Z
LAST-MODIFIED:20250517T214753Z
UID:544-1747566000-1747571400@fbcvallejo.net
SUMMARY:11AM Children's Sunday School
DESCRIPTION:Children’s Sanctuary \nMap Directions – https://maps.app.goo.gl/EeDx3fN8phUAtJ8y5
URL:https://fbcvallejo.net/_event/11am-childrens-sunday-school-31/
LOCATION:901 Solano Ave\, Vallejo\, CA\, United States
END:VEVENT
BEGIN:VEVENT
DTSTART;TZID=America/Los_Angeles:20250518T110000
DTEND;TZID=America/Los_Angeles:20250518T130000
DTSTAMP:20260425T074039
CREATED:20241014T005903Z
LAST-MODIFIED:20250517T214753Z
UID:543-1747566000-1747573200@fbcvallejo.net
SUMMARY:Faith Food Fridays
DESCRIPTION:
URL:https://fbcvallejo.net/_event/faith-food-fridays-31/
END:VEVENT
BEGIN:VEVENT
DTSTART;TZID=America/Los_Angeles:20250520T190000
DTEND;TZID=America/Los_Angeles:20250520T200000
DTSTAMP:20260425T074039
CREATED:20250103T224913Z
LAST-MODIFIED:20250520T220321Z
UID:1694-1747767600-1747771200@fbcvallejo.net
SUMMARY:The Veritas School Board Meeting
DESCRIPTION:
URL:https://fbcvallejo.net/_event/the-veritas-school-board-meeting-10/
END:VEVENT
BEGIN:VEVENT
DTSTART;TZID=America/Los_Angeles:20250520T190000
DTEND;TZID=America/Los_Angeles:20250520T210000
DTSTAMP:20260425T074039
CREATED:20250104T225130Z
LAST-MODIFIED:20250520T220321Z
UID:1741-1747767600-1747774800@fbcvallejo.net
SUMMARY:Celebrate Recovery
DESCRIPTION:
URL:https://fbcvallejo.net/_event/celebrate-recovery-20/
END:VEVENT
BEGIN:VEVENT
DTSTART;TZID=America/Los_Angeles:20250521T090000
DTEND;TZID=America/Los_Angeles:20250521T100000
DTSTAMP:20260425T074039
CREATED:20250520T220219Z
LAST-MODIFIED:20250520T220321Z
UID:2652-1747818000-1747821600@fbcvallejo.net
SUMMARY:TIRE ROATION NAPA @10AM
DESCRIPTION:
URL:https://fbcvallejo.net/_event/tire-roation-napa-10am/
END:VEVENT
BEGIN:VEVENT
DTSTART;TZID=America/Los_Angeles:20250521T190000
DTEND;TZID=America/Los_Angeles:20250521T200000
DTSTAMP:20260425T074039
CREATED:20241231T222714Z
LAST-MODIFIED:20250521T220334Z
UID:1452-1747854000-1747857600@fbcvallejo.net
SUMMARY:Prayer Meeting
DESCRIPTION:
URL:https://fbcvallejo.net/_event/prayer-meeting-20/
END:VEVENT
BEGIN:VEVENT
DTSTART;TZID=America/Los_Angeles:20250523T000000
DTEND;TZID=America/Los_Angeles:20250526T235959
DTSTAMP:20260425T074039
CREATED:20250102T223252Z
LAST-MODIFIED:20250526T231531Z
UID:1603-1747958400-1748303999@fbcvallejo.net
SUMMARY:Jr. High Camp
DESCRIPTION:
URL:https://fbcvallejo.net/_event/jr-high-camp/
LOCATION:Camp Alta\, 794 Alta Power House Rd\, Alta\, CA\, United States
END:VEVENT
BEGIN:VEVENT
DTSTART;TZID=America/Los_Angeles:20250525T090000
DTEND;TZID=America/Los_Angeles:20250525T103000
DTSTAMP:20260425T074039
CREATED:20241014T005903Z
LAST-MODIFIED:20250524T224442Z
UID:547-1748163600-1748169000@fbcvallejo.net
SUMMARY:9AM Sunday Service
DESCRIPTION:Weekly Bulletins – https://fbcvallejo.net/sermons/bulletins/ \nMap Directions – https://maps.app.goo.gl/EeDx3fN8phUAtJ8y5
URL:https://fbcvallejo.net/_event/9am-sunday-service-32/
LOCATION:901 Solano Ave\, Vallejo\, CA\, United States
END:VEVENT
END:VCALENDAR