BEGIN:VCALENDAR
VERSION:2.0
PRODID:-//Faith Bible Church of Vallejo - ECPv6.15.20//NONSGML v1.0//EN
CALSCALE:GREGORIAN
METHOD:PUBLISH
X-WR-CALNAME:Faith Bible Church of Vallejo
X-ORIGINAL-URL:https://fbcvallejo.net
X-WR-CALDESC:Events for Faith Bible Church of Vallejo
REFRESH-INTERVAL;VALUE=DURATION:PT1H
X-Robots-Tag:noindex
X-PUBLISHED-TTL:PT1H
BEGIN:VTIMEZONE
TZID:America/Los_Angeles
BEGIN:DAYLIGHT
TZOFFSETFROM:-0800
TZOFFSETTO:-0700
TZNAME:PDT
DTSTART:20240310T100000
END:DAYLIGHT
BEGIN:STANDARD
TZOFFSETFROM:-0700
TZOFFSETTO:-0800
TZNAME:PST
DTSTART:20241103T090000
END:STANDARD
BEGIN:DAYLIGHT
TZOFFSETFROM:-0800
TZOFFSETTO:-0700
TZNAME:PDT
DTSTART:20250309T100000
END:DAYLIGHT
BEGIN:STANDARD
TZOFFSETFROM:-0700
TZOFFSETTO:-0800
TZNAME:PST
DTSTART:20251102T090000
END:STANDARD
BEGIN:DAYLIGHT
TZOFFSETFROM:-0800
TZOFFSETTO:-0700
TZNAME:PDT
DTSTART:20260308T100000
END:DAYLIGHT
BEGIN:STANDARD
TZOFFSETFROM:-0700
TZOFFSETTO:-0800
TZNAME:PST
DTSTART:20261101T090000
END:STANDARD
END:VTIMEZONE
BEGIN:VEVENT
DTSTART;TZID=America/Los_Angeles:20250608T110000
DTEND;TZID=America/Los_Angeles:20250608T123000
DTSTAMP:20260425T083424
CREATED:20241014T005908Z
LAST-MODIFIED:20250608T180345Z
UID:563-1749380400-1749385800@fbcvallejo.net
SUMMARY:11AM Sunday Live Stream Service
DESCRIPTION:Weekly Bulletins – https://fbcvallejo.net/sermons/bulletins/ \nLivestream Links \nFacebook: https://www.facebook.com/faithbiblechurchvallejo/live \nYouTube: https://youtube.com/channel/UCRvwFe65dkysxaJgD6mHUIw/live  
URL:https://fbcvallejo.net/_event/11am-sunday-live-stream-service-34/
LOCATION:901 Solano Ave\, Vallejo\, CA\, United States
END:VEVENT
BEGIN:VEVENT
DTSTART;TZID=America/Los_Angeles:20250608T110000
DTEND;TZID=America/Los_Angeles:20250608T130000
DTSTAMP:20260425T083424
CREATED:20241014T005907Z
LAST-MODIFIED:20250608T180345Z
UID:560-1749380400-1749387600@fbcvallejo.net
SUMMARY:Faith Food Fridays
DESCRIPTION:
URL:https://fbcvallejo.net/_event/faith-food-fridays-34/
END:VEVENT
BEGIN:VEVENT
DTSTART;TZID=America/Los_Angeles:20250608T130000
DTEND;TZID=America/Los_Angeles:20250608T140000
DTSTAMP:20260425T083424
CREATED:20250102T223255Z
LAST-MODIFIED:20250608T180345Z
UID:1608-1749387600-1749391200@fbcvallejo.net
SUMMARY:Elders' Meeting
DESCRIPTION:
URL:https://fbcvallejo.net/_event/elders-meeting-4/
END:VEVENT
BEGIN:VEVENT
DTSTART;TZID=America/Los_Angeles:20250610T190000
DTEND;TZID=America/Los_Angeles:20250610T210000
DTSTAMP:20260425T083424
CREATED:20250104T225134Z
LAST-MODIFIED:20250610T181541Z
UID:1746-1749582000-1749589200@fbcvallejo.net
SUMMARY:Celebrate Recovery
DESCRIPTION:
URL:https://fbcvallejo.net/_event/celebrate-recovery-23/
END:VEVENT
BEGIN:VEVENT
DTSTART;TZID=America/Los_Angeles:20250611T000000
DTEND;TZID=America/Los_Angeles:20250611T235959
DTSTAMP:20260425T083424
CREATED:20250103T224917Z
LAST-MODIFIED:20250611T182047Z
UID:1696-1749600000-1749686399@fbcvallejo.net
SUMMARY:MSPK - First Day of Summer Program
DESCRIPTION:
URL:https://fbcvallejo.net/_event/mspk-first-day-of-summer-program/
END:VEVENT
BEGIN:VEVENT
DTSTART;TZID=America/Los_Angeles:20250611T190000
DTEND;TZID=America/Los_Angeles:20250611T200000
DTSTAMP:20260425T083424
CREATED:20241231T222718Z
LAST-MODIFIED:20250611T182048Z
UID:1455-1749668400-1749672000@fbcvallejo.net
SUMMARY:Prayer Meeting
DESCRIPTION:
URL:https://fbcvallejo.net/_event/prayer-meeting-23/
END:VEVENT
BEGIN:VEVENT
DTSTART;TZID=America/Los_Angeles:20250613T190000
DTEND;TZID=America/Los_Angeles:20250613T213000
DTSTAMP:20260425T083424
CREATED:20250102T223255Z
LAST-MODIFIED:20250613T183709Z
UID:1609-1749841200-1749850200@fbcvallejo.net
SUMMARY:Youth - Video Game Night
DESCRIPTION:
URL:https://fbcvallejo.net/_event/youth-video-game-night/
LOCATION:Fellowship Hall
END:VEVENT
BEGIN:VEVENT
DTSTART;TZID=America/Los_Angeles:20250615T090000
DTEND;TZID=America/Los_Angeles:20250615T103000
DTSTAMP:20260425T083424
CREATED:20241014T005908Z
LAST-MODIFIED:20250614T185255Z
UID:564-1749978000-1749983400@fbcvallejo.net
SUMMARY:9AM Sunday Service
DESCRIPTION:Weekly Bulletins – https://fbcvallejo.net/sermons/bulletins/ \nMap Directions – https://maps.app.goo.gl/EeDx3fN8phUAtJ8y5
URL:https://fbcvallejo.net/_event/9am-sunday-service-35/
LOCATION:901 Solano Ave\, Vallejo\, CA\, United States
END:VEVENT
BEGIN:VEVENT
DTSTART;TZID=America/Los_Angeles:20250615T110000
DTEND;TZID=America/Los_Angeles:20250615T123000
DTSTAMP:20260425T083424
CREATED:20241014T005908Z
LAST-MODIFIED:20250615T190113Z
UID:565-1749985200-1749990600@fbcvallejo.net
SUMMARY:11AM Children's Sunday School
DESCRIPTION:Children’s Sanctuary \nMap Directions – https://maps.app.goo.gl/EeDx3fN8phUAtJ8y5
URL:https://fbcvallejo.net/_event/11am-childrens-sunday-school-35/
LOCATION:901 Solano Ave\, Vallejo\, CA\, United States
END:VEVENT
BEGIN:VEVENT
DTSTART;TZID=America/Los_Angeles:20250615T110000
DTEND;TZID=America/Los_Angeles:20250615T123000
DTSTAMP:20260425T083424
CREATED:20241014T005909Z
LAST-MODIFIED:20250615T190113Z
UID:567-1749985200-1749990600@fbcvallejo.net
SUMMARY:11AM Sunday Service
DESCRIPTION:Weekly Bulletins – https://fbcvallejo.net/sermons/bulletins/ \nMap Directions – https://maps.app.goo.gl/EeDx3fN8phUAtJ8y5
URL:https://fbcvallejo.net/_event/11am-sunday-service-35/
LOCATION:901 Solano Ave\, Vallejo\, CA\, United States
END:VEVENT
BEGIN:VEVENT
DTSTART;TZID=America/Los_Angeles:20250615T110000
DTEND;TZID=America/Los_Angeles:20250615T123000
DTSTAMP:20260425T083424
CREATED:20241014T005909Z
LAST-MODIFIED:20250615T190113Z
UID:566-1749985200-1749990600@fbcvallejo.net
SUMMARY:11AM Sunday Live Stream Service
DESCRIPTION:Weekly Bulletins – https://fbcvallejo.net/sermons/bulletins/ \nLivestream Links \nFacebook: https://www.facebook.com/faithbiblechurchvallejo/live \nYouTube: https://youtube.com/channel/UCRvwFe65dkysxaJgD6mHUIw/live  
URL:https://fbcvallejo.net/_event/11am-sunday-live-stream-service-35/
LOCATION:901 Solano Ave\, Vallejo\, CA\, United States
END:VEVENT
BEGIN:VEVENT
DTSTART;TZID=America/Los_Angeles:20250615T110000
DTEND;TZID=America/Los_Angeles:20250615T130000
DTSTAMP:20260425T083424
CREATED:20241014T005909Z
LAST-MODIFIED:20250615T190113Z
UID:568-1749985200-1749992400@fbcvallejo.net
SUMMARY:Faith Food Fridays
DESCRIPTION:
URL:https://fbcvallejo.net/_event/faith-food-fridays-35/
END:VEVENT
BEGIN:VEVENT
DTSTART;TZID=America/Los_Angeles:20250617T190000
DTEND;TZID=America/Los_Angeles:20250617T200000
DTSTAMP:20260425T083424
CREATED:20250103T224918Z
LAST-MODIFIED:20250615T190114Z
UID:1697-1750186800-1750190400@fbcvallejo.net
SUMMARY:The Veritas School Board Meeting
DESCRIPTION:
URL:https://fbcvallejo.net/_event/the-veritas-school-board-meeting-12/
END:VEVENT
BEGIN:VEVENT
DTSTART;TZID=America/Los_Angeles:20250617T190000
DTEND;TZID=America/Los_Angeles:20250617T210000
DTSTAMP:20260425T083424
CREATED:20250104T225135Z
LAST-MODIFIED:20250615T190113Z
UID:1747-1750186800-1750194000@fbcvallejo.net
SUMMARY:Celebrate Recovery
DESCRIPTION:
URL:https://fbcvallejo.net/_event/celebrate-recovery-24/
END:VEVENT
BEGIN:VEVENT
DTSTART;TZID=America/Los_Angeles:20250618T190000
DTEND;TZID=America/Los_Angeles:20250618T200000
DTSTAMP:20260425T083424
CREATED:20241231T222718Z
LAST-MODIFIED:20250615T190114Z
UID:1456-1750273200-1750276800@fbcvallejo.net
SUMMARY:Prayer Meeting
DESCRIPTION:
URL:https://fbcvallejo.net/_event/prayer-meeting-24/
END:VEVENT
BEGIN:VEVENT
DTSTART;TZID=America/Los_Angeles:20250620T000000
DTEND;TZID=America/Los_Angeles:20250623T235959
DTSTAMP:20260425T083424
CREATED:20250104T225136Z
LAST-MODIFIED:20250622T004651Z
UID:1749-1750377600-1750723199@fbcvallejo.net
SUMMARY:Family Camp
DESCRIPTION:
URL:https://fbcvallejo.net/_event/family-camp/
END:VEVENT
BEGIN:VEVENT
DTSTART;TZID=America/Los_Angeles:20250620T180000
DTEND;TZID=America/Los_Angeles:20250620T200000
DTSTAMP:20260425T083424
CREATED:20250102T223256Z
LAST-MODIFIED:20250620T180113Z
UID:1610-1750442400-1750449600@fbcvallejo.net
SUMMARY:Youth Summer Fun Volleyball
DESCRIPTION:
URL:https://fbcvallejo.net/_event/youth-summer-fun-volleyball/
END:VEVENT
BEGIN:VEVENT
DTSTART;TZID=America/Los_Angeles:20250622T000000
DTEND;TZID=America/Los_Angeles:20250701T235959
DTSTAMP:20260425T083424
CREATED:20250104T225137Z
LAST-MODIFIED:20250701T183846Z
UID:1750-1750550400-1751414399@fbcvallejo.net
SUMMARY:Costa Rica Mission Trip
DESCRIPTION:
URL:https://fbcvallejo.net/_event/costa-rica-mission-trip/
END:VEVENT
BEGIN:VEVENT
DTSTART;TZID=America/Los_Angeles:20250622T090000
DTEND;TZID=America/Los_Angeles:20250622T103000
DTSTAMP:20260425T083424
CREATED:20241014T005910Z
LAST-MODIFIED:20250622T004652Z
UID:569-1750582800-1750588200@fbcvallejo.net
SUMMARY:9AM Sunday Service
DESCRIPTION:Weekly Bulletins – https://fbcvallejo.net/sermons/bulletins/ \nMap Directions – https://maps.app.goo.gl/EeDx3fN8phUAtJ8y5
URL:https://fbcvallejo.net/_event/9am-sunday-service-36/
LOCATION:901 Solano Ave\, Vallejo\, CA\, United States
END:VEVENT
BEGIN:VEVENT
DTSTART;TZID=America/Los_Angeles:20250622T110000
DTEND;TZID=America/Los_Angeles:20250622T123000
DTSTAMP:20260425T083424
CREATED:20241014T005910Z
LAST-MODIFIED:20250622T004652Z
UID:572-1750590000-1750595400@fbcvallejo.net
SUMMARY:11AM Sunday Service
DESCRIPTION:Weekly Bulletins – https://fbcvallejo.net/sermons/bulletins/ \nMap Directions – https://maps.app.goo.gl/EeDx3fN8phUAtJ8y5
URL:https://fbcvallejo.net/_event/11am-sunday-service-36/
LOCATION:901 Solano Ave\, Vallejo\, CA\, United States
END:VEVENT
BEGIN:VEVENT
DTSTART;TZID=America/Los_Angeles:20250622T110000
DTEND;TZID=America/Los_Angeles:20250622T123000
DTSTAMP:20260425T083424
CREATED:20241014T005910Z
LAST-MODIFIED:20250622T004652Z
UID:573-1750590000-1750595400@fbcvallejo.net
SUMMARY:11AM Sunday Live Stream Service
DESCRIPTION:Weekly Bulletins – https://fbcvallejo.net/sermons/bulletins/ \nLivestream Links \nFacebook: https://www.facebook.com/faithbiblechurchvallejo/live \nYouTube: https://youtube.com/channel/UCRvwFe65dkysxaJgD6mHUIw/live  
URL:https://fbcvallejo.net/_event/11am-sunday-live-stream-service-36/
LOCATION:901 Solano Ave\, Vallejo\, CA\, United States
END:VEVENT
BEGIN:VEVENT
DTSTART;TZID=America/Los_Angeles:20250622T110000
DTEND;TZID=America/Los_Angeles:20250622T123000
DTSTAMP:20260425T083424
CREATED:20241014T005910Z
LAST-MODIFIED:20250622T004652Z
UID:571-1750590000-1750595400@fbcvallejo.net
SUMMARY:11AM Children's Sunday School
DESCRIPTION:Children’s Sanctuary \nMap Directions – https://maps.app.goo.gl/EeDx3fN8phUAtJ8y5
URL:https://fbcvallejo.net/_event/11am-childrens-sunday-school-36/
LOCATION:901 Solano Ave\, Vallejo\, CA\, United States
END:VEVENT
BEGIN:VEVENT
DTSTART;TZID=America/Los_Angeles:20250622T110000
DTEND;TZID=America/Los_Angeles:20250622T130000
DTSTAMP:20260425T083424
CREATED:20241014T005910Z
LAST-MODIFIED:20250622T004652Z
UID:570-1750590000-1750597200@fbcvallejo.net
SUMMARY:Faith Food Fridays
DESCRIPTION:
URL:https://fbcvallejo.net/_event/faith-food-fridays-36/
END:VEVENT
BEGIN:VEVENT
DTSTART;TZID=America/Los_Angeles:20250622T124500
DTEND;TZID=America/Los_Angeles:20250622T134500
DTSTAMP:20260425T083424
CREATED:20241231T222719Z
LAST-MODIFIED:20250622T004651Z
UID:1457-1750596300-1750599900@fbcvallejo.net
SUMMARY:Care Ministry Meeting
DESCRIPTION:
URL:https://fbcvallejo.net/_event/care-ministry-meeting-2/
END:VEVENT
BEGIN:VEVENT
DTSTART;TZID=America/Los_Angeles:20250624T190000
DTEND;TZID=America/Los_Angeles:20250624T210000
DTSTAMP:20260425T083424
CREATED:20250104T225137Z
LAST-MODIFIED:20250626T000039Z
UID:1751-1750791600-1750798800@fbcvallejo.net
SUMMARY:Celebrate Recovery
DESCRIPTION:
URL:https://fbcvallejo.net/_event/celebrate-recovery-25/
END:VEVENT
BEGIN:VEVENT
DTSTART;TZID=America/Los_Angeles:20250625T190000
DTEND;TZID=America/Los_Angeles:20250625T200000
DTSTAMP:20260425T083424
CREATED:20241231T222719Z
LAST-MODIFIED:20250626T000158Z
UID:1458-1750878000-1750881600@fbcvallejo.net
SUMMARY:Prayer Meeting
DESCRIPTION:
URL:https://fbcvallejo.net/_event/prayer-meeting-25/
END:VEVENT
BEGIN:VEVENT
DTSTART;TZID=America/Los_Angeles:20250627T180000
DTEND;TZID=America/Los_Angeles:20250627T220000
DTSTAMP:20260425T083424
CREATED:20250102T223259Z
LAST-MODIFIED:20250627T180029Z
UID:1611-1751047200-1751061600@fbcvallejo.net
SUMMARY:Youth Summer Fun Daze (Drive-In)
DESCRIPTION:
URL:https://fbcvallejo.net/_event/youth-summer-fun-daze-drive-in/
END:VEVENT
BEGIN:VEVENT
DTSTART;TZID=America/Los_Angeles:20250628T120000
DTEND;TZID=America/Los_Angeles:20250628T143000
DTSTAMP:20260425T083424
CREATED:20250102T223254Z
LAST-MODIFIED:20250628T180152Z
UID:1607-1751112000-1751121000@fbcvallejo.net
SUMMARY:Men's Teaching Hour Meeting #2 - Coffee/Prayer
DESCRIPTION:
URL:https://fbcvallejo.net/_event/mens-teaching-hour-meeting-2-coffee-prayer/
LOCATION:Fellowship Hall
END:VEVENT
BEGIN:VEVENT
DTSTART;TZID=America/Los_Angeles:20250629T090000
DTEND;TZID=America/Los_Angeles:20250629T103000
DTSTAMP:20260425T083424
CREATED:20241014T005911Z
LAST-MODIFIED:20250628T180153Z
UID:574-1751187600-1751193000@fbcvallejo.net
SUMMARY:9AM Sunday Service
DESCRIPTION:Weekly Bulletins – https://fbcvallejo.net/sermons/bulletins/ \nMap Directions – https://maps.app.goo.gl/EeDx3fN8phUAtJ8y5
URL:https://fbcvallejo.net/_event/9am-sunday-service-37/
LOCATION:901 Solano Ave\, Vallejo\, CA\, United States
END:VEVENT
BEGIN:VEVENT
DTSTART;TZID=America/Los_Angeles:20250629T110000
DTEND;TZID=America/Los_Angeles:20250629T123000
DTSTAMP:20260425T083424
CREATED:20241014T005911Z
LAST-MODIFIED:20250629T181713Z
UID:576-1751194800-1751200200@fbcvallejo.net
SUMMARY:11AM Children's Sunday School
DESCRIPTION:Children’s Sanctuary \nMap Directions – https://maps.app.goo.gl/EeDx3fN8phUAtJ8y5
URL:https://fbcvallejo.net/_event/11am-childrens-sunday-school-37/
LOCATION:901 Solano Ave\, Vallejo\, CA\, United States
END:VEVENT
END:VCALENDAR