BEGIN:VCALENDAR
VERSION:2.0
PRODID:-//Faith Bible Church of Vallejo - ECPv6.15.20//NONSGML v1.0//EN
CALSCALE:GREGORIAN
METHOD:PUBLISH
X-ORIGINAL-URL:https://fbcvallejo.net
X-WR-CALDESC:Events for Faith Bible Church of Vallejo
REFRESH-INTERVAL;VALUE=DURATION:PT1H
X-Robots-Tag:noindex
X-PUBLISHED-TTL:PT1H
BEGIN:VTIMEZONE
TZID:America/Los_Angeles
BEGIN:DAYLIGHT
TZOFFSETFROM:-0800
TZOFFSETTO:-0700
TZNAME:PDT
DTSTART:20240310T100000
END:DAYLIGHT
BEGIN:STANDARD
TZOFFSETFROM:-0700
TZOFFSETTO:-0800
TZNAME:PST
DTSTART:20241103T090000
END:STANDARD
BEGIN:DAYLIGHT
TZOFFSETFROM:-0800
TZOFFSETTO:-0700
TZNAME:PDT
DTSTART:20250309T100000
END:DAYLIGHT
BEGIN:STANDARD
TZOFFSETFROM:-0700
TZOFFSETTO:-0800
TZNAME:PST
DTSTART:20251102T090000
END:STANDARD
BEGIN:DAYLIGHT
TZOFFSETFROM:-0800
TZOFFSETTO:-0700
TZNAME:PDT
DTSTART:20260308T100000
END:DAYLIGHT
BEGIN:STANDARD
TZOFFSETFROM:-0700
TZOFFSETTO:-0800
TZNAME:PST
DTSTART:20261101T090000
END:STANDARD
END:VTIMEZONE
BEGIN:VEVENT
DTSTART;TZID=America/Los_Angeles:20250810T110000
DTEND;TZID=America/Los_Angeles:20250810T123000
DTSTAMP:20260425T083740
CREATED:20241014T005920Z
LAST-MODIFIED:20250809T221158Z
UID:609-1754823600-1754829000@fbcvallejo.net
SUMMARY:11AM Sunday Live Stream Service
DESCRIPTION:Weekly Bulletins – https://fbcvallejo.net/sermons/bulletins/ \nLivestream Links \nFacebook: https://www.facebook.com/faithbiblechurchvallejo/live \nYouTube: https://youtube.com/channel/UCRvwFe65dkysxaJgD6mHUIw/live  
URL:https://fbcvallejo.net/_event/11am-sunday-live-stream-service-43/
LOCATION:901 Solano Ave\, Vallejo\, CA\, United States
END:VEVENT
BEGIN:VEVENT
DTSTART;TZID=America/Los_Angeles:20250810T110000
DTEND;TZID=America/Los_Angeles:20250810T130000
DTSTAMP:20260425T083740
CREATED:20241014T005920Z
LAST-MODIFIED:20250809T221158Z
UID:610-1754823600-1754830800@fbcvallejo.net
SUMMARY:Faith Food Fridays
DESCRIPTION:
URL:https://fbcvallejo.net/_event/faith-food-fridays-43/
END:VEVENT
BEGIN:VEVENT
DTSTART;TZID=America/Los_Angeles:20250810T130000
DTEND;TZID=America/Los_Angeles:20250810T140000
DTSTAMP:20260425T083740
CREATED:20250102T223307Z
LAST-MODIFIED:20250809T221158Z
UID:1620-1754830800-1754834400@fbcvallejo.net
SUMMARY:Elders\, Leaders & Ministry Workers Quarterly Meeting
DESCRIPTION:
URL:https://fbcvallejo.net/_event/elders-leaders-ministry-workers-quarterly-meeting-3/
END:VEVENT
BEGIN:VEVENT
DTSTART;TZID=America/Los_Angeles:20250812T190000
DTEND;TZID=America/Los_Angeles:20250812T200000
DTSTAMP:20260425T083740
CREATED:20250103T224926Z
LAST-MODIFIED:20250812T222533Z
UID:1704-1755025200-1755028800@fbcvallejo.net
SUMMARY:The Veritas School Board Meeting
DESCRIPTION:
URL:https://fbcvallejo.net/_event/the-veritas-school-board-meeting-16/
END:VEVENT
BEGIN:VEVENT
DTSTART;TZID=America/Los_Angeles:20250812T190000
DTEND;TZID=America/Los_Angeles:20250812T210000
DTSTAMP:20260425T083740
CREATED:20250122T233209Z
LAST-MODIFIED:20250812T222534Z
UID:1859-1755025200-1755032400@fbcvallejo.net
SUMMARY:Celebrate Recovery
DESCRIPTION:
URL:https://fbcvallejo.net/_event/celebrate-recovery-32/
END:VEVENT
BEGIN:VEVENT
DTSTART;TZID=America/Los_Angeles:20250813T000000
DTEND;TZID=America/Los_Angeles:20250813T235959
DTSTAMP:20260425T083740
CREATED:20250103T224926Z
LAST-MODIFIED:20250813T223338Z
UID:1703-1755043200-1755129599@fbcvallejo.net
SUMMARY:MSPK - First Day of School
DESCRIPTION:
URL:https://fbcvallejo.net/_event/mspk-first-day-of-school/
END:VEVENT
BEGIN:VEVENT
DTSTART;TZID=America/Los_Angeles:20250813T190000
DTEND;TZID=America/Los_Angeles:20250813T200000
DTSTAMP:20260425T083740
CREATED:20241231T222724Z
LAST-MODIFIED:20250813T223338Z
UID:1465-1755111600-1755115200@fbcvallejo.net
SUMMARY:Prayer Meeting
DESCRIPTION:
URL:https://fbcvallejo.net/_event/prayer-meeting-32/
END:VEVENT
BEGIN:VEVENT
DTSTART;TZID=America/Los_Angeles:20250816T000000
DTEND;TZID=America/Los_Angeles:20250816T235959
DTSTAMP:20260425T083740
CREATED:20250102T223307Z
LAST-MODIFIED:20250816T223013Z
UID:1621-1755302400-1755388799@fbcvallejo.net
SUMMARY:Annual Women Makers Event
DESCRIPTION:
URL:https://fbcvallejo.net/_event/annual-women-makers-event/
END:VEVENT
BEGIN:VEVENT
DTSTART;TZID=America/Los_Angeles:20250817T090000
DTEND;TZID=America/Los_Angeles:20250817T100000
DTSTAMP:20260425T083740
CREATED:20250102T223307Z
LAST-MODIFIED:20250816T223016Z
UID:1622-1755421200-1755424800@fbcvallejo.net
SUMMARY:Sunday School Coordinator Meeting
DESCRIPTION:
URL:https://fbcvallejo.net/_event/sunday-school-coordinator-meeting-3/
END:VEVENT
BEGIN:VEVENT
DTSTART;TZID=America/Los_Angeles:20250817T090000
DTEND;TZID=America/Los_Angeles:20250817T103000
DTSTAMP:20260425T083740
CREATED:20241014T005921Z
LAST-MODIFIED:20250816T223015Z
UID:613-1755421200-1755426600@fbcvallejo.net
SUMMARY:9AM Sunday Service
DESCRIPTION:Weekly Bulletins – https://fbcvallejo.net/sermons/bulletins/ \nMap Directions – https://maps.app.goo.gl/EeDx3fN8phUAtJ8y5
URL:https://fbcvallejo.net/_event/9am-sunday-service-44/
LOCATION:901 Solano Ave\, Vallejo\, CA\, United States
END:VEVENT
BEGIN:VEVENT
DTSTART;TZID=America/Los_Angeles:20250817T110000
DTEND;TZID=America/Los_Angeles:20250817T123000
DTSTAMP:20260425T083740
CREATED:20241014T005921Z
LAST-MODIFIED:20250816T223016Z
UID:616-1755428400-1755433800@fbcvallejo.net
SUMMARY:11AM Sunday Live Stream Service
DESCRIPTION:Weekly Bulletins – https://fbcvallejo.net/sermons/bulletins/ \nLivestream Links \nFacebook: https://www.facebook.com/faithbiblechurchvallejo/live \nYouTube: https://youtube.com/channel/UCRvwFe65dkysxaJgD6mHUIw/live  
URL:https://fbcvallejo.net/_event/11am-sunday-live-stream-service-44/
LOCATION:901 Solano Ave\, Vallejo\, CA\, United States
END:VEVENT
BEGIN:VEVENT
DTSTART;TZID=America/Los_Angeles:20250817T110000
DTEND;TZID=America/Los_Angeles:20250817T123000
DTSTAMP:20260425T083740
CREATED:20241014T005921Z
LAST-MODIFIED:20250816T223017Z
UID:614-1755428400-1755433800@fbcvallejo.net
SUMMARY:11AM Children's Sunday School
DESCRIPTION:Children’s Sanctuary \nMap Directions – https://maps.app.goo.gl/EeDx3fN8phUAtJ8y5
URL:https://fbcvallejo.net/_event/11am-childrens-sunday-school-44/
LOCATION:901 Solano Ave\, Vallejo\, CA\, United States
END:VEVENT
BEGIN:VEVENT
DTSTART;TZID=America/Los_Angeles:20250817T110000
DTEND;TZID=America/Los_Angeles:20250817T123000
DTSTAMP:20260425T083740
CREATED:20241014T005922Z
LAST-MODIFIED:20250816T223017Z
UID:617-1755428400-1755433800@fbcvallejo.net
SUMMARY:11AM Sunday Service
DESCRIPTION:Weekly Bulletins – https://fbcvallejo.net/sermons/bulletins/ \nMap Directions – https://maps.app.goo.gl/EeDx3fN8phUAtJ8y5
URL:https://fbcvallejo.net/_event/11am-sunday-service-44/
LOCATION:901 Solano Ave\, Vallejo\, CA\, United States
END:VEVENT
BEGIN:VEVENT
DTSTART;TZID=America/Los_Angeles:20250817T110000
DTEND;TZID=America/Los_Angeles:20250817T130000
DTSTAMP:20260425T083740
CREATED:20241014T005921Z
LAST-MODIFIED:20250816T223016Z
UID:615-1755428400-1755435600@fbcvallejo.net
SUMMARY:Faith Food Fridays
DESCRIPTION:
URL:https://fbcvallejo.net/_event/faith-food-fridays-44/
END:VEVENT
BEGIN:VEVENT
DTSTART;TZID=America/Los_Angeles:20250817T124500
DTEND;TZID=America/Los_Angeles:20250817T134500
DTSTAMP:20260425T083740
CREATED:20241231T222724Z
LAST-MODIFIED:20250816T223020Z
UID:1466-1755434700-1755438300@fbcvallejo.net
SUMMARY:Stephen Ministry Meeting & Training
DESCRIPTION:
URL:https://fbcvallejo.net/_event/stephen-ministry-meeting-training-2/
END:VEVENT
BEGIN:VEVENT
DTSTART;TZID=America/Los_Angeles:20250819T190000
DTEND;TZID=America/Los_Angeles:20250819T210000
DTSTAMP:20260425T083740
CREATED:20250130T000014Z
LAST-MODIFIED:20250819T225628Z
UID:1939-1755630000-1755637200@fbcvallejo.net
SUMMARY:Celebrate Recovery
DESCRIPTION:
URL:https://fbcvallejo.net/_event/celebrate-recovery-33/
END:VEVENT
BEGIN:VEVENT
DTSTART;TZID=America/Los_Angeles:20250820T000000
DTEND;TZID=America/Los_Angeles:20250820T235959
DTSTAMP:20260425T083740
CREATED:20250130T000015Z
LAST-MODIFIED:20250820T230137Z
UID:1940-1755648000-1755734399@fbcvallejo.net
SUMMARY:Veritas - 1st Day of School
DESCRIPTION:
URL:https://fbcvallejo.net/_event/veritas-1st-day-of-school/
END:VEVENT
BEGIN:VEVENT
DTSTART;TZID=America/Los_Angeles:20250820T190000
DTEND;TZID=America/Los_Angeles:20250820T200000
DTSTAMP:20260425T083740
CREATED:20241231T222725Z
LAST-MODIFIED:20250820T230137Z
UID:1467-1755716400-1755720000@fbcvallejo.net
SUMMARY:Prayer Meeting
DESCRIPTION:
URL:https://fbcvallejo.net/_event/prayer-meeting-33/
END:VEVENT
BEGIN:VEVENT
DTSTART;TZID=America/Los_Angeles:20250823T000000
DTEND;TZID=America/Los_Angeles:20250823T235959
DTSTAMP:20260425T083740
CREATED:20250206T190028Z
LAST-MODIFIED:20250823T234926Z
UID:1977-1755907200-1755993599@fbcvallejo.net
SUMMARY:Summer of Praise
DESCRIPTION:
URL:https://fbcvallejo.net/_event/summer-of-praise/
END:VEVENT
BEGIN:VEVENT
DTSTART;TZID=America/Los_Angeles:20250824T090000
DTEND;TZID=America/Los_Angeles:20250824T103000
DTSTAMP:20260425T083740
CREATED:20241014T005922Z
LAST-MODIFIED:20250823T234928Z
UID:618-1756026000-1756031400@fbcvallejo.net
SUMMARY:9AM Sunday Service
DESCRIPTION:Weekly Bulletins – https://fbcvallejo.net/sermons/bulletins/ \nMap Directions – https://maps.app.goo.gl/EeDx3fN8phUAtJ8y5
URL:https://fbcvallejo.net/_event/9am-sunday-service-45/
LOCATION:901 Solano Ave\, Vallejo\, CA\, United States
END:VEVENT
BEGIN:VEVENT
DTSTART;TZID=America/Los_Angeles:20250824T110000
DTEND;TZID=America/Los_Angeles:20250824T123000
DTSTAMP:20260425T083740
CREATED:20241014T005922Z
LAST-MODIFIED:20250823T234930Z
UID:619-1756033200-1756038600@fbcvallejo.net
SUMMARY:11AM Sunday Live Stream Service
DESCRIPTION:Weekly Bulletins – https://fbcvallejo.net/sermons/bulletins/ \nLivestream Links \nFacebook: https://www.facebook.com/faithbiblechurchvallejo/live \nYouTube: https://youtube.com/channel/UCRvwFe65dkysxaJgD6mHUIw/live  
URL:https://fbcvallejo.net/_event/11am-sunday-live-stream-service-45/
LOCATION:901 Solano Ave\, Vallejo\, CA\, United States
END:VEVENT
BEGIN:VEVENT
DTSTART;TZID=America/Los_Angeles:20250824T110000
DTEND;TZID=America/Los_Angeles:20250824T123000
DTSTAMP:20260425T083740
CREATED:20241014T005922Z
LAST-MODIFIED:20250823T234929Z
UID:620-1756033200-1756038600@fbcvallejo.net
SUMMARY:11AM Sunday Service
DESCRIPTION:Weekly Bulletins – https://fbcvallejo.net/sermons/bulletins/ \nMap Directions – https://maps.app.goo.gl/EeDx3fN8phUAtJ8y5
URL:https://fbcvallejo.net/_event/11am-sunday-service-45/
LOCATION:901 Solano Ave\, Vallejo\, CA\, United States
END:VEVENT
BEGIN:VEVENT
DTSTART;TZID=America/Los_Angeles:20250824T110000
DTEND;TZID=America/Los_Angeles:20250824T123000
DTSTAMP:20260425T083740
CREATED:20241014T005923Z
LAST-MODIFIED:20250823T234938Z
UID:622-1756033200-1756038600@fbcvallejo.net
SUMMARY:11AM Children's Sunday School
DESCRIPTION:Children’s Sanctuary \nMap Directions – https://maps.app.goo.gl/EeDx3fN8phUAtJ8y5
URL:https://fbcvallejo.net/_event/11am-childrens-sunday-school-45/
LOCATION:901 Solano Ave\, Vallejo\, CA\, United States
END:VEVENT
BEGIN:VEVENT
DTSTART;TZID=America/Los_Angeles:20250824T110000
DTEND;TZID=America/Los_Angeles:20250824T130000
DTSTAMP:20260425T083740
CREATED:20241014T005923Z
LAST-MODIFIED:20250823T234929Z
UID:621-1756033200-1756040400@fbcvallejo.net
SUMMARY:Faith Food Fridays
DESCRIPTION:
URL:https://fbcvallejo.net/_event/faith-food-fridays-45/
END:VEVENT
BEGIN:VEVENT
DTSTART;TZID=America/Los_Angeles:20250826T190000
DTEND;TZID=America/Los_Angeles:20250826T200000
DTSTAMP:20260425T083740
CREATED:20250203T181909Z
LAST-MODIFIED:20250826T180056Z
UID:1964-1756234800-1756238400@fbcvallejo.net
SUMMARY:The Veritas School Board Meeting
DESCRIPTION:
URL:https://fbcvallejo.net/_event/the-veritas-school-board-meeting-17/
END:VEVENT
BEGIN:VEVENT
DTSTART;TZID=America/Los_Angeles:20250826T190000
DTEND;TZID=America/Los_Angeles:20250826T210000
DTSTAMP:20260425T083740
CREATED:20250203T181909Z
LAST-MODIFIED:20250826T180056Z
UID:1965-1756234800-1756242000@fbcvallejo.net
SUMMARY:Celebrate Recovery
DESCRIPTION:
URL:https://fbcvallejo.net/_event/celebrate-recovery-34/
END:VEVENT
BEGIN:VEVENT
DTSTART;TZID=America/Los_Angeles:20250827T190000
DTEND;TZID=America/Los_Angeles:20250827T200000
DTSTAMP:20260425T083740
CREATED:20241231T222725Z
LAST-MODIFIED:20250827T180042Z
UID:1468-1756321200-1756324800@fbcvallejo.net
SUMMARY:Prayer Meeting
DESCRIPTION:
URL:https://fbcvallejo.net/_event/prayer-meeting-34/
END:VEVENT
BEGIN:VEVENT
DTSTART;TZID=America/Los_Angeles:20250831T000000
DTEND;TZID=America/Los_Angeles:20250831T235959
DTSTAMP:20260425T083740
CREATED:20250325T234854Z
LAST-MODIFIED:20250405T192533Z
UID:2175-1756598400-1756684799@fbcvallejo.net
SUMMARY:ROX WEDDING
DESCRIPTION:
URL:https://fbcvallejo.net/_event/rox-wedding/
END:VEVENT
BEGIN:VEVENT
DTSTART;TZID=America/Los_Angeles:20250831T090000
DTEND;TZID=America/Los_Angeles:20250831T103000
DTSTAMP:20260425T083740
CREATED:20241014T005923Z
LAST-MODIFIED:20250830T181539Z
UID:623-1756630800-1756636200@fbcvallejo.net
SUMMARY:9AM Sunday Service
DESCRIPTION:Weekly Bulletins – https://fbcvallejo.net/sermons/bulletins/ \nMap Directions – https://maps.app.goo.gl/EeDx3fN8phUAtJ8y5
URL:https://fbcvallejo.net/_event/9am-sunday-service-46/
LOCATION:901 Solano Ave\, Vallejo\, CA\, United States
END:VEVENT
BEGIN:VEVENT
DTSTART;TZID=America/Los_Angeles:20250831T110000
DTEND;TZID=America/Los_Angeles:20250831T123000
DTSTAMP:20260425T083740
CREATED:20241014T005923Z
LAST-MODIFIED:20250831T182947Z
UID:624-1756638000-1756643400@fbcvallejo.net
SUMMARY:11AM Sunday Live Stream Service
DESCRIPTION:Weekly Bulletins – https://fbcvallejo.net/sermons/bulletins/ \nLivestream Links \nFacebook: https://www.facebook.com/faithbiblechurchvallejo/live \nYouTube: https://youtube.com/channel/UCRvwFe65dkysxaJgD6mHUIw/live  
URL:https://fbcvallejo.net/_event/11am-sunday-live-stream-service-46/
LOCATION:901 Solano Ave\, Vallejo\, CA\, United States
END:VEVENT
END:VCALENDAR