BEGIN:VCALENDAR
VERSION:2.0
PRODID:-//Faith Bible Church of Vallejo - ECPv6.15.20//NONSGML v1.0//EN
CALSCALE:GREGORIAN
METHOD:PUBLISH
X-ORIGINAL-URL:https://fbcvallejo.net
X-WR-CALDESC:Events for Faith Bible Church of Vallejo
REFRESH-INTERVAL;VALUE=DURATION:PT1H
X-Robots-Tag:noindex
X-PUBLISHED-TTL:PT1H
BEGIN:VTIMEZONE
TZID:America/Los_Angeles
BEGIN:DAYLIGHT
TZOFFSETFROM:-0800
TZOFFSETTO:-0700
TZNAME:PDT
DTSTART:20240310T100000
END:DAYLIGHT
BEGIN:STANDARD
TZOFFSETFROM:-0700
TZOFFSETTO:-0800
TZNAME:PST
DTSTART:20241103T090000
END:STANDARD
BEGIN:DAYLIGHT
TZOFFSETFROM:-0800
TZOFFSETTO:-0700
TZNAME:PDT
DTSTART:20250309T100000
END:DAYLIGHT
BEGIN:STANDARD
TZOFFSETFROM:-0700
TZOFFSETTO:-0800
TZNAME:PST
DTSTART:20251102T090000
END:STANDARD
BEGIN:DAYLIGHT
TZOFFSETFROM:-0800
TZOFFSETTO:-0700
TZNAME:PDT
DTSTART:20260308T100000
END:DAYLIGHT
BEGIN:STANDARD
TZOFFSETFROM:-0700
TZOFFSETTO:-0800
TZNAME:PST
DTSTART:20261101T090000
END:STANDARD
BEGIN:DAYLIGHT
TZOFFSETFROM:-0800
TZOFFSETTO:-0700
TZNAME:PDT
DTSTART:20270314T100000
END:DAYLIGHT
BEGIN:STANDARD
TZOFFSETFROM:-0700
TZOFFSETTO:-0800
TZNAME:PST
DTSTART:20271107T090000
END:STANDARD
END:VTIMEZONE
BEGIN:VEVENT
DTSTART;TZID=America/Los_Angeles:20251228T110000
DTEND;TZID=America/Los_Angeles:20251228T123000
DTSTAMP:20260425T054728
CREATED:20241209T181839Z
LAST-MODIFIED:20251228T183111Z
UID:1310-1766919600-1766925000@fbcvallejo.net
SUMMARY:11AM Children's Sunday School
DESCRIPTION:Children’s Sanctuary \nMap Directions – https://maps.app.goo.gl/EeDx3fN8phUAtJ8y5
URL:https://fbcvallejo.net/_event/11am-childrens-sunday-school-63/
LOCATION:901 Solano Ave\, Vallejo\, CA\, United States
END:VEVENT
BEGIN:VEVENT
DTSTART;TZID=America/Los_Angeles:20251228T110000
DTEND;TZID=America/Los_Angeles:20251228T123000
DTSTAMP:20260425T054728
CREATED:20241209T181839Z
LAST-MODIFIED:20251228T183111Z
UID:1311-1766919600-1766925000@fbcvallejo.net
SUMMARY:11AM Sunday Live Stream Service
DESCRIPTION:Weekly Bulletins – https://fbcvallejo.net/sermons/bulletins/ \nLivestream Links \nFacebook: https://www.facebook.com/faithbiblechurchvallejo/live \nYouTube: https://youtube.com/channel/UCRvwFe65dkysxaJgD6mHUIw/live  
URL:https://fbcvallejo.net/_event/11am-sunday-live-stream-service-63/
LOCATION:901 Solano Ave\, Vallejo\, CA\, United States
END:VEVENT
BEGIN:VEVENT
DTSTART;TZID=America/Los_Angeles:20251228T110000
DTEND;TZID=America/Los_Angeles:20251228T130000
DTSTAMP:20260425T054728
CREATED:20241209T181838Z
LAST-MODIFIED:20251228T183110Z
UID:1309-1766919600-1766926800@fbcvallejo.net
SUMMARY:Faith Food Fridays
DESCRIPTION:
URL:https://fbcvallejo.net/_event/faith-food-fridays-63/
END:VEVENT
BEGIN:VEVENT
DTSTART;TZID=America/Los_Angeles:20251230T190000
DTEND;TZID=America/Los_Angeles:20251230T210000
DTSTAMP:20260425T054728
CREATED:20250602T000043Z
LAST-MODIFIED:20251230T182958Z
UID:2698-1767121200-1767128400@fbcvallejo.net
SUMMARY:Celebrate Recovery
DESCRIPTION:
URL:https://fbcvallejo.net/_event/celebrate-recovery-52/
END:VEVENT
BEGIN:VEVENT
DTSTART;TZID=America/Los_Angeles:20251231T190000
DTEND;TZID=America/Los_Angeles:20251231T200000
DTSTAMP:20260425T054728
CREATED:20250602T000044Z
LAST-MODIFIED:20251231T183111Z
UID:2699-1767207600-1767211200@fbcvallejo.net
SUMMARY:Prayer Meeting
DESCRIPTION:
URL:https://fbcvallejo.net/_event/prayer-meeting-52/
END:VEVENT
BEGIN:VEVENT
DTSTART;TZID=America/Los_Angeles:20260101T193000
DTEND;TZID=America/Los_Angeles:20260101T203000
DTSTAMP:20260425T054728
CREATED:20241209T181839Z
LAST-MODIFIED:20260101T183124Z
UID:1312-1767295800-1767299400@fbcvallejo.net
SUMMARY:Women's Prayer Meeting
DESCRIPTION:
URL:https://fbcvallejo.net/_event/womens-prayer-meeting-15/
LOCATION:ZOOM
END:VEVENT
BEGIN:VEVENT
DTSTART;TZID=America/Los_Angeles:20260104T000000
DTEND;TZID=America/Los_Angeles:20260104T235959
DTSTAMP:20260425T054728
CREATED:20241215T184654Z
LAST-MODIFIED:20260104T190302Z
UID:1336-1767484800-1767571199@fbcvallejo.net
SUMMARY:Communion
DESCRIPTION:
URL:https://fbcvallejo.net/_event/communion-15/
END:VEVENT
BEGIN:VEVENT
DTSTART;TZID=America/Los_Angeles:20260104T090000
DTEND;TZID=America/Los_Angeles:20260104T103000
DTSTAMP:20260425T054728
CREATED:20241216T184820Z
LAST-MODIFIED:20260103T184713Z
UID:1340-1767517200-1767522600@fbcvallejo.net
SUMMARY:9AM Sunday Service
DESCRIPTION:Weekly Bulletins – https://fbcvallejo.net/sermons/bulletins/ \nMap Directions – https://maps.app.goo.gl/EeDx3fN8phUAtJ8y5
URL:https://fbcvallejo.net/_event/9am-sunday-service-64/
LOCATION:901 Solano Ave\, Vallejo\, CA\, United States
END:VEVENT
BEGIN:VEVENT
DTSTART;TZID=America/Los_Angeles:20260104T110000
DTEND;TZID=America/Los_Angeles:20260104T123000
DTSTAMP:20260425T054728
CREATED:20241216T184821Z
LAST-MODIFIED:20260104T190304Z
UID:1343-1767524400-1767529800@fbcvallejo.net
SUMMARY:11AM Children's Sunday School
DESCRIPTION:Children’s Sanctuary \nMap Directions – https://maps.app.goo.gl/EeDx3fN8phUAtJ8y5
URL:https://fbcvallejo.net/_event/11am-childrens-sunday-school-64/
LOCATION:901 Solano Ave\, Vallejo\, CA\, United States
END:VEVENT
BEGIN:VEVENT
DTSTART;TZID=America/Los_Angeles:20260104T110000
DTEND;TZID=America/Los_Angeles:20260104T123000
DTSTAMP:20260425T054728
CREATED:20241216T184821Z
LAST-MODIFIED:20260104T190309Z
UID:1344-1767524400-1767529800@fbcvallejo.net
SUMMARY:11AM Sunday Service
DESCRIPTION:Weekly Bulletins – https://fbcvallejo.net/sermons/bulletins/ \nMap Directions – https://maps.app.goo.gl/EeDx3fN8phUAtJ8y5
URL:https://fbcvallejo.net/_event/11am-sunday-service-64/
LOCATION:901 Solano Ave\, Vallejo\, CA\, United States
END:VEVENT
BEGIN:VEVENT
DTSTART;TZID=America/Los_Angeles:20260104T110000
DTEND;TZID=America/Los_Angeles:20260104T123000
DTSTAMP:20260425T054728
CREATED:20241220T192109Z
LAST-MODIFIED:20260104T190310Z
UID:1361-1767524400-1767529800@fbcvallejo.net
SUMMARY:11AM Sunday Live Stream Service
DESCRIPTION:Weekly Bulletins – https://fbcvallejo.net/sermons/bulletins/ \nLivestream Links \nFacebook: https://www.facebook.com/faithbiblechurchvallejo/live \nYouTube: https://youtube.com/channel/UCRvwFe65dkysxaJgD6mHUIw/live  
URL:https://fbcvallejo.net/_event/11am-sunday-live-stream-service-64/
LOCATION:901 Solano Ave\, Vallejo\, CA\, United States
END:VEVENT
BEGIN:VEVENT
DTSTART;TZID=America/Los_Angeles:20260104T110000
DTEND;TZID=America/Los_Angeles:20260104T130000
DTSTAMP:20260425T054728
CREATED:20241216T184821Z
LAST-MODIFIED:20260104T190303Z
UID:1341-1767524400-1767531600@fbcvallejo.net
SUMMARY:Faith Food Fridays
DESCRIPTION:
URL:https://fbcvallejo.net/_event/faith-food-fridays-64/
END:VEVENT
BEGIN:VEVENT
DTSTART;TZID=America/Los_Angeles:20260106T190000
DTEND;TZID=America/Los_Angeles:20260106T210000
DTSTAMP:20260425T054728
CREATED:20250607T180137Z
LAST-MODIFIED:20260106T175939Z
UID:2717-1767726000-1767733200@fbcvallejo.net
SUMMARY:Celebrate Recovery
DESCRIPTION:
URL:https://fbcvallejo.net/_event/celebrate-recovery-53/
END:VEVENT
BEGIN:VEVENT
DTSTART;TZID=America/Los_Angeles:20260107T190000
DTEND;TZID=America/Los_Angeles:20260107T200000
DTSTAMP:20260425T054728
CREATED:20250608T180344Z
LAST-MODIFIED:20260107T180010Z
UID:2722-1767812400-1767816000@fbcvallejo.net
SUMMARY:Prayer Meeting
DESCRIPTION:
URL:https://fbcvallejo.net/_event/prayer-meeting-53/
END:VEVENT
BEGIN:VEVENT
DTSTART;TZID=America/Los_Angeles:20260111T090000
DTEND;TZID=America/Los_Angeles:20260111T103000
DTSTAMP:20260425T054728
CREATED:20241223T193838Z
LAST-MODIFIED:20260106T175941Z
UID:1372-1768122000-1768127400@fbcvallejo.net
SUMMARY:9AM Sunday Service
DESCRIPTION:Weekly Bulletins – https://fbcvallejo.net/sermons/bulletins/ \nMap Directions – https://maps.app.goo.gl/EeDx3fN8phUAtJ8y5
URL:https://fbcvallejo.net/_event/9am-sunday-service-65/
LOCATION:901 Solano Ave\, Vallejo\, CA\, United States
END:VEVENT
BEGIN:VEVENT
DTSTART;TZID=America/Los_Angeles:20260111T110000
DTEND;TZID=America/Los_Angeles:20260111T123000
DTSTAMP:20260425T054728
CREATED:20241223T193838Z
LAST-MODIFIED:20260106T175942Z
UID:1374-1768129200-1768134600@fbcvallejo.net
SUMMARY:11AM Sunday Live Stream Service
DESCRIPTION:Weekly Bulletins – https://fbcvallejo.net/sermons/bulletins/ \nLivestream Links \nFacebook: https://www.facebook.com/faithbiblechurchvallejo/live \nYouTube: https://youtube.com/channel/UCRvwFe65dkysxaJgD6mHUIw/live  
URL:https://fbcvallejo.net/_event/11am-sunday-live-stream-service-65/
LOCATION:901 Solano Ave\, Vallejo\, CA\, United States
END:VEVENT
BEGIN:VEVENT
DTSTART;TZID=America/Los_Angeles:20260111T110000
DTEND;TZID=America/Los_Angeles:20260111T123000
DTSTAMP:20260425T054728
CREATED:20241223T193838Z
LAST-MODIFIED:20260106T175942Z
UID:1375-1768129200-1768134600@fbcvallejo.net
SUMMARY:11AM Sunday Service
DESCRIPTION:Weekly Bulletins – https://fbcvallejo.net/sermons/bulletins/ \nMap Directions – https://maps.app.goo.gl/EeDx3fN8phUAtJ8y5
URL:https://fbcvallejo.net/_event/11am-sunday-service-65/
LOCATION:901 Solano Ave\, Vallejo\, CA\, United States
END:VEVENT
BEGIN:VEVENT
DTSTART;TZID=America/Los_Angeles:20260111T110000
DTEND;TZID=America/Los_Angeles:20260111T123000
DTSTAMP:20260425T054728
CREATED:20241227T220057Z
LAST-MODIFIED:20260106T175945Z
UID:1406-1768129200-1768134600@fbcvallejo.net
SUMMARY:11AM Children's Sunday School
DESCRIPTION:Children’s Sanctuary \nMap Directions – https://maps.app.goo.gl/EeDx3fN8phUAtJ8y5
URL:https://fbcvallejo.net/_event/11am-childrens-sunday-school-65/
LOCATION:901 Solano Ave\, Vallejo\, CA\, United States
END:VEVENT
BEGIN:VEVENT
DTSTART;TZID=America/Los_Angeles:20260111T110000
DTEND;TZID=America/Los_Angeles:20260111T130000
DTSTAMP:20260425T054728
CREATED:20241223T193838Z
LAST-MODIFIED:20260106T175944Z
UID:1373-1768129200-1768136400@fbcvallejo.net
SUMMARY:Faith Food Fridays
DESCRIPTION:
URL:https://fbcvallejo.net/_event/faith-food-fridays-65/
END:VEVENT
BEGIN:VEVENT
DTSTART;TZID=America/Los_Angeles:20260113T190000
DTEND;TZID=America/Los_Angeles:20260113T210000
DTSTAMP:20260425T054728
CREATED:20250609T181709Z
LAST-MODIFIED:20260113T183046Z
UID:2727-1768330800-1768338000@fbcvallejo.net
SUMMARY:Celebrate Recovery
DESCRIPTION:
URL:https://fbcvallejo.net/_event/celebrate-recovery-54/
END:VEVENT
BEGIN:VEVENT
DTSTART;TZID=America/Los_Angeles:20260114T190000
DTEND;TZID=America/Los_Angeles:20260114T200000
DTSTAMP:20260425T054728
CREATED:20250611T182047Z
LAST-MODIFIED:20260114T182946Z
UID:2735-1768417200-1768420800@fbcvallejo.net
SUMMARY:Prayer Meeting
DESCRIPTION:
URL:https://fbcvallejo.net/_event/prayer-meeting-54/
END:VEVENT
BEGIN:VEVENT
DTSTART;TZID=America/Los_Angeles:20260118T090000
DTEND;TZID=America/Los_Angeles:20260118T103000
DTSTAMP:20260425T054728
CREATED:20241229T221509Z
LAST-MODIFIED:20260106T175946Z
UID:1415-1768726800-1768732200@fbcvallejo.net
SUMMARY:9AM Sunday Service
DESCRIPTION:Weekly Bulletins – https://fbcvallejo.net/sermons/bulletins/ \nMap Directions – https://maps.app.goo.gl/EeDx3fN8phUAtJ8y5
URL:https://fbcvallejo.net/_event/9am-sunday-service-66/
LOCATION:901 Solano Ave\, Vallejo\, CA\, United States
END:VEVENT
BEGIN:VEVENT
DTSTART;TZID=America/Los_Angeles:20260118T110000
DTEND;TZID=America/Los_Angeles:20260118T123000
DTSTAMP:20260425T054728
CREATED:20241229T221509Z
LAST-MODIFIED:20260106T175947Z
UID:1416-1768734000-1768739400@fbcvallejo.net
SUMMARY:11AM Sunday Service
DESCRIPTION:Weekly Bulletins – https://fbcvallejo.net/sermons/bulletins/ \nMap Directions – https://maps.app.goo.gl/EeDx3fN8phUAtJ8y5
URL:https://fbcvallejo.net/_event/11am-sunday-service-66/
LOCATION:901 Solano Ave\, Vallejo\, CA\, United States
END:VEVENT
BEGIN:VEVENT
DTSTART;TZID=America/Los_Angeles:20260118T110000
DTEND;TZID=America/Los_Angeles:20260118T123000
DTSTAMP:20260425T054728
CREATED:20250614T185255Z
LAST-MODIFIED:20260106T175946Z
UID:2746-1768734000-1768739400@fbcvallejo.net
SUMMARY:11AM Children's Sunday School
DESCRIPTION:Children’s Sanctuary \nMap Directions – https://maps.app.goo.gl/EeDx3fN8phUAtJ8y5
URL:https://fbcvallejo.net/_event/11am-childrens-sunday-school-66/
LOCATION:901 Solano Ave\, Vallejo\, CA\, United States
END:VEVENT
BEGIN:VEVENT
DTSTART;TZID=America/Los_Angeles:20260118T110000
DTEND;TZID=America/Los_Angeles:20260118T123000
DTSTAMP:20260425T054728
CREATED:20250615T190112Z
LAST-MODIFIED:20260106T175947Z
UID:2752-1768734000-1768739400@fbcvallejo.net
SUMMARY:11AM Sunday Live Stream Service
DESCRIPTION:Weekly Bulletins – https://fbcvallejo.net/sermons/bulletins/ \nLivestream Links \nFacebook: https://www.facebook.com/faithbiblechurchvallejo/live \nYouTube: https://youtube.com/channel/UCRvwFe65dkysxaJgD6mHUIw/live  
URL:https://fbcvallejo.net/_event/11am-sunday-live-stream-service-66/
LOCATION:901 Solano Ave\, Vallejo\, CA\, United States
END:VEVENT
BEGIN:VEVENT
DTSTART;TZID=America/Los_Angeles:20260118T110000
DTEND;TZID=America/Los_Angeles:20260118T130000
DTSTAMP:20260425T054728
CREATED:20250615T190112Z
LAST-MODIFIED:20260106T175947Z
UID:2751-1768734000-1768741200@fbcvallejo.net
SUMMARY:Faith Food Fridays
DESCRIPTION:
URL:https://fbcvallejo.net/_event/faith-food-fridays-66/
END:VEVENT
BEGIN:VEVENT
DTSTART;TZID=America/Los_Angeles:20260120T190000
DTEND;TZID=America/Los_Angeles:20260120T210000
DTSTAMP:20260425T054728
CREATED:20250619T171556Z
LAST-MODIFIED:20260120T193042Z
UID:3590-1768935600-1768942800@fbcvallejo.net
SUMMARY:Celebrate Recovery
DESCRIPTION:
URL:https://fbcvallejo.net/_event/celebrate-recovery-55/
END:VEVENT
BEGIN:VEVENT
DTSTART;TZID=America/Los_Angeles:20260121T190000
DTEND;TZID=America/Los_Angeles:20260121T200000
DTSTAMP:20260425T054728
CREATED:20250619T171557Z
LAST-MODIFIED:20260121T193415Z
UID:3591-1769022000-1769025600@fbcvallejo.net
SUMMARY:Prayer Meeting
DESCRIPTION:
URL:https://fbcvallejo.net/_event/prayer-meeting-55/
END:VEVENT
BEGIN:VEVENT
DTSTART;TZID=America/Los_Angeles:20260123T190000
DTEND;TZID=America/Los_Angeles:20260123T213000
DTSTAMP:20260425T054728
CREATED:20250619T171557Z
LAST-MODIFIED:20260123T195951Z
UID:3592-1769194800-1769203800@fbcvallejo.net
SUMMARY:Youth Bible Study Kick-Off
DESCRIPTION:
URL:https://fbcvallejo.net/_event/youth-bible-study-kick-off-3/
LOCATION:Fellowship Hall
END:VEVENT
BEGIN:VEVENT
DTSTART;TZID=America/Los_Angeles:20260124T000000
DTEND;TZID=America/Los_Angeles:20260124T235959
DTSTAMP:20260425T054728
CREATED:20251214T121904Z
LAST-MODIFIED:20260124T200159Z
UID:11325-1769212800-1769299199@fbcvallejo.net
SUMMARY:Men's Fellowship Outing - Boxing Seminar
DESCRIPTION:
URL:https://fbcvallejo.net/_event/mens-fellowship-outing-boxing-seminar/
END:VEVENT
END:VCALENDAR