BEGIN:VCALENDAR
VERSION:2.0
PRODID:-//Faith Bible Church of Vallejo - ECPv6.15.20//NONSGML v1.0//EN
CALSCALE:GREGORIAN
METHOD:PUBLISH
X-WR-CALNAME:Faith Bible Church of Vallejo
X-ORIGINAL-URL:https://fbcvallejo.net
X-WR-CALDESC:Events for Faith Bible Church of Vallejo
REFRESH-INTERVAL;VALUE=DURATION:PT1H
X-Robots-Tag:noindex
X-PUBLISHED-TTL:PT1H
BEGIN:VTIMEZONE
TZID:America/Los_Angeles
BEGIN:DAYLIGHT
TZOFFSETFROM:-0800
TZOFFSETTO:-0700
TZNAME:PDT
DTSTART:20260308T100000
END:DAYLIGHT
BEGIN:STANDARD
TZOFFSETFROM:-0700
TZOFFSETTO:-0800
TZNAME:PST
DTSTART:20261101T090000
END:STANDARD
BEGIN:DAYLIGHT
TZOFFSETFROM:-0800
TZOFFSETTO:-0700
TZNAME:PDT
DTSTART:20270314T100000
END:DAYLIGHT
BEGIN:STANDARD
TZOFFSETFROM:-0700
TZOFFSETTO:-0800
TZNAME:PST
DTSTART:20271107T090000
END:STANDARD
BEGIN:DAYLIGHT
TZOFFSETFROM:-0800
TZOFFSETTO:-0700
TZNAME:PDT
DTSTART:20280312T100000
END:DAYLIGHT
BEGIN:STANDARD
TZOFFSETFROM:-0700
TZOFFSETTO:-0800
TZNAME:PST
DTSTART:20281105T090000
END:STANDARD
BEGIN:DAYLIGHT
TZOFFSETFROM:-0800
TZOFFSETTO:-0700
TZNAME:PDT
DTSTART:20290311T100000
END:DAYLIGHT
BEGIN:STANDARD
TZOFFSETFROM:-0700
TZOFFSETTO:-0800
TZNAME:PST
DTSTART:20291104T090000
END:STANDARD
END:VTIMEZONE
BEGIN:VEVENT
DTSTART;TZID=America/Los_Angeles:20271215T190000
DTEND;TZID=America/Los_Angeles:20271215T200000
DTSTAMP:20260425T033305
CREATED:20260205T204631Z
LAST-MODIFIED:20260224T230555Z
UID:12215-1828897200-1828900800@fbcvallejo.net
SUMMARY:Prayer Meeting
DESCRIPTION:
URL:https://fbcvallejo.net/_event/prayer-meeting-154/
END:VEVENT
BEGIN:VEVENT
DTSTART;TZID=America/Los_Angeles:20271221T190000
DTEND;TZID=America/Los_Angeles:20271221T210000
DTSTAMP:20260425T033305
CREATED:20260206T204627Z
LAST-MODIFIED:20260424T235850Z
UID:12220-1829415600-1829422800@fbcvallejo.net
SUMMARY:Celebrate Recovery
DESCRIPTION:
URL:https://fbcvallejo.net/_event/celebrate-recovery-155/
END:VEVENT
BEGIN:VEVENT
DTSTART;TZID=America/Los_Angeles:20271222T190000
DTEND;TZID=America/Los_Angeles:20271222T200000
DTSTAMP:20260425T033305
CREATED:20260207T210823Z
LAST-MODIFIED:20260224T230556Z
UID:12225-1829502000-1829505600@fbcvallejo.net
SUMMARY:Prayer Meeting
DESCRIPTION:
URL:https://fbcvallejo.net/_event/prayer-meeting-155/
END:VEVENT
BEGIN:VEVENT
DTSTART;TZID=America/Los_Angeles:20271228T190000
DTEND;TZID=America/Los_Angeles:20271228T210000
DTSTAMP:20260425T033305
CREATED:20260211T211703Z
LAST-MODIFIED:20260424T235850Z
UID:12239-1830020400-1830027600@fbcvallejo.net
SUMMARY:Celebrate Recovery
DESCRIPTION:
URL:https://fbcvallejo.net/_event/celebrate-recovery-156/
END:VEVENT
BEGIN:VEVENT
DTSTART;TZID=America/Los_Angeles:20271229T190000
DTEND;TZID=America/Los_Angeles:20271229T200000
DTSTAMP:20260425T033305
CREATED:20260212T211530Z
LAST-MODIFIED:20260224T230556Z
UID:12245-1830106800-1830110400@fbcvallejo.net
SUMMARY:Prayer Meeting
DESCRIPTION:
URL:https://fbcvallejo.net/_event/prayer-meeting-156/
END:VEVENT
BEGIN:VEVENT
DTSTART;TZID=America/Los_Angeles:20280102T000000
DTEND;TZID=America/Los_Angeles:20280102T235959
DTSTAMP:20260425T033305
CREATED:20260214T213139Z
LAST-MODIFIED:20260424T235850Z
UID:12253-1830384000-1830470399@fbcvallejo.net
SUMMARY:Communion
DESCRIPTION:
URL:https://fbcvallejo.net/_event/communion-47/
END:VEVENT
BEGIN:VEVENT
DTSTART;TZID=America/Los_Angeles:20280104T190000
DTEND;TZID=America/Los_Angeles:20280104T210000
DTSTAMP:20260425T033305
CREATED:20260218T220608Z
LAST-MODIFIED:20260424T235850Z
UID:12267-1830625200-1830632400@fbcvallejo.net
SUMMARY:Celebrate Recovery
DESCRIPTION:
URL:https://fbcvallejo.net/_event/celebrate-recovery-157/
END:VEVENT
BEGIN:VEVENT
DTSTART;TZID=America/Los_Angeles:20280105T190000
DTEND;TZID=America/Los_Angeles:20280105T200000
DTSTAMP:20260425T033305
CREATED:20260219T221709Z
LAST-MODIFIED:20260224T230556Z
UID:12272-1830711600-1830715200@fbcvallejo.net
SUMMARY:Prayer Meeting
DESCRIPTION:
URL:https://fbcvallejo.net/_event/prayer-meeting-157/
END:VEVENT
BEGIN:VEVENT
DTSTART;TZID=America/Los_Angeles:20280106T193000
DTEND;TZID=America/Los_Angeles:20280106T203000
DTSTAMP:20260425T033305
CREATED:20260221T224031Z
LAST-MODIFIED:20260424T235850Z
UID:12280-1830799800-1830803400@fbcvallejo.net
SUMMARY:Women's Prayer Meeting
DESCRIPTION:
URL:https://fbcvallejo.net/_event/womens-prayer-meeting-39/
LOCATION:ZOOM
END:VEVENT
BEGIN:VEVENT
DTSTART;TZID=America/Los_Angeles:20280111T190000
DTEND;TZID=America/Los_Angeles:20280111T210000
DTSTAMP:20260425T033305
CREATED:20260222T224953Z
LAST-MODIFIED:20260424T235850Z
UID:12285-1831230000-1831237200@fbcvallejo.net
SUMMARY:Celebrate Recovery
DESCRIPTION:
URL:https://fbcvallejo.net/_event/celebrate-recovery-158/
END:VEVENT
BEGIN:VEVENT
DTSTART;TZID=America/Los_Angeles:20280118T190000
DTEND;TZID=America/Los_Angeles:20280118T210000
DTSTAMP:20260425T033305
CREATED:20260225T231947Z
LAST-MODIFIED:20260424T235850Z
UID:12299-1831834800-1831842000@fbcvallejo.net
SUMMARY:Celebrate Recovery
DESCRIPTION:
URL:https://fbcvallejo.net/_event/celebrate-recovery-159/
END:VEVENT
BEGIN:VEVENT
DTSTART;TZID=America/Los_Angeles:20280125T190000
DTEND;TZID=America/Los_Angeles:20280125T210000
DTSTAMP:20260425T033305
CREATED:20260225T231947Z
LAST-MODIFIED:20260424T235851Z
UID:12300-1832439600-1832446800@fbcvallejo.net
SUMMARY:Celebrate Recovery
DESCRIPTION:
URL:https://fbcvallejo.net/_event/celebrate-recovery-160/
END:VEVENT
BEGIN:VEVENT
DTSTART;TZID=America/Los_Angeles:20280201T190000
DTEND;TZID=America/Los_Angeles:20280201T210000
DTSTAMP:20260425T033305
CREATED:20260225T231947Z
LAST-MODIFIED:20260424T235851Z
UID:12301-1833044400-1833051600@fbcvallejo.net
SUMMARY:Celebrate Recovery
DESCRIPTION:
URL:https://fbcvallejo.net/_event/celebrate-recovery-161/
END:VEVENT
BEGIN:VEVENT
DTSTART;TZID=America/Los_Angeles:20280203T193000
DTEND;TZID=America/Los_Angeles:20280203T203000
DTSTAMP:20260425T033305
CREATED:20260225T231947Z
LAST-MODIFIED:20260424T235851Z
UID:12302-1833219000-1833222600@fbcvallejo.net
SUMMARY:Women's Prayer Meeting
DESCRIPTION:
URL:https://fbcvallejo.net/_event/womens-prayer-meeting-40/
LOCATION:ZOOM
END:VEVENT
BEGIN:VEVENT
DTSTART;TZID=America/Los_Angeles:20280206T000000
DTEND;TZID=America/Los_Angeles:20280206T235959
DTSTAMP:20260425T033305
CREATED:20260225T231947Z
LAST-MODIFIED:20260424T235851Z
UID:12303-1833408000-1833494399@fbcvallejo.net
SUMMARY:Communion
DESCRIPTION:
URL:https://fbcvallejo.net/_event/communion-48/
END:VEVENT
BEGIN:VEVENT
DTSTART;TZID=America/Los_Angeles:20280208T190000
DTEND;TZID=America/Los_Angeles:20280208T210000
DTSTAMP:20260425T033305
CREATED:20260225T231947Z
LAST-MODIFIED:20260424T235851Z
UID:12304-1833649200-1833656400@fbcvallejo.net
SUMMARY:Celebrate Recovery
DESCRIPTION:
URL:https://fbcvallejo.net/_event/celebrate-recovery-162/
END:VEVENT
BEGIN:VEVENT
DTSTART;TZID=America/Los_Angeles:20280215T190000
DTEND;TZID=America/Los_Angeles:20280215T210000
DTSTAMP:20260425T033305
CREATED:20260225T231947Z
LAST-MODIFIED:20260424T235851Z
UID:12305-1834254000-1834261200@fbcvallejo.net
SUMMARY:Celebrate Recovery
DESCRIPTION:
URL:https://fbcvallejo.net/_event/celebrate-recovery-163/
END:VEVENT
BEGIN:VEVENT
DTSTART;TZID=America/Los_Angeles:20280222T190000
DTEND;TZID=America/Los_Angeles:20280222T210000
DTSTAMP:20260425T033305
CREATED:20260225T231948Z
LAST-MODIFIED:20260424T235852Z
UID:12306-1834858800-1834866000@fbcvallejo.net
SUMMARY:Celebrate Recovery
DESCRIPTION:
URL:https://fbcvallejo.net/_event/celebrate-recovery-164/
END:VEVENT
BEGIN:VEVENT
DTSTART;TZID=America/Los_Angeles:20280229T190000
DTEND;TZID=America/Los_Angeles:20280229T210000
DTSTAMP:20260425T033305
CREATED:20260301T233508Z
LAST-MODIFIED:20260424T235852Z
UID:12327-1835463600-1835470800@fbcvallejo.net
SUMMARY:Celebrate Recovery
DESCRIPTION:
URL:https://fbcvallejo.net/_event/celebrate-recovery-165/
END:VEVENT
BEGIN:VEVENT
DTSTART;TZID=America/Los_Angeles:20280302T193000
DTEND;TZID=America/Los_Angeles:20280302T203000
DTSTAMP:20260425T033305
CREATED:20260303T233629Z
LAST-MODIFIED:20260424T235852Z
UID:12335-1835638200-1835641800@fbcvallejo.net
SUMMARY:Women's Prayer Meeting
DESCRIPTION:
URL:https://fbcvallejo.net/_event/womens-prayer-meeting-41/
LOCATION:ZOOM
END:VEVENT
BEGIN:VEVENT
DTSTART;TZID=America/Los_Angeles:20280305T000000
DTEND;TZID=America/Los_Angeles:20280305T235959
DTSTAMP:20260425T033305
CREATED:20260306T180543Z
LAST-MODIFIED:20260424T235852Z
UID:12345-1835827200-1835913599@fbcvallejo.net
SUMMARY:Communion
DESCRIPTION:
URL:https://fbcvallejo.net/_event/communion-49/
END:VEVENT
BEGIN:VEVENT
DTSTART;TZID=America/Los_Angeles:20280307T190000
DTEND;TZID=America/Los_Angeles:20280307T210000
DTSTAMP:20260425T033305
CREATED:20260308T182248Z
LAST-MODIFIED:20260424T235852Z
UID:12354-1836068400-1836075600@fbcvallejo.net
SUMMARY:Celebrate Recovery
DESCRIPTION:
URL:https://fbcvallejo.net/_event/celebrate-recovery-166/
END:VEVENT
BEGIN:VEVENT
DTSTART;TZID=America/Los_Angeles:20280314T190000
DTEND;TZID=America/Los_Angeles:20280314T210000
DTSTAMP:20260425T033305
CREATED:20260315T190824Z
LAST-MODIFIED:20260424T235852Z
UID:12377-1836673200-1836680400@fbcvallejo.net
SUMMARY:Celebrate Recovery
DESCRIPTION:
URL:https://fbcvallejo.net/_event/celebrate-recovery-167/
END:VEVENT
BEGIN:VEVENT
DTSTART;TZID=America/Los_Angeles:20280321T190000
DTEND;TZID=America/Los_Angeles:20280321T210000
DTSTAMP:20260425T033305
CREATED:20260325T201813Z
LAST-MODIFIED:20260424T235852Z
UID:12404-1837278000-1837285200@fbcvallejo.net
SUMMARY:Celebrate Recovery
DESCRIPTION:
URL:https://fbcvallejo.net/_event/celebrate-recovery-168/
END:VEVENT
BEGIN:VEVENT
DTSTART;TZID=America/Los_Angeles:20280328T190000
DTEND;TZID=America/Los_Angeles:20280328T210000
DTSTAMP:20260425T033305
CREATED:20260329T211238Z
LAST-MODIFIED:20260424T235853Z
UID:12418-1837882800-1837890000@fbcvallejo.net
SUMMARY:Celebrate Recovery
DESCRIPTION:
URL:https://fbcvallejo.net/_event/celebrate-recovery-169/
END:VEVENT
BEGIN:VEVENT
DTSTART;TZID=America/Los_Angeles:20280402T000000
DTEND;TZID=America/Los_Angeles:20280402T235959
DTSTAMP:20260425T033305
CREATED:20260402T214515Z
LAST-MODIFIED:20260424T235853Z
UID:12453-1838246400-1838332799@fbcvallejo.net
SUMMARY:Communion
DESCRIPTION:
URL:https://fbcvallejo.net/_event/communion-50/
END:VEVENT
BEGIN:VEVENT
DTSTART;TZID=America/Los_Angeles:20280404T190000
DTEND;TZID=America/Los_Angeles:20280404T210000
DTSTAMP:20260425T033305
CREATED:20260405T220114Z
LAST-MODIFIED:20260424T235853Z
UID:12739-1838487600-1838494800@fbcvallejo.net
SUMMARY:Celebrate Recovery
DESCRIPTION:
URL:https://fbcvallejo.net/_event/celebrate-recovery-170/
END:VEVENT
BEGIN:VEVENT
DTSTART;TZID=America/Los_Angeles:20280406T193000
DTEND;TZID=America/Los_Angeles:20280406T203000
DTSTAMP:20260425T033305
CREATED:20260407T220248Z
LAST-MODIFIED:20260424T235853Z
UID:12929-1838662200-1838665800@fbcvallejo.net
SUMMARY:Women's Prayer Meeting
DESCRIPTION:
URL:https://fbcvallejo.net/_event/womens-prayer-meeting-42/
LOCATION:ZOOM
END:VEVENT
BEGIN:VEVENT
DTSTART;TZID=America/Los_Angeles:20280411T190000
DTEND;TZID=America/Los_Angeles:20280411T210000
DTSTAMP:20260425T033305
CREATED:20260412T224555Z
LAST-MODIFIED:20260424T235853Z
UID:13143-1839092400-1839099600@fbcvallejo.net
SUMMARY:Celebrate Recovery
DESCRIPTION:
URL:https://fbcvallejo.net/_event/celebrate-recovery-171/
END:VEVENT
BEGIN:VEVENT
DTSTART;TZID=America/Los_Angeles:20280418T190000
DTEND;TZID=America/Los_Angeles:20280418T210000
DTSTAMP:20260425T033305
CREATED:20260419T232757Z
LAST-MODIFIED:20260424T235853Z
UID:13166-1839697200-1839704400@fbcvallejo.net
SUMMARY:Celebrate Recovery
DESCRIPTION:
URL:https://fbcvallejo.net/_event/celebrate-recovery-172/
END:VEVENT
END:VCALENDAR