BEGIN:VCALENDAR
VERSION:2.0
PRODID:-//Faith Bible Church of Vallejo - ECPv6.15.20//NONSGML v1.0//EN
CALSCALE:GREGORIAN
METHOD:PUBLISH
X-WR-CALNAME:Faith Bible Church of Vallejo
X-ORIGINAL-URL:https://fbcvallejo.net
X-WR-CALDESC:Events for Faith Bible Church of Vallejo
REFRESH-INTERVAL;VALUE=DURATION:PT1H
X-Robots-Tag:noindex
X-PUBLISHED-TTL:PT1H
BEGIN:VTIMEZONE
TZID:America/Los_Angeles
BEGIN:DAYLIGHT
TZOFFSETFROM:-0800
TZOFFSETTO:-0700
TZNAME:PDT
DTSTART:20240310T100000
END:DAYLIGHT
BEGIN:STANDARD
TZOFFSETFROM:-0700
TZOFFSETTO:-0800
TZNAME:PST
DTSTART:20241103T090000
END:STANDARD
BEGIN:DAYLIGHT
TZOFFSETFROM:-0800
TZOFFSETTO:-0700
TZNAME:PDT
DTSTART:20250309T100000
END:DAYLIGHT
BEGIN:STANDARD
TZOFFSETFROM:-0700
TZOFFSETTO:-0800
TZNAME:PST
DTSTART:20251102T090000
END:STANDARD
BEGIN:DAYLIGHT
TZOFFSETFROM:-0800
TZOFFSETTO:-0700
TZNAME:PDT
DTSTART:20260308T100000
END:DAYLIGHT
BEGIN:STANDARD
TZOFFSETFROM:-0700
TZOFFSETTO:-0800
TZNAME:PST
DTSTART:20261101T090000
END:STANDARD
END:VTIMEZONE
BEGIN:VEVENT
DTSTART;TZID=America/Los_Angeles:20250801T190000
DTEND;TZID=America/Los_Angeles:20250801T220000
DTSTAMP:20260424T093106
CREATED:20250102T223305Z
LAST-MODIFIED:20250717T204703Z
UID:1618-1754074800-1754085600@fbcvallejo.net
SUMMARY:Acoustic Worship Night
DESCRIPTION:
URL:https://fbcvallejo.net/_event/acoustic-worship-night/
LOCATION:Fellowship Hall
END:VEVENT
BEGIN:VEVENT
DTSTART;TZID=America/Los_Angeles:20250802T000000
DTEND;TZID=America/Los_Angeles:20250802T235959
DTSTAMP:20260424T093106
CREATED:20250106T230015Z
LAST-MODIFIED:20250802T220024Z
UID:1805-1754092800-1754179199@fbcvallejo.net
SUMMARY:Church Picnic
DESCRIPTION:
URL:https://fbcvallejo.net/_event/church-picnic/
END:VEVENT
BEGIN:VEVENT
DTSTART;TZID=America/Los_Angeles:20250802T000000
DTEND;TZID=America/Los_Angeles:20250905T235959
DTSTAMP:20260424T093106
CREATED:20250102T223310Z
LAST-MODIFIED:20250904T123151Z
UID:1623-1754092800-1757116799@fbcvallejo.net
SUMMARY:Break (No Youth)
DESCRIPTION:
URL:https://fbcvallejo.net/_event/break-no-youth/
END:VEVENT
BEGIN:VEVENT
DTSTART;TZID=America/Los_Angeles:20250803T000000
DTEND;TZID=America/Los_Angeles:20250803T235959
DTSTAMP:20260424T093106
CREATED:20241014T005919Z
LAST-MODIFIED:20250803T220028Z
UID:605-1754179200-1754265599@fbcvallejo.net
SUMMARY:Communion
DESCRIPTION:
URL:https://fbcvallejo.net/_event/communion-10/
END:VEVENT
BEGIN:VEVENT
DTSTART;TZID=America/Los_Angeles:20250803T090000
DTEND;TZID=America/Los_Angeles:20250803T103000
DTSTAMP:20260424T093106
CREATED:20241014T005918Z
LAST-MODIFIED:20250802T220024Z
UID:601-1754211600-1754217000@fbcvallejo.net
SUMMARY:9AM Sunday Service
DESCRIPTION:Weekly Bulletins – https://fbcvallejo.net/sermons/bulletins/ \nMap Directions – https://maps.app.goo.gl/EeDx3fN8phUAtJ8y5
URL:https://fbcvallejo.net/_event/9am-sunday-service-42/
LOCATION:901 Solano Ave\, Vallejo\, CA\, United States
END:VEVENT
BEGIN:VEVENT
DTSTART;TZID=America/Los_Angeles:20250803T110000
DTEND;TZID=America/Los_Angeles:20250803T123000
DTSTAMP:20260424T093106
CREATED:20241014T005918Z
LAST-MODIFIED:20250802T220024Z
UID:602-1754218800-1754224200@fbcvallejo.net
SUMMARY:11AM Children's Sunday School
DESCRIPTION:Children’s Sanctuary \nMap Directions – https://maps.app.goo.gl/EeDx3fN8phUAtJ8y5
URL:https://fbcvallejo.net/_event/11am-childrens-sunday-school-42/
LOCATION:901 Solano Ave\, Vallejo\, CA\, United States
END:VEVENT
BEGIN:VEVENT
DTSTART;TZID=America/Los_Angeles:20250803T110000
DTEND;TZID=America/Los_Angeles:20250803T123000
DTSTAMP:20260424T093106
CREATED:20241014T005918Z
LAST-MODIFIED:20250802T220024Z
UID:603-1754218800-1754224200@fbcvallejo.net
SUMMARY:11AM Sunday Service
DESCRIPTION:Weekly Bulletins – https://fbcvallejo.net/sermons/bulletins/ \nMap Directions – https://maps.app.goo.gl/EeDx3fN8phUAtJ8y5
URL:https://fbcvallejo.net/_event/11am-sunday-service-42/
LOCATION:901 Solano Ave\, Vallejo\, CA\, United States
END:VEVENT
BEGIN:VEVENT
DTSTART;TZID=America/Los_Angeles:20250803T110000
DTEND;TZID=America/Los_Angeles:20250803T123000
DTSTAMP:20260424T093106
CREATED:20241014T005919Z
LAST-MODIFIED:20250802T220024Z
UID:606-1754218800-1754224200@fbcvallejo.net
SUMMARY:11AM Sunday Live Stream Service
DESCRIPTION:Weekly Bulletins – https://fbcvallejo.net/sermons/bulletins/ \nLivestream Links \nFacebook: https://www.facebook.com/faithbiblechurchvallejo/live \nYouTube: https://youtube.com/channel/UCRvwFe65dkysxaJgD6mHUIw/live  
URL:https://fbcvallejo.net/_event/11am-sunday-live-stream-service-42/
LOCATION:901 Solano Ave\, Vallejo\, CA\, United States
END:VEVENT
BEGIN:VEVENT
DTSTART;TZID=America/Los_Angeles:20250803T110000
DTEND;TZID=America/Los_Angeles:20250803T130000
DTSTAMP:20260424T093106
CREATED:20241014T005918Z
LAST-MODIFIED:20250802T220025Z
UID:604-1754218800-1754226000@fbcvallejo.net
SUMMARY:Faith Food Fridays
DESCRIPTION:
URL:https://fbcvallejo.net/_event/faith-food-fridays-42/
END:VEVENT
BEGIN:VEVENT
DTSTART;TZID=America/Los_Angeles:20250805T190000
DTEND;TZID=America/Los_Angeles:20250805T210000
DTSTAMP:20260424T093106
CREATED:20250115T231939Z
LAST-MODIFIED:20250805T220212Z
UID:1834-1754420400-1754427600@fbcvallejo.net
SUMMARY:Celebrate Recovery
DESCRIPTION:
URL:https://fbcvallejo.net/_event/celebrate-recovery-31/
END:VEVENT
BEGIN:VEVENT
DTSTART;TZID=America/Los_Angeles:20250806T190000
DTEND;TZID=America/Los_Angeles:20250806T200000
DTSTAMP:20260424T093106
CREATED:20241231T222723Z
LAST-MODIFIED:20250806T220107Z
UID:1464-1754506800-1754510400@fbcvallejo.net
SUMMARY:Prayer Meeting
DESCRIPTION:
URL:https://fbcvallejo.net/_event/prayer-meeting-31/
END:VEVENT
BEGIN:VEVENT
DTSTART;TZID=America/Los_Angeles:20250807T193000
DTEND;TZID=America/Los_Angeles:20250807T203000
DTSTAMP:20260424T093106
CREATED:20241014T005919Z
LAST-MODIFIED:20250807T215930Z
UID:607-1754595000-1754598600@fbcvallejo.net
SUMMARY:Women's Prayer Meeting
DESCRIPTION:
URL:https://fbcvallejo.net/_event/womens-prayer-meeting-10/
LOCATION:ZOOM
END:VEVENT
BEGIN:VEVENT
DTSTART;TZID=America/Los_Angeles:20250809T100000
DTEND;TZID=America/Los_Angeles:20250809T120000
DTSTAMP:20260424T093106
CREATED:20250102T223305Z
LAST-MODIFIED:20250808T220145Z
UID:1619-1754733600-1754740800@fbcvallejo.net
SUMMARY:Men's Teaching Hour Meeting #3 - Coffee/Prayer
DESCRIPTION:
URL:https://fbcvallejo.net/_event/mens-fellowship-outing-bbq/
LOCATION:Faith Bible Church of Vallejo\, 901 Solano Ave\, Vallejo\, CA\, United States
END:VEVENT
BEGIN:VEVENT
DTSTART;TZID=America/Los_Angeles:20250810T090000
DTEND;TZID=America/Los_Angeles:20250810T103000
DTSTAMP:20260424T093106
CREATED:20241014T005919Z
LAST-MODIFIED:20250809T221158Z
UID:608-1754816400-1754821800@fbcvallejo.net
SUMMARY:9AM Sunday Service
DESCRIPTION:Weekly Bulletins – https://fbcvallejo.net/sermons/bulletins/ \nMap Directions – https://maps.app.goo.gl/EeDx3fN8phUAtJ8y5
URL:https://fbcvallejo.net/_event/9am-sunday-service-43/
LOCATION:901 Solano Ave\, Vallejo\, CA\, United States
END:VEVENT
BEGIN:VEVENT
DTSTART;TZID=America/Los_Angeles:20250810T110000
DTEND;TZID=America/Los_Angeles:20250810T123000
DTSTAMP:20260424T093106
CREATED:20241014T005920Z
LAST-MODIFIED:20250809T221158Z
UID:612-1754823600-1754829000@fbcvallejo.net
SUMMARY:11AM Sunday Service
DESCRIPTION:Weekly Bulletins – https://fbcvallejo.net/sermons/bulletins/ \nMap Directions – https://maps.app.goo.gl/EeDx3fN8phUAtJ8y5
URL:https://fbcvallejo.net/_event/11am-sunday-service-43/
LOCATION:901 Solano Ave\, Vallejo\, CA\, United States
END:VEVENT
BEGIN:VEVENT
DTSTART;TZID=America/Los_Angeles:20250810T110000
DTEND;TZID=America/Los_Angeles:20250810T123000
DTSTAMP:20260424T093106
CREATED:20241014T005920Z
LAST-MODIFIED:20250809T221158Z
UID:609-1754823600-1754829000@fbcvallejo.net
SUMMARY:11AM Sunday Live Stream Service
DESCRIPTION:Weekly Bulletins – https://fbcvallejo.net/sermons/bulletins/ \nLivestream Links \nFacebook: https://www.facebook.com/faithbiblechurchvallejo/live \nYouTube: https://youtube.com/channel/UCRvwFe65dkysxaJgD6mHUIw/live  
URL:https://fbcvallejo.net/_event/11am-sunday-live-stream-service-43/
LOCATION:901 Solano Ave\, Vallejo\, CA\, United States
END:VEVENT
BEGIN:VEVENT
DTSTART;TZID=America/Los_Angeles:20250810T110000
DTEND;TZID=America/Los_Angeles:20250810T123000
DTSTAMP:20260424T093106
CREATED:20241014T005920Z
LAST-MODIFIED:20250809T221158Z
UID:611-1754823600-1754829000@fbcvallejo.net
SUMMARY:11AM Children's Sunday School
DESCRIPTION:Children’s Sanctuary \nMap Directions – https://maps.app.goo.gl/EeDx3fN8phUAtJ8y5
URL:https://fbcvallejo.net/_event/11am-childrens-sunday-school-43/
LOCATION:901 Solano Ave\, Vallejo\, CA\, United States
END:VEVENT
BEGIN:VEVENT
DTSTART;TZID=America/Los_Angeles:20250810T110000
DTEND;TZID=America/Los_Angeles:20250810T130000
DTSTAMP:20260424T093106
CREATED:20241014T005920Z
LAST-MODIFIED:20250809T221158Z
UID:610-1754823600-1754830800@fbcvallejo.net
SUMMARY:Faith Food Fridays
DESCRIPTION:
URL:https://fbcvallejo.net/_event/faith-food-fridays-43/
END:VEVENT
BEGIN:VEVENT
DTSTART;TZID=America/Los_Angeles:20250810T130000
DTEND;TZID=America/Los_Angeles:20250810T140000
DTSTAMP:20260424T093106
CREATED:20250102T223307Z
LAST-MODIFIED:20250809T221158Z
UID:1620-1754830800-1754834400@fbcvallejo.net
SUMMARY:Elders\, Leaders & Ministry Workers Quarterly Meeting
DESCRIPTION:
URL:https://fbcvallejo.net/_event/elders-leaders-ministry-workers-quarterly-meeting-3/
END:VEVENT
BEGIN:VEVENT
DTSTART;TZID=America/Los_Angeles:20250812T190000
DTEND;TZID=America/Los_Angeles:20250812T200000
DTSTAMP:20260424T093106
CREATED:20250103T224926Z
LAST-MODIFIED:20250812T222533Z
UID:1704-1755025200-1755028800@fbcvallejo.net
SUMMARY:The Veritas School Board Meeting
DESCRIPTION:
URL:https://fbcvallejo.net/_event/the-veritas-school-board-meeting-16/
END:VEVENT
BEGIN:VEVENT
DTSTART;TZID=America/Los_Angeles:20250812T190000
DTEND;TZID=America/Los_Angeles:20250812T210000
DTSTAMP:20260424T093106
CREATED:20250122T233209Z
LAST-MODIFIED:20250812T222534Z
UID:1859-1755025200-1755032400@fbcvallejo.net
SUMMARY:Celebrate Recovery
DESCRIPTION:
URL:https://fbcvallejo.net/_event/celebrate-recovery-32/
END:VEVENT
BEGIN:VEVENT
DTSTART;TZID=America/Los_Angeles:20250813T000000
DTEND;TZID=America/Los_Angeles:20250813T235959
DTSTAMP:20260424T093106
CREATED:20250103T224926Z
LAST-MODIFIED:20250813T223338Z
UID:1703-1755043200-1755129599@fbcvallejo.net
SUMMARY:MSPK - First Day of School
DESCRIPTION:
URL:https://fbcvallejo.net/_event/mspk-first-day-of-school/
END:VEVENT
BEGIN:VEVENT
DTSTART;TZID=America/Los_Angeles:20250813T190000
DTEND;TZID=America/Los_Angeles:20250813T200000
DTSTAMP:20260424T093106
CREATED:20241231T222724Z
LAST-MODIFIED:20250813T223338Z
UID:1465-1755111600-1755115200@fbcvallejo.net
SUMMARY:Prayer Meeting
DESCRIPTION:
URL:https://fbcvallejo.net/_event/prayer-meeting-32/
END:VEVENT
BEGIN:VEVENT
DTSTART;TZID=America/Los_Angeles:20250816T000000
DTEND;TZID=America/Los_Angeles:20250816T235959
DTSTAMP:20260424T093106
CREATED:20250102T223307Z
LAST-MODIFIED:20250816T223013Z
UID:1621-1755302400-1755388799@fbcvallejo.net
SUMMARY:Annual Women Makers Event
DESCRIPTION:
URL:https://fbcvallejo.net/_event/annual-women-makers-event/
END:VEVENT
BEGIN:VEVENT
DTSTART;TZID=America/Los_Angeles:20250817T090000
DTEND;TZID=America/Los_Angeles:20250817T100000
DTSTAMP:20260424T093106
CREATED:20250102T223307Z
LAST-MODIFIED:20250816T223016Z
UID:1622-1755421200-1755424800@fbcvallejo.net
SUMMARY:Sunday School Coordinator Meeting
DESCRIPTION:
URL:https://fbcvallejo.net/_event/sunday-school-coordinator-meeting-3/
END:VEVENT
BEGIN:VEVENT
DTSTART;TZID=America/Los_Angeles:20250817T090000
DTEND;TZID=America/Los_Angeles:20250817T103000
DTSTAMP:20260424T093106
CREATED:20241014T005921Z
LAST-MODIFIED:20250816T223015Z
UID:613-1755421200-1755426600@fbcvallejo.net
SUMMARY:9AM Sunday Service
DESCRIPTION:Weekly Bulletins – https://fbcvallejo.net/sermons/bulletins/ \nMap Directions – https://maps.app.goo.gl/EeDx3fN8phUAtJ8y5
URL:https://fbcvallejo.net/_event/9am-sunday-service-44/
LOCATION:901 Solano Ave\, Vallejo\, CA\, United States
END:VEVENT
BEGIN:VEVENT
DTSTART;TZID=America/Los_Angeles:20250817T110000
DTEND;TZID=America/Los_Angeles:20250817T123000
DTSTAMP:20260424T093106
CREATED:20241014T005921Z
LAST-MODIFIED:20250816T223017Z
UID:614-1755428400-1755433800@fbcvallejo.net
SUMMARY:11AM Children's Sunday School
DESCRIPTION:Children’s Sanctuary \nMap Directions – https://maps.app.goo.gl/EeDx3fN8phUAtJ8y5
URL:https://fbcvallejo.net/_event/11am-childrens-sunday-school-44/
LOCATION:901 Solano Ave\, Vallejo\, CA\, United States
END:VEVENT
BEGIN:VEVENT
DTSTART;TZID=America/Los_Angeles:20250817T110000
DTEND;TZID=America/Los_Angeles:20250817T123000
DTSTAMP:20260424T093106
CREATED:20241014T005921Z
LAST-MODIFIED:20250816T223016Z
UID:616-1755428400-1755433800@fbcvallejo.net
SUMMARY:11AM Sunday Live Stream Service
DESCRIPTION:Weekly Bulletins – https://fbcvallejo.net/sermons/bulletins/ \nLivestream Links \nFacebook: https://www.facebook.com/faithbiblechurchvallejo/live \nYouTube: https://youtube.com/channel/UCRvwFe65dkysxaJgD6mHUIw/live  
URL:https://fbcvallejo.net/_event/11am-sunday-live-stream-service-44/
LOCATION:901 Solano Ave\, Vallejo\, CA\, United States
END:VEVENT
BEGIN:VEVENT
DTSTART;TZID=America/Los_Angeles:20250817T110000
DTEND;TZID=America/Los_Angeles:20250817T123000
DTSTAMP:20260424T093106
CREATED:20241014T005922Z
LAST-MODIFIED:20250816T223017Z
UID:617-1755428400-1755433800@fbcvallejo.net
SUMMARY:11AM Sunday Service
DESCRIPTION:Weekly Bulletins – https://fbcvallejo.net/sermons/bulletins/ \nMap Directions – https://maps.app.goo.gl/EeDx3fN8phUAtJ8y5
URL:https://fbcvallejo.net/_event/11am-sunday-service-44/
LOCATION:901 Solano Ave\, Vallejo\, CA\, United States
END:VEVENT
BEGIN:VEVENT
DTSTART;TZID=America/Los_Angeles:20250817T110000
DTEND;TZID=America/Los_Angeles:20250817T130000
DTSTAMP:20260424T093106
CREATED:20241014T005921Z
LAST-MODIFIED:20250816T223016Z
UID:615-1755428400-1755435600@fbcvallejo.net
SUMMARY:Faith Food Fridays
DESCRIPTION:
URL:https://fbcvallejo.net/_event/faith-food-fridays-44/
END:VEVENT
END:VCALENDAR