BEGIN:VCALENDAR
VERSION:2.0
PRODID:-//Faith Bible Church of Vallejo - ECPv6.15.20//NONSGML v1.0//EN
CALSCALE:GREGORIAN
METHOD:PUBLISH
X-ORIGINAL-URL:https://fbcvallejo.net
X-WR-CALDESC:Events for Faith Bible Church of Vallejo
REFRESH-INTERVAL;VALUE=DURATION:PT1H
X-Robots-Tag:noindex
X-PUBLISHED-TTL:PT1H
BEGIN:VTIMEZONE
TZID:America/Los_Angeles
BEGIN:DAYLIGHT
TZOFFSETFROM:-0800
TZOFFSETTO:-0700
TZNAME:PDT
DTSTART:20250309T100000
END:DAYLIGHT
BEGIN:STANDARD
TZOFFSETFROM:-0700
TZOFFSETTO:-0800
TZNAME:PST
DTSTART:20251102T090000
END:STANDARD
BEGIN:DAYLIGHT
TZOFFSETFROM:-0800
TZOFFSETTO:-0700
TZNAME:PDT
DTSTART:20260308T100000
END:DAYLIGHT
BEGIN:STANDARD
TZOFFSETFROM:-0700
TZOFFSETTO:-0800
TZNAME:PST
DTSTART:20261101T090000
END:STANDARD
BEGIN:DAYLIGHT
TZOFFSETFROM:-0800
TZOFFSETTO:-0700
TZNAME:PDT
DTSTART:20270314T100000
END:DAYLIGHT
BEGIN:STANDARD
TZOFFSETFROM:-0700
TZOFFSETTO:-0800
TZNAME:PST
DTSTART:20271107T090000
END:STANDARD
END:VTIMEZONE
BEGIN:VEVENT
DTSTART;TZID=America/Los_Angeles:20260628T110000
DTEND;TZID=America/Los_Angeles:20260628T130000
DTSTAMP:20260425T071158
CREATED:20251019T232153Z
LAST-MODIFIED:20260106T180016Z
UID:7208-1782644400-1782651600@fbcvallejo.net
SUMMARY:Faith Food Fridays
DESCRIPTION:
URL:https://fbcvallejo.net/_event/faith-food-fridays-89/
END:VEVENT
BEGIN:VEVENT
DTSTART;TZID=America/Los_Angeles:20260630T190000
DTEND;TZID=America/Los_Angeles:20260630T210000
DTSTAMP:20260425T071158
CREATED:20251019T232154Z
LAST-MODIFIED:20260424T235822Z
UID:7210-1782846000-1782853200@fbcvallejo.net
SUMMARY:Celebrate Recovery
DESCRIPTION:
URL:https://fbcvallejo.net/_event/celebrate-recovery-78/
END:VEVENT
BEGIN:VEVENT
DTSTART;TZID=America/Los_Angeles:20260701T190000
DTEND;TZID=America/Los_Angeles:20260701T200000
DTSTAMP:20260425T071158
CREATED:20251019T232155Z
LAST-MODIFIED:20260224T230523Z
UID:7211-1782932400-1782936000@fbcvallejo.net
SUMMARY:Prayer Meeting
DESCRIPTION:
URL:https://fbcvallejo.net/_event/prayer-meeting-78/
END:VEVENT
BEGIN:VEVENT
DTSTART;TZID=America/Los_Angeles:20260702T193000
DTEND;TZID=America/Los_Angeles:20260702T203000
DTSTAMP:20260425T071158
CREATED:20251023T181047Z
LAST-MODIFIED:20260424T235822Z
UID:7228-1783020600-1783024200@fbcvallejo.net
SUMMARY:Women's Prayer Meeting
DESCRIPTION:
URL:https://fbcvallejo.net/_event/womens-prayer-meeting-21/
LOCATION:ZOOM
END:VEVENT
BEGIN:VEVENT
DTSTART;TZID=America/Los_Angeles:20260703T000000
DTEND;TZID=America/Los_Angeles:20260703T235959
DTSTAMP:20260425T071158
CREATED:20251214T122040Z
LAST-MODIFIED:20260424T235822Z
UID:11348-1783036800-1783123199@fbcvallejo.net
SUMMARY:No Youth Bible Study - Holiday Weekend
DESCRIPTION:
URL:https://fbcvallejo.net/_event/no-youth-bible-study-holiday-weekend-2/
END:VEVENT
BEGIN:VEVENT
DTSTART;TZID=America/Los_Angeles:20260705T000000
DTEND;TZID=America/Los_Angeles:20260705T235959
DTSTAMP:20260425T071158
CREATED:20251027T191340Z
LAST-MODIFIED:20260106T180017Z
UID:7250-1783209600-1783295999@fbcvallejo.net
SUMMARY:Communion
DESCRIPTION:
URL:https://fbcvallejo.net/_event/communion-21/
END:VEVENT
BEGIN:VEVENT
DTSTART;TZID=America/Los_Angeles:20260705T000000
DTEND;TZID=America/Los_Angeles:20260705T235959
DTSTAMP:20260425T071158
CREATED:20260107T180032Z
LAST-MODIFIED:20260424T235822Z
UID:11736-1783209600-1783295999@fbcvallejo.net
SUMMARY:Communion
DESCRIPTION:
URL:https://fbcvallejo.net/_event/communion-29/
END:VEVENT
BEGIN:VEVENT
DTSTART;TZID=America/Los_Angeles:20260705T090000
DTEND;TZID=America/Los_Angeles:20260705T103000
DTSTAMP:20260425T071158
CREATED:20251024T182914Z
LAST-MODIFIED:20260106T180017Z
UID:7235-1783242000-1783247400@fbcvallejo.net
SUMMARY:9AM Sunday Service
DESCRIPTION:Weekly Bulletins – https://fbcvallejo.net/sermons/bulletins/ \nMap Directions – https://maps.app.goo.gl/EeDx3fN8phUAtJ8y5
URL:https://fbcvallejo.net/_event/9am-sunday-service-90/
LOCATION:901 Solano Ave\, Vallejo\, CA\, United States
END:VEVENT
BEGIN:VEVENT
DTSTART;TZID=America/Los_Angeles:20260705T110000
DTEND;TZID=America/Los_Angeles:20260705T123000
DTSTAMP:20260425T071158
CREATED:20251023T181048Z
LAST-MODIFIED:20260106T180018Z
UID:7229-1783249200-1783254600@fbcvallejo.net
SUMMARY:11AM Sunday Service
DESCRIPTION:Weekly Bulletins – https://fbcvallejo.net/sermons/bulletins/ \nMap Directions – https://maps.app.goo.gl/EeDx3fN8phUAtJ8y5
URL:https://fbcvallejo.net/_event/11am-sunday-service-90/
LOCATION:901 Solano Ave\, Vallejo\, CA\, United States
END:VEVENT
BEGIN:VEVENT
DTSTART;TZID=America/Los_Angeles:20260705T110000
DTEND;TZID=America/Los_Angeles:20260705T123000
DTSTAMP:20260425T071158
CREATED:20251025T183645Z
LAST-MODIFIED:20260106T180017Z
UID:7240-1783249200-1783254600@fbcvallejo.net
SUMMARY:11AM Sunday Live Stream Service
DESCRIPTION:Weekly Bulletins – https://fbcvallejo.net/sermons/bulletins/ \nLivestream Links \nFacebook: https://www.facebook.com/faithbiblechurchvallejo/live \nYouTube: https://youtube.com/channel/UCRvwFe65dkysxaJgD6mHUIw/live  
URL:https://fbcvallejo.net/_event/11am-sunday-live-stream-service-90/
LOCATION:901 Solano Ave\, Vallejo\, CA\, United States
END:VEVENT
BEGIN:VEVENT
DTSTART;TZID=America/Los_Angeles:20260705T110000
DTEND;TZID=America/Los_Angeles:20260705T123000
DTSTAMP:20260425T071158
CREATED:20251026T185137Z
LAST-MODIFIED:20260106T180018Z
UID:7245-1783249200-1783254600@fbcvallejo.net
SUMMARY:11AM Children's Sunday School
DESCRIPTION:Children’s Sanctuary \nMap Directions – https://maps.app.goo.gl/EeDx3fN8phUAtJ8y5
URL:https://fbcvallejo.net/_event/11am-childrens-sunday-school-90/
LOCATION:901 Solano Ave\, Vallejo\, CA\, United States
END:VEVENT
BEGIN:VEVENT
DTSTART;TZID=America/Los_Angeles:20260705T110000
DTEND;TZID=America/Los_Angeles:20260705T130000
DTSTAMP:20260425T071158
CREATED:20251027T191356Z
LAST-MODIFIED:20260106T180017Z
UID:7251-1783249200-1783256400@fbcvallejo.net
SUMMARY:Faith Food Fridays
DESCRIPTION:
URL:https://fbcvallejo.net/_event/faith-food-fridays-90/
END:VEVENT
BEGIN:VEVENT
DTSTART;TZID=America/Los_Angeles:20260707T190000
DTEND;TZID=America/Los_Angeles:20260707T210000
DTSTAMP:20260425T071158
CREATED:20251027T191358Z
LAST-MODIFIED:20260424T235822Z
UID:7252-1783450800-1783458000@fbcvallejo.net
SUMMARY:Celebrate Recovery
DESCRIPTION:
URL:https://fbcvallejo.net/_event/celebrate-recovery-79/
END:VEVENT
BEGIN:VEVENT
DTSTART;TZID=America/Los_Angeles:20260708T190000
DTEND;TZID=America/Los_Angeles:20260708T200000
DTSTAMP:20260425T071158
CREATED:20251029T194541Z
LAST-MODIFIED:20260224T230524Z
UID:7262-1783537200-1783540800@fbcvallejo.net
SUMMARY:Prayer Meeting
DESCRIPTION:
URL:https://fbcvallejo.net/_event/prayer-meeting-79/
END:VEVENT
BEGIN:VEVENT
DTSTART;TZID=America/Los_Angeles:20260710T190000
DTEND;TZID=America/Los_Angeles:20260710T213000
DTSTAMP:20260425T071158
CREATED:20251214T122047Z
LAST-MODIFIED:20260424T235822Z
UID:11349-1783710000-1783719000@fbcvallejo.net
SUMMARY:Youth Summer Fun Daze
DESCRIPTION:
URL:https://fbcvallejo.net/_event/youth-summer-fun-daze/
END:VEVENT
BEGIN:VEVENT
DTSTART;TZID=America/Los_Angeles:20260712T090000
DTEND;TZID=America/Los_Angeles:20260712T103000
DTSTAMP:20260425T071158
CREATED:20251030T201142Z
LAST-MODIFIED:20260106T180018Z
UID:7267-1783846800-1783852200@fbcvallejo.net
SUMMARY:9AM Sunday Service
DESCRIPTION:Weekly Bulletins – https://fbcvallejo.net/sermons/bulletins/ \nMap Directions – https://maps.app.goo.gl/EeDx3fN8phUAtJ8y5
URL:https://fbcvallejo.net/_event/9am-sunday-service-91/
LOCATION:901 Solano Ave\, Vallejo\, CA\, United States
END:VEVENT
BEGIN:VEVENT
DTSTART;TZID=America/Los_Angeles:20260712T110000
DTEND;TZID=America/Los_Angeles:20260712T123000
DTSTAMP:20260425T071158
CREATED:20251101T204249Z
LAST-MODIFIED:20260106T180018Z
UID:7275-1783854000-1783859400@fbcvallejo.net
SUMMARY:11AM Sunday Service
DESCRIPTION:Weekly Bulletins – https://fbcvallejo.net/sermons/bulletins/ \nMap Directions – https://maps.app.goo.gl/EeDx3fN8phUAtJ8y5
URL:https://fbcvallejo.net/_event/11am-sunday-service-91/
LOCATION:901 Solano Ave\, Vallejo\, CA\, United States
END:VEVENT
BEGIN:VEVENT
DTSTART;TZID=America/Los_Angeles:20260712T110000
DTEND;TZID=America/Los_Angeles:20260712T123000
DTSTAMP:20260425T071158
CREATED:20251101T204250Z
LAST-MODIFIED:20260106T180018Z
UID:7276-1783854000-1783859400@fbcvallejo.net
SUMMARY:11AM Sunday Live Stream Service
DESCRIPTION:Weekly Bulletins – https://fbcvallejo.net/sermons/bulletins/ \nLivestream Links \nFacebook: https://www.facebook.com/faithbiblechurchvallejo/live \nYouTube: https://youtube.com/channel/UCRvwFe65dkysxaJgD6mHUIw/live  
URL:https://fbcvallejo.net/_event/11am-sunday-live-stream-service-91/
LOCATION:901 Solano Ave\, Vallejo\, CA\, United States
END:VEVENT
BEGIN:VEVENT
DTSTART;TZID=America/Los_Angeles:20260712T110000
DTEND;TZID=America/Los_Angeles:20260712T123000
DTSTAMP:20260425T071158
CREATED:20251101T204251Z
LAST-MODIFIED:20260106T180019Z
UID:7277-1783854000-1783859400@fbcvallejo.net
SUMMARY:11AM Children's Sunday School
DESCRIPTION:Children’s Sanctuary \nMap Directions – https://maps.app.goo.gl/EeDx3fN8phUAtJ8y5
URL:https://fbcvallejo.net/_event/11am-childrens-sunday-school-91/
LOCATION:901 Solano Ave\, Vallejo\, CA\, United States
END:VEVENT
BEGIN:VEVENT
DTSTART;TZID=America/Los_Angeles:20260712T110000
DTEND;TZID=America/Los_Angeles:20260712T130000
DTSTAMP:20260425T071158
CREATED:20251102T205144Z
LAST-MODIFIED:20260106T180020Z
UID:7284-1783854000-1783861200@fbcvallejo.net
SUMMARY:Faith Food Fridays
DESCRIPTION:
URL:https://fbcvallejo.net/_event/faith-food-fridays-91/
END:VEVENT
BEGIN:VEVENT
DTSTART;TZID=America/Los_Angeles:20260714T190000
DTEND;TZID=America/Los_Angeles:20260714T210000
DTSTAMP:20260425T071158
CREATED:20251102T205146Z
LAST-MODIFIED:20260424T235822Z
UID:7285-1784055600-1784062800@fbcvallejo.net
SUMMARY:Celebrate Recovery
DESCRIPTION:
URL:https://fbcvallejo.net/_event/celebrate-recovery-80/
END:VEVENT
BEGIN:VEVENT
DTSTART;TZID=America/Los_Angeles:20260715T190000
DTEND;TZID=America/Los_Angeles:20260715T200000
DTSTAMP:20260425T071158
CREATED:20251102T205147Z
LAST-MODIFIED:20260224T230524Z
UID:7286-1784142000-1784145600@fbcvallejo.net
SUMMARY:Prayer Meeting
DESCRIPTION:
URL:https://fbcvallejo.net/_event/prayer-meeting-80/
END:VEVENT
BEGIN:VEVENT
DTSTART;TZID=America/Los_Angeles:20260717T190000
DTEND;TZID=America/Los_Angeles:20260717T213000
DTSTAMP:20260425T071158
CREATED:20251214T122055Z
LAST-MODIFIED:20260424T235823Z
UID:11350-1784314800-1784323800@fbcvallejo.net
SUMMARY:Youth Summer Fun Daze
DESCRIPTION:
URL:https://fbcvallejo.net/_event/youth-summer-fun-daze-2/
END:VEVENT
BEGIN:VEVENT
DTSTART;TZID=America/Los_Angeles:20260719T090000
DTEND;TZID=America/Los_Angeles:20260719T103000
DTSTAMP:20260425T071158
CREATED:20251102T205148Z
LAST-MODIFIED:20260106T180021Z
UID:7287-1784451600-1784457000@fbcvallejo.net
SUMMARY:9AM Sunday Service
DESCRIPTION:Weekly Bulletins – https://fbcvallejo.net/sermons/bulletins/ \nMap Directions – https://maps.app.goo.gl/EeDx3fN8phUAtJ8y5
URL:https://fbcvallejo.net/_event/9am-sunday-service-92/
LOCATION:901 Solano Ave\, Vallejo\, CA\, United States
END:VEVENT
BEGIN:VEVENT
DTSTART;TZID=America/Los_Angeles:20260719T110000
DTEND;TZID=America/Los_Angeles:20260719T123000
DTSTAMP:20260425T071158
CREATED:20251102T205149Z
LAST-MODIFIED:20260106T180021Z
UID:7288-1784458800-1784464200@fbcvallejo.net
SUMMARY:11AM Sunday Service
DESCRIPTION:Weekly Bulletins – https://fbcvallejo.net/sermons/bulletins/ \nMap Directions – https://maps.app.goo.gl/EeDx3fN8phUAtJ8y5
URL:https://fbcvallejo.net/_event/11am-sunday-service-92/
LOCATION:901 Solano Ave\, Vallejo\, CA\, United States
END:VEVENT
BEGIN:VEVENT
DTSTART;TZID=America/Los_Angeles:20260719T110000
DTEND;TZID=America/Los_Angeles:20260719T123000
DTSTAMP:20260425T071158
CREATED:20251103T211705Z
LAST-MODIFIED:20260106T180021Z
UID:7297-1784458800-1784464200@fbcvallejo.net
SUMMARY:11AM Sunday Live Stream Service
DESCRIPTION:Weekly Bulletins – https://fbcvallejo.net/sermons/bulletins/ \nLivestream Links \nFacebook: https://www.facebook.com/faithbiblechurchvallejo/live \nYouTube: https://youtube.com/channel/UCRvwFe65dkysxaJgD6mHUIw/live  
URL:https://fbcvallejo.net/_event/11am-sunday-live-stream-service-92/
LOCATION:901 Solano Ave\, Vallejo\, CA\, United States
END:VEVENT
BEGIN:VEVENT
DTSTART;TZID=America/Los_Angeles:20260719T110000
DTEND;TZID=America/Los_Angeles:20260719T123000
DTSTAMP:20260425T071158
CREATED:20251104T214005Z
LAST-MODIFIED:20260106T180021Z
UID:7304-1784458800-1784464200@fbcvallejo.net
SUMMARY:11AM Children's Sunday School
DESCRIPTION:Children’s Sanctuary \nMap Directions – https://maps.app.goo.gl/EeDx3fN8phUAtJ8y5
URL:https://fbcvallejo.net/_event/11am-childrens-sunday-school-92/
LOCATION:901 Solano Ave\, Vallejo\, CA\, United States
END:VEVENT
BEGIN:VEVENT
DTSTART;TZID=America/Los_Angeles:20260719T110000
DTEND;TZID=America/Los_Angeles:20260719T130000
DTSTAMP:20260425T071158
CREATED:20251103T211715Z
LAST-MODIFIED:20260106T180021Z
UID:7298-1784458800-1784466000@fbcvallejo.net
SUMMARY:Faith Food Fridays
DESCRIPTION:
URL:https://fbcvallejo.net/_event/faith-food-fridays-92/
END:VEVENT
BEGIN:VEVENT
DTSTART;TZID=America/Los_Angeles:20260721T190000
DTEND;TZID=America/Los_Angeles:20260721T210000
DTSTAMP:20260425T071158
CREATED:20251106T222528Z
LAST-MODIFIED:20260424T235823Z
UID:7312-1784660400-1784667600@fbcvallejo.net
SUMMARY:Celebrate Recovery
DESCRIPTION:
URL:https://fbcvallejo.net/_event/celebrate-recovery-81/
END:VEVENT
BEGIN:VEVENT
DTSTART;TZID=America/Los_Angeles:20260722T190000
DTEND;TZID=America/Los_Angeles:20260722T200000
DTSTAMP:20260425T071158
CREATED:20251107T225635Z
LAST-MODIFIED:20260224T230525Z
UID:7317-1784746800-1784750400@fbcvallejo.net
SUMMARY:Prayer Meeting
DESCRIPTION:
URL:https://fbcvallejo.net/_event/prayer-meeting-81/
END:VEVENT
END:VCALENDAR