BEGIN:VCALENDAR
VERSION:2.0
PRODID:-//Faith Bible Church of Vallejo - ECPv6.15.20//NONSGML v1.0//EN
CALSCALE:GREGORIAN
METHOD:PUBLISH
X-ORIGINAL-URL:https://fbcvallejo.net
X-WR-CALDESC:Events for Faith Bible Church of Vallejo
REFRESH-INTERVAL;VALUE=DURATION:PT1H
X-Robots-Tag:noindex
X-PUBLISHED-TTL:PT1H
BEGIN:VTIMEZONE
TZID:America/Los_Angeles
BEGIN:DAYLIGHT
TZOFFSETFROM:-0800
TZOFFSETTO:-0700
TZNAME:PDT
DTSTART:20250309T100000
END:DAYLIGHT
BEGIN:STANDARD
TZOFFSETFROM:-0700
TZOFFSETTO:-0800
TZNAME:PST
DTSTART:20251102T090000
END:STANDARD
BEGIN:DAYLIGHT
TZOFFSETFROM:-0800
TZOFFSETTO:-0700
TZNAME:PDT
DTSTART:20260308T100000
END:DAYLIGHT
BEGIN:STANDARD
TZOFFSETFROM:-0700
TZOFFSETTO:-0800
TZNAME:PST
DTSTART:20261101T090000
END:STANDARD
BEGIN:DAYLIGHT
TZOFFSETFROM:-0800
TZOFFSETTO:-0700
TZNAME:PDT
DTSTART:20270314T100000
END:DAYLIGHT
BEGIN:STANDARD
TZOFFSETFROM:-0700
TZOFFSETTO:-0800
TZNAME:PST
DTSTART:20271107T090000
END:STANDARD
END:VTIMEZONE
BEGIN:VEVENT
DTSTART;TZID=America/Los_Angeles:20260802T110000
DTEND;TZID=America/Los_Angeles:20260802T123000
DTSTAMP:20260425T060113
CREATED:20251112T180142Z
LAST-MODIFIED:20260106T180023Z
UID:7349-1785668400-1785673800@fbcvallejo.net
SUMMARY:11AM Sunday Live Stream Service
DESCRIPTION:Weekly Bulletins – https://fbcvallejo.net/sermons/bulletins/ \nLivestream Links \nFacebook: https://www.facebook.com/faithbiblechurchvallejo/live \nYouTube: https://youtube.com/channel/UCRvwFe65dkysxaJgD6mHUIw/live  
URL:https://fbcvallejo.net/_event/11am-sunday-live-stream-service-94/
LOCATION:901 Solano Ave\, Vallejo\, CA\, United States
END:VEVENT
BEGIN:VEVENT
DTSTART;TZID=America/Los_Angeles:20260802T110000
DTEND;TZID=America/Los_Angeles:20260802T123000
DTSTAMP:20260425T060113
CREATED:20251113T180110Z
LAST-MODIFIED:20260106T180023Z
UID:7354-1785668400-1785673800@fbcvallejo.net
SUMMARY:11AM Children's Sunday School
DESCRIPTION:Children’s Sanctuary \nMap Directions – https://maps.app.goo.gl/EeDx3fN8phUAtJ8y5
URL:https://fbcvallejo.net/_event/11am-childrens-sunday-school-94/
LOCATION:901 Solano Ave\, Vallejo\, CA\, United States
END:VEVENT
BEGIN:VEVENT
DTSTART;TZID=America/Los_Angeles:20260802T110000
DTEND;TZID=America/Los_Angeles:20260802T123000
DTSTAMP:20260425T060113
CREATED:20251114T180037Z
LAST-MODIFIED:20260106T180023Z
UID:7359-1785668400-1785673800@fbcvallejo.net
SUMMARY:11AM Sunday Service
DESCRIPTION:Weekly Bulletins – https://fbcvallejo.net/sermons/bulletins/ \nMap Directions – https://maps.app.goo.gl/EeDx3fN8phUAtJ8y5
URL:https://fbcvallejo.net/_event/11am-sunday-service-94/
LOCATION:901 Solano Ave\, Vallejo\, CA\, United States
END:VEVENT
BEGIN:VEVENT
DTSTART;TZID=America/Los_Angeles:20260802T110000
DTEND;TZID=America/Los_Angeles:20260802T130000
DTSTAMP:20260425T060113
CREATED:20251114T180037Z
LAST-MODIFIED:20260106T180023Z
UID:7360-1785668400-1785675600@fbcvallejo.net
SUMMARY:Faith Food Fridays
DESCRIPTION:
URL:https://fbcvallejo.net/_event/faith-food-fridays-94/
END:VEVENT
BEGIN:VEVENT
DTSTART;TZID=America/Los_Angeles:20260804T190000
DTEND;TZID=America/Los_Angeles:20260804T210000
DTSTAMP:20260425T060113
CREATED:20251117T183118Z
LAST-MODIFIED:20260424T235825Z
UID:7374-1785870000-1785877200@fbcvallejo.net
SUMMARY:Celebrate Recovery
DESCRIPTION:
URL:https://fbcvallejo.net/_event/celebrate-recovery-83/
END:VEVENT
BEGIN:VEVENT
DTSTART;TZID=America/Los_Angeles:20260805T190000
DTEND;TZID=America/Los_Angeles:20260805T200000
DTSTAMP:20260425T060113
CREATED:20251117T183118Z
LAST-MODIFIED:20260224T230526Z
UID:7375-1785956400-1785960000@fbcvallejo.net
SUMMARY:Prayer Meeting
DESCRIPTION:
URL:https://fbcvallejo.net/_event/prayer-meeting-83/
END:VEVENT
BEGIN:VEVENT
DTSTART;TZID=America/Los_Angeles:20260806T193000
DTEND;TZID=America/Los_Angeles:20260806T203000
DTSTAMP:20260425T060113
CREATED:20251117T183118Z
LAST-MODIFIED:20260424T235825Z
UID:7376-1786044600-1786048200@fbcvallejo.net
SUMMARY:Women's Prayer Meeting
DESCRIPTION:
URL:https://fbcvallejo.net/_event/womens-prayer-meeting-22/
LOCATION:ZOOM
END:VEVENT
BEGIN:VEVENT
DTSTART;TZID=America/Los_Angeles:20260809T090000
DTEND;TZID=America/Los_Angeles:20260809T103000
DTSTAMP:20260425T060113
CREATED:20251117T183118Z
LAST-MODIFIED:20260106T180024Z
UID:7377-1786266000-1786271400@fbcvallejo.net
SUMMARY:9AM Sunday Service
DESCRIPTION:Weekly Bulletins – https://fbcvallejo.net/sermons/bulletins/ \nMap Directions – https://maps.app.goo.gl/EeDx3fN8phUAtJ8y5
URL:https://fbcvallejo.net/_event/9am-sunday-service-95/
LOCATION:901 Solano Ave\, Vallejo\, CA\, United States
END:VEVENT
BEGIN:VEVENT
DTSTART;TZID=America/Los_Angeles:20260809T110000
DTEND;TZID=America/Los_Angeles:20260809T123000
DTSTAMP:20260425T060113
CREATED:20251120T184654Z
LAST-MODIFIED:20260106T180024Z
UID:7393-1786273200-1786278600@fbcvallejo.net
SUMMARY:11AM Children's Sunday School
DESCRIPTION:Children’s Sanctuary \nMap Directions – https://maps.app.goo.gl/EeDx3fN8phUAtJ8y5
URL:https://fbcvallejo.net/_event/11am-childrens-sunday-school-95/
LOCATION:901 Solano Ave\, Vallejo\, CA\, United States
END:VEVENT
BEGIN:VEVENT
DTSTART;TZID=America/Los_Angeles:20260809T110000
DTEND;TZID=America/Los_Angeles:20260809T123000
DTSTAMP:20260425T060113
CREATED:20251122T184859Z
LAST-MODIFIED:20260106T180024Z
UID:7401-1786273200-1786278600@fbcvallejo.net
SUMMARY:11AM Sunday Live Stream Service
DESCRIPTION:Weekly Bulletins – https://fbcvallejo.net/sermons/bulletins/ \nLivestream Links \nFacebook: https://www.facebook.com/faithbiblechurchvallejo/live \nYouTube: https://youtube.com/channel/UCRvwFe65dkysxaJgD6mHUIw/live  
URL:https://fbcvallejo.net/_event/11am-sunday-live-stream-service-95/
LOCATION:901 Solano Ave\, Vallejo\, CA\, United States
END:VEVENT
BEGIN:VEVENT
DTSTART;TZID=America/Los_Angeles:20260809T110000
DTEND;TZID=America/Los_Angeles:20260809T123000
DTSTAMP:20260425T060113
CREATED:20251122T184859Z
LAST-MODIFIED:20260106T180024Z
UID:7402-1786273200-1786278600@fbcvallejo.net
SUMMARY:11AM Sunday Service
DESCRIPTION:Weekly Bulletins – https://fbcvallejo.net/sermons/bulletins/ \nMap Directions – https://maps.app.goo.gl/EeDx3fN8phUAtJ8y5
URL:https://fbcvallejo.net/_event/11am-sunday-service-95/
LOCATION:901 Solano Ave\, Vallejo\, CA\, United States
END:VEVENT
BEGIN:VEVENT
DTSTART;TZID=America/Los_Angeles:20260809T110000
DTEND;TZID=America/Los_Angeles:20260809T130000
DTSTAMP:20260425T060113
CREATED:20251119T183153Z
LAST-MODIFIED:20260106T180024Z
UID:7388-1786273200-1786280400@fbcvallejo.net
SUMMARY:Faith Food Fridays
DESCRIPTION:
URL:https://fbcvallejo.net/_event/faith-food-fridays-95/
END:VEVENT
BEGIN:VEVENT
DTSTART;TZID=America/Los_Angeles:20260811T190000
DTEND;TZID=America/Los_Angeles:20260811T210000
DTSTAMP:20260425T060113
CREATED:20251123T190101Z
LAST-MODIFIED:20260424T235825Z
UID:7408-1786474800-1786482000@fbcvallejo.net
SUMMARY:Celebrate Recovery
DESCRIPTION:
URL:https://fbcvallejo.net/_event/celebrate-recovery-84/
END:VEVENT
BEGIN:VEVENT
DTSTART;TZID=America/Los_Angeles:20260812T190000
DTEND;TZID=America/Los_Angeles:20260812T200000
DTSTAMP:20260425T060113
CREATED:20251124T190021Z
LAST-MODIFIED:20260224T230526Z
UID:7413-1786561200-1786564800@fbcvallejo.net
SUMMARY:Prayer Meeting
DESCRIPTION:
URL:https://fbcvallejo.net/_event/prayer-meeting-84/
END:VEVENT
BEGIN:VEVENT
DTSTART;TZID=America/Los_Angeles:20260816T090000
DTEND;TZID=America/Los_Angeles:20260816T103000
DTSTAMP:20260425T060113
CREATED:20251124T190021Z
LAST-MODIFIED:20260106T180025Z
UID:7414-1786870800-1786876200@fbcvallejo.net
SUMMARY:9AM Sunday Service
DESCRIPTION:Weekly Bulletins – https://fbcvallejo.net/sermons/bulletins/ \nMap Directions – https://maps.app.goo.gl/EeDx3fN8phUAtJ8y5
URL:https://fbcvallejo.net/_event/9am-sunday-service-96/
LOCATION:901 Solano Ave\, Vallejo\, CA\, United States
END:VEVENT
BEGIN:VEVENT
DTSTART;TZID=America/Los_Angeles:20260816T110000
DTEND;TZID=America/Los_Angeles:20260816T123000
DTSTAMP:20260425T060113
CREATED:20251124T190022Z
LAST-MODIFIED:20260106T180025Z
UID:7416-1786878000-1786883400@fbcvallejo.net
SUMMARY:11AM Sunday Service
DESCRIPTION:Weekly Bulletins – https://fbcvallejo.net/sermons/bulletins/ \nMap Directions – https://maps.app.goo.gl/EeDx3fN8phUAtJ8y5
URL:https://fbcvallejo.net/_event/11am-sunday-service-96/
LOCATION:901 Solano Ave\, Vallejo\, CA\, United States
END:VEVENT
BEGIN:VEVENT
DTSTART;TZID=America/Los_Angeles:20260816T110000
DTEND;TZID=America/Los_Angeles:20260816T123000
DTSTAMP:20260425T060113
CREATED:20251124T190022Z
LAST-MODIFIED:20260106T180025Z
UID:7415-1786878000-1786883400@fbcvallejo.net
SUMMARY:11AM Sunday Live Stream Service
DESCRIPTION:Weekly Bulletins – https://fbcvallejo.net/sermons/bulletins/ \nLivestream Links \nFacebook: https://www.facebook.com/faithbiblechurchvallejo/live \nYouTube: https://youtube.com/channel/UCRvwFe65dkysxaJgD6mHUIw/live  
URL:https://fbcvallejo.net/_event/11am-sunday-live-stream-service-96/
LOCATION:901 Solano Ave\, Vallejo\, CA\, United States
END:VEVENT
BEGIN:VEVENT
DTSTART;TZID=America/Los_Angeles:20260816T110000
DTEND;TZID=America/Los_Angeles:20260816T123000
DTSTAMP:20260425T060113
CREATED:20251125T190155Z
LAST-MODIFIED:20260106T180025Z
UID:7422-1786878000-1786883400@fbcvallejo.net
SUMMARY:11AM Children's Sunday School
DESCRIPTION:Children’s Sanctuary \nMap Directions – https://maps.app.goo.gl/EeDx3fN8phUAtJ8y5
URL:https://fbcvallejo.net/_event/11am-childrens-sunday-school-96/
LOCATION:901 Solano Ave\, Vallejo\, CA\, United States
END:VEVENT
BEGIN:VEVENT
DTSTART;TZID=America/Los_Angeles:20260816T110000
DTEND;TZID=America/Los_Angeles:20260816T130000
DTSTAMP:20260425T060113
CREATED:20251126T191526Z
LAST-MODIFIED:20260106T180025Z
UID:7429-1786878000-1786885200@fbcvallejo.net
SUMMARY:Faith Food Fridays
DESCRIPTION:
URL:https://fbcvallejo.net/_event/faith-food-fridays-96/
END:VEVENT
BEGIN:VEVENT
DTSTART;TZID=America/Los_Angeles:20260818T190000
DTEND;TZID=America/Los_Angeles:20260818T210000
DTSTAMP:20260425T060113
CREATED:20251221T180023Z
LAST-MODIFIED:20260424T235825Z
UID:11633-1787079600-1787086800@fbcvallejo.net
SUMMARY:Celebrate Recovery
DESCRIPTION:
URL:https://fbcvallejo.net/_event/celebrate-recovery-85/
END:VEVENT
BEGIN:VEVENT
DTSTART;TZID=America/Los_Angeles:20260819T190000
DTEND;TZID=America/Los_Angeles:20260819T200000
DTSTAMP:20260425T060113
CREATED:20251221T180023Z
LAST-MODIFIED:20260224T230527Z
UID:11634-1787166000-1787169600@fbcvallejo.net
SUMMARY:Prayer Meeting
DESCRIPTION:
URL:https://fbcvallejo.net/_event/prayer-meeting-85/
END:VEVENT
BEGIN:VEVENT
DTSTART;TZID=America/Los_Angeles:20260823T090000
DTEND;TZID=America/Los_Angeles:20260823T103000
DTSTAMP:20260425T060113
CREATED:20251221T180024Z
LAST-MODIFIED:20260106T180026Z
UID:11635-1787475600-1787481000@fbcvallejo.net
SUMMARY:9AM Sunday Service
DESCRIPTION:Weekly Bulletins – https://fbcvallejo.net/sermons/bulletins/ \nMap Directions – https://maps.app.goo.gl/EeDx3fN8phUAtJ8y5
URL:https://fbcvallejo.net/_event/9am-sunday-service-97/
LOCATION:901 Solano Ave\, Vallejo\, CA\, United States
END:VEVENT
BEGIN:VEVENT
DTSTART;TZID=America/Los_Angeles:20260823T110000
DTEND;TZID=America/Los_Angeles:20260823T123000
DTSTAMP:20260425T060113
CREATED:20251222T180253Z
LAST-MODIFIED:20260106T180026Z
UID:11645-1787482800-1787488200@fbcvallejo.net
SUMMARY:11AM Sunday Service
DESCRIPTION:Weekly Bulletins – https://fbcvallejo.net/sermons/bulletins/ \nMap Directions – https://maps.app.goo.gl/EeDx3fN8phUAtJ8y5
URL:https://fbcvallejo.net/_event/11am-sunday-service-97/
LOCATION:901 Solano Ave\, Vallejo\, CA\, United States
END:VEVENT
BEGIN:VEVENT
DTSTART;TZID=America/Los_Angeles:20260823T110000
DTEND;TZID=America/Los_Angeles:20260823T123000
DTSTAMP:20260425T060113
CREATED:20251222T180253Z
LAST-MODIFIED:20260106T180026Z
UID:11643-1787482800-1787488200@fbcvallejo.net
SUMMARY:11AM Children's Sunday School
DESCRIPTION:Children’s Sanctuary \nMap Directions – https://maps.app.goo.gl/EeDx3fN8phUAtJ8y5
URL:https://fbcvallejo.net/_event/11am-childrens-sunday-school-97/
LOCATION:901 Solano Ave\, Vallejo\, CA\, United States
END:VEVENT
BEGIN:VEVENT
DTSTART;TZID=America/Los_Angeles:20260823T110000
DTEND;TZID=America/Los_Angeles:20260823T123000
DTSTAMP:20260425T060113
CREATED:20251222T180253Z
LAST-MODIFIED:20260106T180026Z
UID:11644-1787482800-1787488200@fbcvallejo.net
SUMMARY:11AM Sunday Live Stream Service
DESCRIPTION:Weekly Bulletins – https://fbcvallejo.net/sermons/bulletins/ \nLivestream Links \nFacebook: https://www.facebook.com/faithbiblechurchvallejo/live \nYouTube: https://youtube.com/channel/UCRvwFe65dkysxaJgD6mHUIw/live  
URL:https://fbcvallejo.net/_event/11am-sunday-live-stream-service-97/
LOCATION:901 Solano Ave\, Vallejo\, CA\, United States
END:VEVENT
BEGIN:VEVENT
DTSTART;TZID=America/Los_Angeles:20260823T110000
DTEND;TZID=America/Los_Angeles:20260823T130000
DTSTAMP:20260425T060113
CREATED:20251222T180253Z
LAST-MODIFIED:20260106T180026Z
UID:11642-1787482800-1787490000@fbcvallejo.net
SUMMARY:Faith Food Fridays
DESCRIPTION:
URL:https://fbcvallejo.net/_event/faith-food-fridays-97/
END:VEVENT
BEGIN:VEVENT
DTSTART;TZID=America/Los_Angeles:20260825T190000
DTEND;TZID=America/Los_Angeles:20260825T210000
DTSTAMP:20260425T060113
CREATED:20251222T180253Z
LAST-MODIFIED:20260424T235825Z
UID:11646-1787684400-1787691600@fbcvallejo.net
SUMMARY:Celebrate Recovery
DESCRIPTION:
URL:https://fbcvallejo.net/_event/celebrate-recovery-86/
END:VEVENT
BEGIN:VEVENT
DTSTART;TZID=America/Los_Angeles:20260826T190000
DTEND;TZID=America/Los_Angeles:20260826T200000
DTSTAMP:20260425T060113
CREATED:20251222T180253Z
LAST-MODIFIED:20260224T230527Z
UID:11647-1787770800-1787774400@fbcvallejo.net
SUMMARY:Prayer Meeting
DESCRIPTION:
URL:https://fbcvallejo.net/_event/prayer-meeting-86/
END:VEVENT
BEGIN:VEVENT
DTSTART;TZID=America/Los_Angeles:20260829T100000
DTEND;TZID=America/Los_Angeles:20260829T123000
DTSTAMP:20260425T060113
CREATED:20251222T180254Z
LAST-MODIFIED:20260424T235825Z
UID:11648-1787997600-1788006600@fbcvallejo.net
SUMMARY:MENS Teaching Hour Meeting #3 - Coffee/Prayer
DESCRIPTION:
URL:https://fbcvallejo.net/_event/mens-teaching-hour-meeting-3-coffee-prayer-2/
LOCATION:Fellowship Hall
END:VEVENT
BEGIN:VEVENT
DTSTART;TZID=America/Los_Angeles:20260830T090000
DTEND;TZID=America/Los_Angeles:20260830T103000
DTSTAMP:20260425T060113
CREATED:20251225T181541Z
LAST-MODIFIED:20260106T180027Z
UID:11665-1788080400-1788085800@fbcvallejo.net
SUMMARY:9AM Sunday Service
DESCRIPTION:Weekly Bulletins – https://fbcvallejo.net/sermons/bulletins/ \nMap Directions – https://maps.app.goo.gl/EeDx3fN8phUAtJ8y5
URL:https://fbcvallejo.net/_event/9am-sunday-service-98/
LOCATION:901 Solano Ave\, Vallejo\, CA\, United States
END:VEVENT
END:VCALENDAR