BEGIN:VCALENDAR
VERSION:2.0
PRODID:-//Faith Bible Church of Vallejo - ECPv6.15.20//NONSGML v1.0//EN
CALSCALE:GREGORIAN
METHOD:PUBLISH
X-WR-CALNAME:Faith Bible Church of Vallejo
X-ORIGINAL-URL:https://fbcvallejo.net
X-WR-CALDESC:Events for Faith Bible Church of Vallejo
REFRESH-INTERVAL;VALUE=DURATION:PT1H
X-Robots-Tag:noindex
X-PUBLISHED-TTL:PT1H
BEGIN:VTIMEZONE
TZID:America/Los_Angeles
BEGIN:DAYLIGHT
TZOFFSETFROM:-0800
TZOFFSETTO:-0700
TZNAME:PDT
DTSTART:20250309T100000
END:DAYLIGHT
BEGIN:STANDARD
TZOFFSETFROM:-0700
TZOFFSETTO:-0800
TZNAME:PST
DTSTART:20251102T090000
END:STANDARD
BEGIN:DAYLIGHT
TZOFFSETFROM:-0800
TZOFFSETTO:-0700
TZNAME:PDT
DTSTART:20260308T100000
END:DAYLIGHT
BEGIN:STANDARD
TZOFFSETFROM:-0700
TZOFFSETTO:-0800
TZNAME:PST
DTSTART:20261101T090000
END:STANDARD
BEGIN:DAYLIGHT
TZOFFSETFROM:-0800
TZOFFSETTO:-0700
TZNAME:PDT
DTSTART:20270314T100000
END:DAYLIGHT
BEGIN:STANDARD
TZOFFSETFROM:-0700
TZOFFSETTO:-0800
TZNAME:PST
DTSTART:20271107T090000
END:STANDARD
END:VTIMEZONE
BEGIN:VEVENT
DTSTART;TZID=America/Los_Angeles:20260510T000000
DTEND;TZID=America/Los_Angeles:20260510T235959
DTSTAMP:20260423T164020
CREATED:20251214T122008Z
LAST-MODIFIED:20260422T234346Z
UID:11338-1778371200-1778457599@fbcvallejo.net
SUMMARY:Men's Ministry (Mothers' Day Appreciation)
DESCRIPTION:
URL:https://fbcvallejo.net/_event/mothers-day-appreciation/
END:VEVENT
BEGIN:VEVENT
DTSTART;TZID=America/Los_Angeles:20260510T090000
DTEND;TZID=America/Los_Angeles:20260510T103000
DTSTAMP:20260423T164020
CREATED:20250908T000416Z
LAST-MODIFIED:20260106T180008Z
UID:4951-1778403600-1778409000@fbcvallejo.net
SUMMARY:9AM Sunday Service
DESCRIPTION:Weekly Bulletins – https://fbcvallejo.net/sermons/bulletins/ \nMap Directions – https://maps.app.goo.gl/EeDx3fN8phUAtJ8y5
URL:https://fbcvallejo.net/_event/9am-sunday-service-82/
LOCATION:901 Solano Ave\, Vallejo\, CA\, United States
END:VEVENT
BEGIN:VEVENT
DTSTART;TZID=America/Los_Angeles:20260510T110000
DTEND;TZID=America/Los_Angeles:20260510T123000
DTSTAMP:20260423T164020
CREATED:20250908T000416Z
LAST-MODIFIED:20260106T180008Z
UID:4952-1778410800-1778416200@fbcvallejo.net
SUMMARY:11AM Sunday Service
DESCRIPTION:Weekly Bulletins – https://fbcvallejo.net/sermons/bulletins/ \nMap Directions – https://maps.app.goo.gl/EeDx3fN8phUAtJ8y5
URL:https://fbcvallejo.net/_event/11am-sunday-service-82/
LOCATION:901 Solano Ave\, Vallejo\, CA\, United States
END:VEVENT
BEGIN:VEVENT
DTSTART;TZID=America/Los_Angeles:20260510T110000
DTEND;TZID=America/Los_Angeles:20260510T123000
DTSTAMP:20260423T164020
CREATED:20250908T000416Z
LAST-MODIFIED:20260106T180008Z
UID:4953-1778410800-1778416200@fbcvallejo.net
SUMMARY:11AM Sunday Live Stream Service
DESCRIPTION:Weekly Bulletins – https://fbcvallejo.net/sermons/bulletins/ \nLivestream Links \nFacebook: https://www.facebook.com/faithbiblechurchvallejo/live \nYouTube: https://youtube.com/channel/UCRvwFe65dkysxaJgD6mHUIw/live  
URL:https://fbcvallejo.net/_event/11am-sunday-live-stream-service-82/
LOCATION:901 Solano Ave\, Vallejo\, CA\, United States
END:VEVENT
BEGIN:VEVENT
DTSTART;TZID=America/Los_Angeles:20260510T110000
DTEND;TZID=America/Los_Angeles:20260510T123000
DTSTAMP:20260423T164020
CREATED:20250910T000134Z
LAST-MODIFIED:20260106T180008Z
UID:5066-1778410800-1778416200@fbcvallejo.net
SUMMARY:11AM Children's Sunday School
DESCRIPTION:Children’s Sanctuary \nMap Directions – https://maps.app.goo.gl/EeDx3fN8phUAtJ8y5
URL:https://fbcvallejo.net/_event/11am-childrens-sunday-school-82/
LOCATION:901 Solano Ave\, Vallejo\, CA\, United States
END:VEVENT
BEGIN:VEVENT
DTSTART;TZID=America/Los_Angeles:20260510T110000
DTEND;TZID=America/Los_Angeles:20260510T130000
DTSTAMP:20260423T164020
CREATED:20250911T180245Z
LAST-MODIFIED:20260106T180008Z
UID:5330-1778410800-1778418000@fbcvallejo.net
SUMMARY:Faith Food Fridays
DESCRIPTION:
URL:https://fbcvallejo.net/_event/faith-food-fridays-82/
END:VEVENT
BEGIN:VEVENT
DTSTART;TZID=America/Los_Angeles:20260512T190000
DTEND;TZID=America/Los_Angeles:20260512T210000
DTSTAMP:20260423T164020
CREATED:20250911T180246Z
LAST-MODIFIED:20260422T234347Z
UID:5331-1778612400-1778619600@fbcvallejo.net
SUMMARY:Celebrate Recovery
DESCRIPTION:
URL:https://fbcvallejo.net/_event/celebrate-recovery-71/
END:VEVENT
BEGIN:VEVENT
DTSTART;TZID=America/Los_Angeles:20260513T190000
DTEND;TZID=America/Los_Angeles:20260513T200000
DTSTAMP:20260423T164020
CREATED:20250915T001950Z
LAST-MODIFIED:20260224T230519Z
UID:5516-1778698800-1778702400@fbcvallejo.net
SUMMARY:Prayer Meeting
DESCRIPTION:
URL:https://fbcvallejo.net/_event/prayer-meeting-71/
END:VEVENT
BEGIN:VEVENT
DTSTART;TZID=America/Los_Angeles:20260515T000000
DTEND;TZID=America/Los_Angeles:20260515T235959
DTSTAMP:20260423T164020
CREATED:20251214T122013Z
LAST-MODIFIED:20260422T234347Z
UID:11339-1778803200-1778889599@fbcvallejo.net
SUMMARY:No Youth Bible Study - Jr. High Camp Prep.
DESCRIPTION:
URL:https://fbcvallejo.net/_event/no-youth-bible-study-jr-high-camp-prep-2/
END:VEVENT
BEGIN:VEVENT
DTSTART;TZID=America/Los_Angeles:20260517T090000
DTEND;TZID=America/Los_Angeles:20260517T103000
DTSTAMP:20260423T164020
CREATED:20250915T001950Z
LAST-MODIFIED:20260106T180009Z
UID:5517-1779008400-1779013800@fbcvallejo.net
SUMMARY:9AM Sunday Service
DESCRIPTION:Weekly Bulletins – https://fbcvallejo.net/sermons/bulletins/ \nMap Directions – https://maps.app.goo.gl/EeDx3fN8phUAtJ8y5
URL:https://fbcvallejo.net/_event/9am-sunday-service-83/
LOCATION:901 Solano Ave\, Vallejo\, CA\, United States
END:VEVENT
BEGIN:VEVENT
DTSTART;TZID=America/Los_Angeles:20260517T110000
DTEND;TZID=America/Los_Angeles:20260517T123000
DTSTAMP:20260423T164020
CREATED:20250915T001951Z
LAST-MODIFIED:20260106T180010Z
UID:5520-1779015600-1779021000@fbcvallejo.net
SUMMARY:11AM Sunday Service
DESCRIPTION:Weekly Bulletins – https://fbcvallejo.net/sermons/bulletins/ \nMap Directions – https://maps.app.goo.gl/EeDx3fN8phUAtJ8y5
URL:https://fbcvallejo.net/_event/11am-sunday-service-83/
LOCATION:901 Solano Ave\, Vallejo\, CA\, United States
END:VEVENT
BEGIN:VEVENT
DTSTART;TZID=America/Los_Angeles:20260517T110000
DTEND;TZID=America/Los_Angeles:20260517T123000
DTSTAMP:20260423T164020
CREATED:20250915T001951Z
LAST-MODIFIED:20260106T180009Z
UID:5518-1779015600-1779021000@fbcvallejo.net
SUMMARY:11AM Children's Sunday School
DESCRIPTION:Children’s Sanctuary \nMap Directions – https://maps.app.goo.gl/EeDx3fN8phUAtJ8y5
URL:https://fbcvallejo.net/_event/11am-childrens-sunday-school-83/
LOCATION:901 Solano Ave\, Vallejo\, CA\, United States
END:VEVENT
BEGIN:VEVENT
DTSTART;TZID=America/Los_Angeles:20260517T110000
DTEND;TZID=America/Los_Angeles:20260517T123000
DTSTAMP:20260423T164020
CREATED:20250915T001951Z
LAST-MODIFIED:20260106T180009Z
UID:5519-1779015600-1779021000@fbcvallejo.net
SUMMARY:11AM Sunday Live Stream Service
DESCRIPTION:Weekly Bulletins – https://fbcvallejo.net/sermons/bulletins/ \nLivestream Links \nFacebook: https://www.facebook.com/faithbiblechurchvallejo/live \nYouTube: https://youtube.com/channel/UCRvwFe65dkysxaJgD6mHUIw/live  
URL:https://fbcvallejo.net/_event/11am-sunday-live-stream-service-83/
LOCATION:901 Solano Ave\, Vallejo\, CA\, United States
END:VEVENT
BEGIN:VEVENT
DTSTART;TZID=America/Los_Angeles:20260517T110000
DTEND;TZID=America/Los_Angeles:20260517T130000
DTSTAMP:20260423T164020
CREATED:20250915T001951Z
LAST-MODIFIED:20260106T180009Z
UID:5521-1779015600-1779022800@fbcvallejo.net
SUMMARY:Faith Food Fridays
DESCRIPTION:
URL:https://fbcvallejo.net/_event/faith-food-fridays-83/
END:VEVENT
BEGIN:VEVENT
DTSTART;TZID=America/Los_Angeles:20260519T190000
DTEND;TZID=America/Los_Angeles:20260519T210000
DTSTAMP:20260423T164020
CREATED:20250919T123157Z
LAST-MODIFIED:20260422T234348Z
UID:6413-1779217200-1779224400@fbcvallejo.net
SUMMARY:Celebrate Recovery
DESCRIPTION:
URL:https://fbcvallejo.net/_event/celebrate-recovery-72/
END:VEVENT
BEGIN:VEVENT
DTSTART;TZID=America/Los_Angeles:20260520T190000
DTEND;TZID=America/Los_Angeles:20260520T200000
DTSTAMP:20260423T164020
CREATED:20250919T123157Z
LAST-MODIFIED:20260224T230519Z
UID:6414-1779303600-1779307200@fbcvallejo.net
SUMMARY:Prayer Meeting
DESCRIPTION:
URL:https://fbcvallejo.net/_event/prayer-meeting-72/
END:VEVENT
BEGIN:VEVENT
DTSTART;TZID=America/Los_Angeles:20260522T000000
DTEND;TZID=America/Los_Angeles:20260525T235959
DTSTAMP:20260423T164020
CREATED:20251214T122017Z
LAST-MODIFIED:20260422T234349Z
UID:11340-1779408000-1779753599@fbcvallejo.net
SUMMARY:Jr. High Camp
DESCRIPTION:
URL:https://fbcvallejo.net/_event/jr-high-camp-2/
LOCATION:Camp Alta\, 794 Alta Power House Rd\, Alta\, CA\, United States
END:VEVENT
BEGIN:VEVENT
DTSTART;TZID=America/Los_Angeles:20260524T090000
DTEND;TZID=America/Los_Angeles:20260524T103000
DTSTAMP:20260423T164020
CREATED:20250920T044543Z
LAST-MODIFIED:20260106T180010Z
UID:6465-1779613200-1779618600@fbcvallejo.net
SUMMARY:9AM Sunday Service
DESCRIPTION:Weekly Bulletins – https://fbcvallejo.net/sermons/bulletins/ \nMap Directions – https://maps.app.goo.gl/EeDx3fN8phUAtJ8y5
URL:https://fbcvallejo.net/_event/9am-sunday-service-84/
LOCATION:901 Solano Ave\, Vallejo\, CA\, United States
END:VEVENT
BEGIN:VEVENT
DTSTART;TZID=America/Los_Angeles:20260524T110000
DTEND;TZID=America/Los_Angeles:20260524T123000
DTSTAMP:20260423T164020
CREATED:20250922T001645Z
LAST-MODIFIED:20260106T180010Z
UID:6531-1779620400-1779625800@fbcvallejo.net
SUMMARY:11AM Children's Sunday School
DESCRIPTION:Children’s Sanctuary \nMap Directions – https://maps.app.goo.gl/EeDx3fN8phUAtJ8y5
URL:https://fbcvallejo.net/_event/11am-childrens-sunday-school-84/
LOCATION:901 Solano Ave\, Vallejo\, CA\, United States
END:VEVENT
BEGIN:VEVENT
DTSTART;TZID=America/Los_Angeles:20260524T110000
DTEND;TZID=America/Los_Angeles:20260524T123000
DTSTAMP:20260423T164020
CREATED:20250922T001645Z
LAST-MODIFIED:20260106T180011Z
UID:6530-1779620400-1779625800@fbcvallejo.net
SUMMARY:11AM Sunday Service
DESCRIPTION:Weekly Bulletins – https://fbcvallejo.net/sermons/bulletins/ \nMap Directions – https://maps.app.goo.gl/EeDx3fN8phUAtJ8y5
URL:https://fbcvallejo.net/_event/11am-sunday-service-84/
LOCATION:901 Solano Ave\, Vallejo\, CA\, United States
END:VEVENT
BEGIN:VEVENT
DTSTART;TZID=America/Los_Angeles:20260524T110000
DTEND;TZID=America/Los_Angeles:20260524T123000
DTSTAMP:20260423T164020
CREATED:20250922T001646Z
LAST-MODIFIED:20260106T180011Z
UID:6533-1779620400-1779625800@fbcvallejo.net
SUMMARY:11AM Sunday Live Stream Service
DESCRIPTION:Weekly Bulletins – https://fbcvallejo.net/sermons/bulletins/ \nLivestream Links \nFacebook: https://www.facebook.com/faithbiblechurchvallejo/live \nYouTube: https://youtube.com/channel/UCRvwFe65dkysxaJgD6mHUIw/live  
URL:https://fbcvallejo.net/_event/11am-sunday-live-stream-service-84/
LOCATION:901 Solano Ave\, Vallejo\, CA\, United States
END:VEVENT
BEGIN:VEVENT
DTSTART;TZID=America/Los_Angeles:20260524T110000
DTEND;TZID=America/Los_Angeles:20260524T130000
DTSTAMP:20260423T164020
CREATED:20250922T001645Z
LAST-MODIFIED:20260106T180010Z
UID:6532-1779620400-1779627600@fbcvallejo.net
SUMMARY:Faith Food Fridays
DESCRIPTION:
URL:https://fbcvallejo.net/_event/faith-food-fridays-84/
END:VEVENT
BEGIN:VEVENT
DTSTART;TZID=America/Los_Angeles:20260526T190000
DTEND;TZID=America/Los_Angeles:20260526T210000
DTSTAMP:20260423T164020
CREATED:20250922T001646Z
LAST-MODIFIED:20260422T234350Z
UID:6534-1779822000-1779829200@fbcvallejo.net
SUMMARY:Celebrate Recovery
DESCRIPTION:
URL:https://fbcvallejo.net/_event/celebrate-recovery-73/
END:VEVENT
BEGIN:VEVENT
DTSTART;TZID=America/Los_Angeles:20260527T190000
DTEND;TZID=America/Los_Angeles:20260527T200000
DTSTAMP:20260423T164020
CREATED:20250924T040351Z
LAST-MODIFIED:20260224T230520Z
UID:6639-1779908400-1779912000@fbcvallejo.net
SUMMARY:Prayer Meeting
DESCRIPTION:
URL:https://fbcvallejo.net/_event/prayer-meeting-73/
END:VEVENT
BEGIN:VEVENT
DTSTART;TZID=America/Los_Angeles:20260529T190000
DTEND;TZID=America/Los_Angeles:20260529T213000
DTSTAMP:20260423T164020
CREATED:20251214T122021Z
LAST-MODIFIED:20260413T224722Z
UID:11342-1780081200-1780090200@fbcvallejo.net
SUMMARY:Youth Acoustic Worship Night Bonfire
DESCRIPTION:
URL:https://fbcvallejo.net/_event/youth-acoustic-worship-night-bonfire/
LOCATION:Nogaliza’s?
END:VEVENT
BEGIN:VEVENT
DTSTART;TZID=America/Los_Angeles:20260529T190000
DTEND;TZID=America/Los_Angeles:20260529T213000
DTSTAMP:20260423T164020
CREATED:20251214T122023Z
LAST-MODIFIED:20260422T234350Z
UID:11343-1780081200-1780090200@fbcvallejo.net
SUMMARY:Jr. High Post Camp Rally
DESCRIPTION:
URL:https://fbcvallejo.net/_event/jr-high-post-camp-rally-2/
LOCATION:Fellowship Hall
END:VEVENT
BEGIN:VEVENT
DTSTART;TZID=America/Los_Angeles:20260531T090000
DTEND;TZID=America/Los_Angeles:20260531T103000
DTSTAMP:20260423T164020
CREATED:20250925T030408Z
LAST-MODIFIED:20260106T180011Z
UID:6683-1780218000-1780223400@fbcvallejo.net
SUMMARY:9AM Sunday Service
DESCRIPTION:Weekly Bulletins – https://fbcvallejo.net/sermons/bulletins/ \nMap Directions – https://maps.app.goo.gl/EeDx3fN8phUAtJ8y5
URL:https://fbcvallejo.net/_event/9am-sunday-service-85/
LOCATION:901 Solano Ave\, Vallejo\, CA\, United States
END:VEVENT
BEGIN:VEVENT
DTSTART;TZID=America/Los_Angeles:20260531T110000
DTEND;TZID=America/Los_Angeles:20260531T123000
DTSTAMP:20260423T164020
CREATED:20250927T000221Z
LAST-MODIFIED:20260106T180011Z
UID:6773-1780225200-1780230600@fbcvallejo.net
SUMMARY:11AM Sunday Live Stream Service
DESCRIPTION:Weekly Bulletins – https://fbcvallejo.net/sermons/bulletins/ \nLivestream Links \nFacebook: https://www.facebook.com/faithbiblechurchvallejo/live \nYouTube: https://youtube.com/channel/UCRvwFe65dkysxaJgD6mHUIw/live  
URL:https://fbcvallejo.net/_event/11am-sunday-live-stream-service-85/
LOCATION:901 Solano Ave\, Vallejo\, CA\, United States
END:VEVENT
BEGIN:VEVENT
DTSTART;TZID=America/Los_Angeles:20260531T110000
DTEND;TZID=America/Los_Angeles:20260531T123000
DTSTAMP:20260423T164020
CREATED:20250928T175236Z
LAST-MODIFIED:20260106T180012Z
UID:6880-1780225200-1780230600@fbcvallejo.net
SUMMARY:11AM Sunday Service
DESCRIPTION:Weekly Bulletins – https://fbcvallejo.net/sermons/bulletins/ \nMap Directions – https://maps.app.goo.gl/EeDx3fN8phUAtJ8y5
URL:https://fbcvallejo.net/_event/11am-sunday-service-85/
LOCATION:901 Solano Ave\, Vallejo\, CA\, United States
END:VEVENT
BEGIN:VEVENT
DTSTART;TZID=America/Los_Angeles:20260531T110000
DTEND;TZID=America/Los_Angeles:20260531T123000
DTSTAMP:20260423T164020
CREATED:20250928T193356Z
LAST-MODIFIED:20260106T180012Z
UID:6887-1780225200-1780230600@fbcvallejo.net
SUMMARY:11AM Children's Sunday School
DESCRIPTION:Children’s Sanctuary \nMap Directions – https://maps.app.goo.gl/EeDx3fN8phUAtJ8y5
URL:https://fbcvallejo.net/_event/11am-childrens-sunday-school-85/
LOCATION:901 Solano Ave\, Vallejo\, CA\, United States
END:VEVENT
END:VCALENDAR