BEGIN:VCALENDAR
VERSION:2.0
PRODID:-//Faith Bible Church of Vallejo - ECPv6.15.20//NONSGML v1.0//EN
CALSCALE:GREGORIAN
METHOD:PUBLISH
X-ORIGINAL-URL:https://fbcvallejo.net
X-WR-CALDESC:Events for Faith Bible Church of Vallejo
REFRESH-INTERVAL;VALUE=DURATION:PT1H
X-Robots-Tag:noindex
X-PUBLISHED-TTL:PT1H
BEGIN:VTIMEZONE
TZID:America/Los_Angeles
BEGIN:DAYLIGHT
TZOFFSETFROM:-0800
TZOFFSETTO:-0700
TZNAME:PDT
DTSTART:20240310T100000
END:DAYLIGHT
BEGIN:STANDARD
TZOFFSETFROM:-0700
TZOFFSETTO:-0800
TZNAME:PST
DTSTART:20241103T090000
END:STANDARD
BEGIN:DAYLIGHT
TZOFFSETFROM:-0800
TZOFFSETTO:-0700
TZNAME:PDT
DTSTART:20250309T100000
END:DAYLIGHT
BEGIN:STANDARD
TZOFFSETFROM:-0700
TZOFFSETTO:-0800
TZNAME:PST
DTSTART:20251102T090000
END:STANDARD
BEGIN:DAYLIGHT
TZOFFSETFROM:-0800
TZOFFSETTO:-0700
TZNAME:PDT
DTSTART:20260308T100000
END:DAYLIGHT
BEGIN:STANDARD
TZOFFSETFROM:-0700
TZOFFSETTO:-0800
TZNAME:PST
DTSTART:20261101T090000
END:STANDARD
END:VTIMEZONE
BEGIN:VEVENT
DTSTART;TZID=America/Los_Angeles:20251010T190000
DTEND;TZID=America/Los_Angeles:20251010T213000
DTSTAMP:20260424T084612
CREATED:20250315T221559Z
LAST-MODIFIED:20251010T190208Z
UID:2137-1760122800-1760131800@fbcvallejo.net
SUMMARY:Youth - Finding Truth Series #2
DESCRIPTION:
URL:https://fbcvallejo.net/_event/youth-finding-truth-series-2/
LOCATION:Fellowship Hall
END:VEVENT
BEGIN:VEVENT
DTSTART;TZID=America/Los_Angeles:20251012T090000
DTEND;TZID=America/Los_Angeles:20251012T103000
DTSTAMP:20260424T084612
CREATED:20241014T005931Z
LAST-MODIFIED:20251011T200030Z
UID:657-1760259600-1760265000@fbcvallejo.net
SUMMARY:9AM Sunday Service
DESCRIPTION:Weekly Bulletins – https://fbcvallejo.net/sermons/bulletins/ \nMap Directions – https://maps.app.goo.gl/EeDx3fN8phUAtJ8y5
URL:https://fbcvallejo.net/_event/9am-sunday-service-52/
LOCATION:901 Solano Ave\, Vallejo\, CA\, United States
END:VEVENT
BEGIN:VEVENT
DTSTART;TZID=America/Los_Angeles:20251012T110000
DTEND;TZID=America/Los_Angeles:20251012T123000
DTSTAMP:20260424T084612
CREATED:20241014T005932Z
LAST-MODIFIED:20251011T200044Z
UID:659-1760266800-1760272200@fbcvallejo.net
SUMMARY:11AM Sunday Live Stream Service
DESCRIPTION:Weekly Bulletins – https://fbcvallejo.net/sermons/bulletins/ \nLivestream Links \nFacebook: https://www.facebook.com/faithbiblechurchvallejo/live \nYouTube: https://youtube.com/channel/UCRvwFe65dkysxaJgD6mHUIw/live  
URL:https://fbcvallejo.net/_event/11am-sunday-live-stream-service-52/
LOCATION:901 Solano Ave\, Vallejo\, CA\, United States
END:VEVENT
BEGIN:VEVENT
DTSTART;TZID=America/Los_Angeles:20251012T110000
DTEND;TZID=America/Los_Angeles:20251012T123000
DTSTAMP:20260424T084612
CREATED:20241014T005932Z
LAST-MODIFIED:20251011T200104Z
UID:660-1760266800-1760272200@fbcvallejo.net
SUMMARY:11AM Sunday Service
DESCRIPTION:Weekly Bulletins – https://fbcvallejo.net/sermons/bulletins/ \nMap Directions – https://maps.app.goo.gl/EeDx3fN8phUAtJ8y5
URL:https://fbcvallejo.net/_event/11am-sunday-service-52/
LOCATION:901 Solano Ave\, Vallejo\, CA\, United States
END:VEVENT
BEGIN:VEVENT
DTSTART;TZID=America/Los_Angeles:20251012T110000
DTEND;TZID=America/Los_Angeles:20251012T123000
DTSTAMP:20260424T084612
CREATED:20241014T005933Z
LAST-MODIFIED:20251011T200102Z
UID:661-1760266800-1760272200@fbcvallejo.net
SUMMARY:11AM Children's Sunday School
DESCRIPTION:Children’s Sanctuary \nMap Directions – https://maps.app.goo.gl/EeDx3fN8phUAtJ8y5
URL:https://fbcvallejo.net/_event/11am-childrens-sunday-school-52/
LOCATION:901 Solano Ave\, Vallejo\, CA\, United States
END:VEVENT
BEGIN:VEVENT
DTSTART;TZID=America/Los_Angeles:20251012T110000
DTEND;TZID=America/Los_Angeles:20251012T130000
DTSTAMP:20260424T084612
CREATED:20241014T005932Z
LAST-MODIFIED:20251011T200051Z
UID:658-1760266800-1760274000@fbcvallejo.net
SUMMARY:Faith Food Fridays
DESCRIPTION:
URL:https://fbcvallejo.net/_event/faith-food-fridays-52/
END:VEVENT
BEGIN:VEVENT
DTSTART;TZID=America/Los_Angeles:20251012T130000
DTEND;TZID=America/Los_Angeles:20251012T140000
DTSTAMP:20260424T084612
CREATED:20250317T224552Z
LAST-MODIFIED:20251012T205356Z
UID:2145-1760274000-1760277600@fbcvallejo.net
SUMMARY:Elders' Meeting
DESCRIPTION:
URL:https://fbcvallejo.net/_event/elders-meeting-7/
END:VEVENT
BEGIN:VEVENT
DTSTART;TZID=America/Los_Angeles:20251014T190000
DTEND;TZID=America/Los_Angeles:20251014T210000
DTSTAMP:20260424T084612
CREATED:20250320T230956Z
LAST-MODIFIED:20251014T214438Z
UID:2156-1760468400-1760475600@fbcvallejo.net
SUMMARY:Celebrate Recovery
DESCRIPTION:
URL:https://fbcvallejo.net/_event/celebrate-recovery-41/
END:VEVENT
BEGIN:VEVENT
DTSTART;TZID=America/Los_Angeles:20251015T190000
DTEND;TZID=America/Los_Angeles:20251015T200000
DTSTAMP:20260424T084612
CREATED:20241231T222730Z
LAST-MODIFIED:20251015T220117Z
UID:1475-1760554800-1760558400@fbcvallejo.net
SUMMARY:Prayer Meeting
DESCRIPTION:
URL:https://fbcvallejo.net/_event/prayer-meeting-41/
END:VEVENT
BEGIN:VEVENT
DTSTART;TZID=America/Los_Angeles:20251017T190000
DTEND;TZID=America/Los_Angeles:20251017T213000
DTSTAMP:20260424T084612
CREATED:20250323T233305Z
LAST-MODIFIED:20251017T224455Z
UID:2167-1760727600-1760736600@fbcvallejo.net
SUMMARY:Youth - Finding Truth Series #3
DESCRIPTION:
URL:https://fbcvallejo.net/_event/youth-finding-truth-series-3/
LOCATION:Fellowship Hall
END:VEVENT
BEGIN:VEVENT
DTSTART;TZID=America/Los_Angeles:20251019T090000
DTEND;TZID=America/Los_Angeles:20251019T103000
DTSTAMP:20260424T084612
CREATED:20241014T005933Z
LAST-MODIFIED:20251018T225941Z
UID:662-1760864400-1760869800@fbcvallejo.net
SUMMARY:9AM Sunday Service
DESCRIPTION:Weekly Bulletins – https://fbcvallejo.net/sermons/bulletins/ \nMap Directions – https://maps.app.goo.gl/EeDx3fN8phUAtJ8y5
URL:https://fbcvallejo.net/_event/9am-sunday-service-53/
LOCATION:901 Solano Ave\, Vallejo\, CA\, United States
END:VEVENT
BEGIN:VEVENT
DTSTART;TZID=America/Los_Angeles:20251019T110000
DTEND;TZID=America/Los_Angeles:20251019T123000
DTSTAMP:20260424T084612
CREATED:20241014T005933Z
LAST-MODIFIED:20251018T225951Z
UID:663-1760871600-1760877000@fbcvallejo.net
SUMMARY:11AM Sunday Live Stream Service
DESCRIPTION:Weekly Bulletins – https://fbcvallejo.net/sermons/bulletins/ \nLivestream Links \nFacebook: https://www.facebook.com/faithbiblechurchvallejo/live \nYouTube: https://youtube.com/channel/UCRvwFe65dkysxaJgD6mHUIw/live  
URL:https://fbcvallejo.net/_event/11am-sunday-live-stream-service-53/
LOCATION:901 Solano Ave\, Vallejo\, CA\, United States
END:VEVENT
BEGIN:VEVENT
DTSTART;TZID=America/Los_Angeles:20251019T110000
DTEND;TZID=America/Los_Angeles:20251019T123000
DTSTAMP:20260424T084612
CREATED:20241014T005933Z
LAST-MODIFIED:20251018T225953Z
UID:665-1760871600-1760877000@fbcvallejo.net
SUMMARY:11AM Children's Sunday School
DESCRIPTION:Children’s Sanctuary \nMap Directions – https://maps.app.goo.gl/EeDx3fN8phUAtJ8y5
URL:https://fbcvallejo.net/_event/11am-childrens-sunday-school-53/
LOCATION:901 Solano Ave\, Vallejo\, CA\, United States
END:VEVENT
BEGIN:VEVENT
DTSTART;TZID=America/Los_Angeles:20251019T110000
DTEND;TZID=America/Los_Angeles:20251019T123000
DTSTAMP:20260424T084612
CREATED:20241014T005934Z
LAST-MODIFIED:20251018T225949Z
UID:666-1760871600-1760877000@fbcvallejo.net
SUMMARY:11AM Sunday Service
DESCRIPTION:Weekly Bulletins – https://fbcvallejo.net/sermons/bulletins/ \nMap Directions – https://maps.app.goo.gl/EeDx3fN8phUAtJ8y5
URL:https://fbcvallejo.net/_event/11am-sunday-service-53/
LOCATION:901 Solano Ave\, Vallejo\, CA\, United States
END:VEVENT
BEGIN:VEVENT
DTSTART;TZID=America/Los_Angeles:20251019T110000
DTEND;TZID=America/Los_Angeles:20251019T130000
DTSTAMP:20260424T084612
CREATED:20241014T005933Z
LAST-MODIFIED:20251018T225958Z
UID:664-1760871600-1760878800@fbcvallejo.net
SUMMARY:Faith Food Fridays
DESCRIPTION:
URL:https://fbcvallejo.net/_event/faith-food-fridays-53/
END:VEVENT
BEGIN:VEVENT
DTSTART;TZID=America/Los_Angeles:20251019T124500
DTEND;TZID=America/Los_Angeles:20251019T134500
DTSTAMP:20260424T084612
CREATED:20241231T222731Z
LAST-MODIFIED:20251018T225955Z
UID:1476-1760877900-1760881500@fbcvallejo.net
SUMMARY:Care Ministry Meeting
DESCRIPTION:
URL:https://fbcvallejo.net/_event/care-ministry-meeting-3/
END:VEVENT
BEGIN:VEVENT
DTSTART;TZID=America/Los_Angeles:20251021T190000
DTEND;TZID=America/Los_Angeles:20251021T210000
DTSTAMP:20260424T084612
CREATED:20250327T234914Z
LAST-MODIFIED:20251021T235848Z
UID:2183-1761073200-1761080400@fbcvallejo.net
SUMMARY:Celebrate Recovery
DESCRIPTION:
URL:https://fbcvallejo.net/_event/celebrate-recovery-42/
END:VEVENT
BEGIN:VEVENT
DTSTART;TZID=America/Los_Angeles:20251022T190000
DTEND;TZID=America/Los_Angeles:20251022T200000
DTSTAMP:20260424T084612
CREATED:20241231T222731Z
LAST-MODIFIED:20251021T235849Z
UID:1477-1761159600-1761163200@fbcvallejo.net
SUMMARY:Prayer Meeting
DESCRIPTION:
URL:https://fbcvallejo.net/_event/prayer-meeting-42/
END:VEVENT
BEGIN:VEVENT
DTSTART;TZID=America/Los_Angeles:20251024T190000
DTEND;TZID=America/Los_Angeles:20251024T213000
DTSTAMP:20260424T084612
CREATED:20250330T180107Z
LAST-MODIFIED:20251024T181647Z
UID:2193-1761332400-1761341400@fbcvallejo.net
SUMMARY:Youth - Finding Truth Series #4
DESCRIPTION:
URL:https://fbcvallejo.net/_event/youth-finding-truth-series-4/
LOCATION:Fellowship Hall
END:VEVENT
BEGIN:VEVENT
DTSTART;TZID=America/Los_Angeles:20251026T090000
DTEND;TZID=America/Los_Angeles:20251026T103000
DTSTAMP:20260424T084612
CREATED:20241014T005934Z
LAST-MODIFIED:20251025T183646Z
UID:667-1761469200-1761474600@fbcvallejo.net
SUMMARY:9AM Sunday Service
DESCRIPTION:Weekly Bulletins – https://fbcvallejo.net/sermons/bulletins/ \nMap Directions – https://maps.app.goo.gl/EeDx3fN8phUAtJ8y5
URL:https://fbcvallejo.net/_event/9am-sunday-service-54/
LOCATION:901 Solano Ave\, Vallejo\, CA\, United States
END:VEVENT
BEGIN:VEVENT
DTSTART;TZID=America/Los_Angeles:20251026T110000
DTEND;TZID=America/Los_Angeles:20251026T123000
DTSTAMP:20260424T084612
CREATED:20241014T005934Z
LAST-MODIFIED:20251026T185141Z
UID:668-1761476400-1761481800@fbcvallejo.net
SUMMARY:11AM Children's Sunday School
DESCRIPTION:Children’s Sanctuary \nMap Directions – https://maps.app.goo.gl/EeDx3fN8phUAtJ8y5
URL:https://fbcvallejo.net/_event/11am-childrens-sunday-school-54/
LOCATION:901 Solano Ave\, Vallejo\, CA\, United States
END:VEVENT
BEGIN:VEVENT
DTSTART;TZID=America/Los_Angeles:20251026T110000
DTEND;TZID=America/Los_Angeles:20251026T123000
DTSTAMP:20260424T084612
CREATED:20241014T005934Z
LAST-MODIFIED:20251026T185142Z
UID:670-1761476400-1761481800@fbcvallejo.net
SUMMARY:11AM Sunday Service
DESCRIPTION:Weekly Bulletins – https://fbcvallejo.net/sermons/bulletins/ \nMap Directions – https://maps.app.goo.gl/EeDx3fN8phUAtJ8y5
URL:https://fbcvallejo.net/_event/11am-sunday-service-54/
LOCATION:901 Solano Ave\, Vallejo\, CA\, United States
END:VEVENT
BEGIN:VEVENT
DTSTART;TZID=America/Los_Angeles:20251026T110000
DTEND;TZID=America/Los_Angeles:20251026T123000
DTSTAMP:20260424T084612
CREATED:20241014T005935Z
LAST-MODIFIED:20251026T185140Z
UID:671-1761476400-1761481800@fbcvallejo.net
SUMMARY:11AM Sunday Live Stream Service
DESCRIPTION:Weekly Bulletins – https://fbcvallejo.net/sermons/bulletins/ \nLivestream Links \nFacebook: https://www.facebook.com/faithbiblechurchvallejo/live \nYouTube: https://youtube.com/channel/UCRvwFe65dkysxaJgD6mHUIw/live  
URL:https://fbcvallejo.net/_event/11am-sunday-live-stream-service-54/
LOCATION:901 Solano Ave\, Vallejo\, CA\, United States
END:VEVENT
BEGIN:VEVENT
DTSTART;TZID=America/Los_Angeles:20251026T110000
DTEND;TZID=America/Los_Angeles:20251026T130000
DTSTAMP:20260424T084612
CREATED:20241014T005934Z
LAST-MODIFIED:20251026T185138Z
UID:669-1761476400-1761483600@fbcvallejo.net
SUMMARY:Faith Food Fridays
DESCRIPTION:
URL:https://fbcvallejo.net/_event/faith-food-fridays-54/
END:VEVENT
BEGIN:VEVENT
DTSTART;TZID=America/Los_Angeles:20251028T190000
DTEND;TZID=America/Los_Angeles:20251028T210000
DTSTAMP:20260424T084612
CREATED:20250403T181731Z
LAST-MODIFIED:20251028T192210Z
UID:2207-1761678000-1761685200@fbcvallejo.net
SUMMARY:Celebrate Recovery
DESCRIPTION:
URL:https://fbcvallejo.net/_event/celebrate-recovery-43/
END:VEVENT
BEGIN:VEVENT
DTSTART;TZID=America/Los_Angeles:20251029T190000
DTEND;TZID=America/Los_Angeles:20251029T200000
DTSTAMP:20260424T084612
CREATED:20241231T222731Z
LAST-MODIFIED:20251029T194543Z
UID:1478-1761764400-1761768000@fbcvallejo.net
SUMMARY:Prayer Meeting
DESCRIPTION:
URL:https://fbcvallejo.net/_event/prayer-meeting-43/
END:VEVENT
BEGIN:VEVENT
DTSTART;TZID=America/Los_Angeles:20251031T000000
DTEND;TZID=America/Los_Angeles:20251031T235959
DTSTAMP:20260424T084612
CREATED:20250405T192455Z
LAST-MODIFIED:20251031T202744Z
UID:2215-1761868800-1761955199@fbcvallejo.net
SUMMARY:MSPK - Trunk or Treat
DESCRIPTION:
URL:https://fbcvallejo.net/_event/mspk-trunk-or-treat/
END:VEVENT
BEGIN:VEVENT
DTSTART;TZID=America/Los_Angeles:20251031T000000
DTEND;TZID=America/Los_Angeles:20251031T235959
DTSTAMP:20260424T084612
CREATED:20250406T193205Z
LAST-MODIFIED:20251031T202743Z
UID:2220-1761868800-1761955199@fbcvallejo.net
SUMMARY:No Youth Bible Study
DESCRIPTION:
URL:https://fbcvallejo.net/_event/no-youth-bible-study-2/
END:VEVENT
BEGIN:VEVENT
DTSTART;TZID=America/Los_Angeles:20251101T100000
DTEND;TZID=America/Los_Angeles:20251101T123000
DTSTAMP:20260424T084612
CREATED:20250406T193205Z
LAST-MODIFIED:20251031T202745Z
UID:2221-1761991200-1762000200@fbcvallejo.net
SUMMARY:Men's Teaching Hour Meeting #5 - Coffee/Prayer
DESCRIPTION:
URL:https://fbcvallejo.net/_event/mens-teaching-hour-meeting-5-coffee-prayer/
LOCATION:Faith Bible Church of Vallejo\, 901 Solano Ave\, Vallejo\, CA\, United States
END:VEVENT
BEGIN:VEVENT
DTSTART;TZID=America/Los_Angeles:20251102T000000
DTEND;TZID=America/Los_Angeles:20251102T235959
DTSTAMP:20260424T084612
CREATED:20241014T005935Z
LAST-MODIFIED:20251102T205151Z
UID:673-1762041600-1762127999@fbcvallejo.net
SUMMARY:Communion
DESCRIPTION:
URL:https://fbcvallejo.net/_event/communion-13/
END:VEVENT
END:VCALENDAR