BEGIN:VCALENDAR
VERSION:2.0
PRODID:-//Faith Bible Church of Vallejo - ECPv6.15.20//NONSGML v1.0//EN
CALSCALE:GREGORIAN
METHOD:PUBLISH
X-ORIGINAL-URL:https://fbcvallejo.net
X-WR-CALDESC:Events for Faith Bible Church of Vallejo
REFRESH-INTERVAL;VALUE=DURATION:PT1H
X-Robots-Tag:noindex
X-PUBLISHED-TTL:PT1H
BEGIN:VTIMEZONE
TZID:America/Los_Angeles
BEGIN:DAYLIGHT
TZOFFSETFROM:-0800
TZOFFSETTO:-0700
TZNAME:PDT
DTSTART:20240310T100000
END:DAYLIGHT
BEGIN:STANDARD
TZOFFSETFROM:-0700
TZOFFSETTO:-0800
TZNAME:PST
DTSTART:20241103T090000
END:STANDARD
BEGIN:DAYLIGHT
TZOFFSETFROM:-0800
TZOFFSETTO:-0700
TZNAME:PDT
DTSTART:20250309T100000
END:DAYLIGHT
BEGIN:STANDARD
TZOFFSETFROM:-0700
TZOFFSETTO:-0800
TZNAME:PST
DTSTART:20251102T090000
END:STANDARD
BEGIN:DAYLIGHT
TZOFFSETFROM:-0800
TZOFFSETTO:-0700
TZNAME:PDT
DTSTART:20260308T100000
END:DAYLIGHT
BEGIN:STANDARD
TZOFFSETFROM:-0700
TZOFFSETTO:-0800
TZNAME:PST
DTSTART:20261101T090000
END:STANDARD
END:VTIMEZONE
BEGIN:VEVENT
DTSTART;TZID=America/Los_Angeles:20251118T190000
DTEND;TZID=America/Los_Angeles:20251118T210000
DTSTAMP:20260424T063924
CREATED:20250423T191739Z
LAST-MODIFIED:20251118T182954Z
UID:2465-1763492400-1763499600@fbcvallejo.net
SUMMARY:Celebrate Recovery
DESCRIPTION:
URL:https://fbcvallejo.net/_event/celebrate-recovery-46/
END:VEVENT
BEGIN:VEVENT
DTSTART;TZID=America/Los_Angeles:20251119T190000
DTEND;TZID=America/Los_Angeles:20251119T200000
DTSTAMP:20260424T063924
CREATED:20250423T191739Z
LAST-MODIFIED:20251119T183153Z
UID:2466-1763578800-1763582400@fbcvallejo.net
SUMMARY:Prayer Meeting
DESCRIPTION:
URL:https://fbcvallejo.net/_event/prayer-meeting-46/
END:VEVENT
BEGIN:VEVENT
DTSTART;TZID=America/Los_Angeles:20251121T000000
DTEND;TZID=America/Los_Angeles:20251121T235959
DTSTAMP:20260424T063924
CREATED:20250424T193335Z
LAST-MODIFIED:20251121T184525Z
UID:2472-1763683200-1763769599@fbcvallejo.net
SUMMARY:Faith Food Thanksgiving Giveaway
DESCRIPTION:
URL:https://fbcvallejo.net/_event/faith-food-thanksgiving-giveaway/
END:VEVENT
BEGIN:VEVENT
DTSTART;TZID=America/Los_Angeles:20251121T190000
DTEND;TZID=America/Los_Angeles:20251121T213000
DTSTAMP:20260424T063924
CREATED:20250426T194815Z
LAST-MODIFIED:20251121T184525Z
UID:2480-1763751600-1763760600@fbcvallejo.net
SUMMARY:Youth Friendsgiving
DESCRIPTION:
URL:https://fbcvallejo.net/_event/youth-friendsgiving/
LOCATION:Fellowship Hall
END:VEVENT
BEGIN:VEVENT
DTSTART;TZID=America/Los_Angeles:20251123T090000
DTEND;TZID=America/Los_Angeles:20251123T103000
DTSTAMP:20260424T063924
CREATED:20241103T205559Z
LAST-MODIFIED:20251122T184900Z
UID:1087-1763888400-1763893800@fbcvallejo.net
SUMMARY:9AM Sunday Service
DESCRIPTION:Weekly Bulletins – https://fbcvallejo.net/sermons/bulletins/ \nMap Directions – https://maps.app.goo.gl/EeDx3fN8phUAtJ8y5
URL:https://fbcvallejo.net/_event/9am-sunday-service-58/
LOCATION:901 Solano Ave\, Vallejo\, CA\, United States
END:VEVENT
BEGIN:VEVENT
DTSTART;TZID=America/Los_Angeles:20251123T110000
DTEND;TZID=America/Los_Angeles:20251123T123000
DTSTAMP:20260424T063924
CREATED:20241104T210822Z
LAST-MODIFIED:20251123T190102Z
UID:1095-1763895600-1763901000@fbcvallejo.net
SUMMARY:11AM Sunday Live Stream Service
DESCRIPTION:Weekly Bulletins – https://fbcvallejo.net/sermons/bulletins/ \nLivestream Links \nFacebook: https://www.facebook.com/faithbiblechurchvallejo/live \nYouTube: https://youtube.com/channel/UCRvwFe65dkysxaJgD6mHUIw/live  
URL:https://fbcvallejo.net/_event/11am-sunday-live-stream-service-58/
LOCATION:901 Solano Ave\, Vallejo\, CA\, United States
END:VEVENT
BEGIN:VEVENT
DTSTART;TZID=America/Los_Angeles:20251123T110000
DTEND;TZID=America/Los_Angeles:20251123T123000
DTSTAMP:20260424T063924
CREATED:20241108T212929Z
LAST-MODIFIED:20251123T190102Z
UID:1110-1763895600-1763901000@fbcvallejo.net
SUMMARY:11AM Sunday Service
DESCRIPTION:Weekly Bulletins – https://fbcvallejo.net/sermons/bulletins/ \nMap Directions – https://maps.app.goo.gl/EeDx3fN8phUAtJ8y5
URL:https://fbcvallejo.net/_event/11am-sunday-service-58/
LOCATION:901 Solano Ave\, Vallejo\, CA\, United States
END:VEVENT
BEGIN:VEVENT
DTSTART;TZID=America/Los_Angeles:20251123T110000
DTEND;TZID=America/Los_Angeles:20251123T123000
DTSTAMP:20260424T063924
CREATED:20241110T214510Z
LAST-MODIFIED:20251123T190101Z
UID:1118-1763895600-1763901000@fbcvallejo.net
SUMMARY:11AM Children's Sunday School
DESCRIPTION:Children’s Sanctuary \nMap Directions – https://maps.app.goo.gl/EeDx3fN8phUAtJ8y5
URL:https://fbcvallejo.net/_event/11am-childrens-sunday-school-58/
LOCATION:901 Solano Ave\, Vallejo\, CA\, United States
END:VEVENT
BEGIN:VEVENT
DTSTART;TZID=America/Los_Angeles:20251123T110000
DTEND;TZID=America/Los_Angeles:20251123T130000
DTSTAMP:20260424T063924
CREATED:20241104T210822Z
LAST-MODIFIED:20251123T190102Z
UID:1094-1763895600-1763902800@fbcvallejo.net
SUMMARY:Faith Food Fridays
DESCRIPTION:
URL:https://fbcvallejo.net/_event/faith-food-fridays-58/
END:VEVENT
BEGIN:VEVENT
DTSTART;TZID=America/Los_Angeles:20251124T000000
DTEND;TZID=America/Los_Angeles:20251128T235959
DTSTAMP:20260424T063924
CREATED:20250503T204633Z
LAST-MODIFIED:20251126T191526Z
UID:2511-1763942400-1764374399@fbcvallejo.net
SUMMARY:No Youth Bible Study (Thanksgiving Break)
DESCRIPTION:
URL:https://fbcvallejo.net/_event/no-youth-bible-study-thanksgiving-break/
END:VEVENT
BEGIN:VEVENT
DTSTART;TZID=America/Los_Angeles:20251125T000000
DTEND;TZID=America/Los_Angeles:20251125T235959
DTSTAMP:20260424T063924
CREATED:20250430T201737Z
LAST-MODIFIED:20251125T190101Z
UID:2494-1764028800-1764115199@fbcvallejo.net
SUMMARY:MSPK - Thanksgiving Feast
DESCRIPTION:
URL:https://fbcvallejo.net/_event/mspk-thanksgiving-feast/
END:VEVENT
BEGIN:VEVENT
DTSTART;TZID=America/Los_Angeles:20251125T190000
DTEND;TZID=America/Los_Angeles:20251125T210000
DTSTAMP:20260424T063924
CREATED:20250502T203050Z
LAST-MODIFIED:20251125T190059Z
UID:2502-1764097200-1764104400@fbcvallejo.net
SUMMARY:Celebrate Recovery
DESCRIPTION:
URL:https://fbcvallejo.net/_event/celebrate-recovery-47/
END:VEVENT
BEGIN:VEVENT
DTSTART;TZID=America/Los_Angeles:20251126T000000
DTEND;TZID=America/Los_Angeles:20251128T235959
DTSTAMP:20260424T063924
CREATED:20250502T203051Z
LAST-MODIFIED:20251126T191526Z
UID:2504-1764115200-1764374399@fbcvallejo.net
SUMMARY:MSPK - CLOSED
DESCRIPTION:
URL:https://fbcvallejo.net/_event/mspk-closed-2/
END:VEVENT
BEGIN:VEVENT
DTSTART;TZID=America/Los_Angeles:20251126T190000
DTEND;TZID=America/Los_Angeles:20251126T200000
DTSTAMP:20260424T063924
CREATED:20250502T203051Z
LAST-MODIFIED:20251126T191526Z
UID:2503-1764183600-1764187200@fbcvallejo.net
SUMMARY:Prayer Meeting
DESCRIPTION:
URL:https://fbcvallejo.net/_event/prayer-meeting-47/
END:VEVENT
BEGIN:VEVENT
DTSTART;TZID=America/Los_Angeles:20251130T090000
DTEND;TZID=America/Los_Angeles:20251130T103000
DTSTAMP:20260424T063924
CREATED:20241110T214511Z
LAST-MODIFIED:20251126T191526Z
UID:1119-1764493200-1764498600@fbcvallejo.net
SUMMARY:9AM Sunday Service
DESCRIPTION:Weekly Bulletins – https://fbcvallejo.net/sermons/bulletins/ \nMap Directions – https://maps.app.goo.gl/EeDx3fN8phUAtJ8y5
URL:https://fbcvallejo.net/_event/9am-sunday-service-59/
LOCATION:901 Solano Ave\, Vallejo\, CA\, United States
END:VEVENT
BEGIN:VEVENT
DTSTART;TZID=America/Los_Angeles:20251130T110000
DTEND;TZID=America/Los_Angeles:20251130T120000
DTSTAMP:20260424T063924
CREATED:20250504T210021Z
LAST-MODIFIED:20251126T191527Z
UID:2516-1764500400-1764504000@fbcvallejo.net
SUMMARY:Sunday School Thanksgiving
DESCRIPTION:
URL:https://fbcvallejo.net/_event/sunday-school-thanksgiving/
END:VEVENT
BEGIN:VEVENT
DTSTART;TZID=America/Los_Angeles:20251130T110000
DTEND;TZID=America/Los_Angeles:20251130T123000
DTSTAMP:20260424T063924
CREATED:20241110T214511Z
LAST-MODIFIED:20251126T191527Z
UID:1121-1764500400-1764505800@fbcvallejo.net
SUMMARY:11AM Sunday Service
DESCRIPTION:Weekly Bulletins – https://fbcvallejo.net/sermons/bulletins/ \nMap Directions – https://maps.app.goo.gl/EeDx3fN8phUAtJ8y5
URL:https://fbcvallejo.net/_event/11am-sunday-service-59/
LOCATION:901 Solano Ave\, Vallejo\, CA\, United States
END:VEVENT
BEGIN:VEVENT
DTSTART;TZID=America/Los_Angeles:20251130T110000
DTEND;TZID=America/Los_Angeles:20251130T123000
DTSTAMP:20260424T063924
CREATED:20241110T214511Z
LAST-MODIFIED:20251126T191527Z
UID:1122-1764500400-1764505800@fbcvallejo.net
SUMMARY:11AM Sunday Live Stream Service
DESCRIPTION:Weekly Bulletins – https://fbcvallejo.net/sermons/bulletins/ \nLivestream Links \nFacebook: https://www.facebook.com/faithbiblechurchvallejo/live \nYouTube: https://youtube.com/channel/UCRvwFe65dkysxaJgD6mHUIw/live  
URL:https://fbcvallejo.net/_event/11am-sunday-live-stream-service-59/
LOCATION:901 Solano Ave\, Vallejo\, CA\, United States
END:VEVENT
BEGIN:VEVENT
DTSTART;TZID=America/Los_Angeles:20251130T110000
DTEND;TZID=America/Los_Angeles:20251130T123000
DTSTAMP:20260424T063924
CREATED:20241117T224531Z
LAST-MODIFIED:20251126T191527Z
UID:1204-1764500400-1764505800@fbcvallejo.net
SUMMARY:11AM Children's Sunday School
DESCRIPTION:Children’s Sanctuary \nMap Directions – https://maps.app.goo.gl/EeDx3fN8phUAtJ8y5
URL:https://fbcvallejo.net/_event/11am-childrens-sunday-school-59/
LOCATION:901 Solano Ave\, Vallejo\, CA\, United States
END:VEVENT
BEGIN:VEVENT
DTSTART;TZID=America/Los_Angeles:20251130T110000
DTEND;TZID=America/Los_Angeles:20251130T130000
DTSTAMP:20260424T063924
CREATED:20241110T214511Z
LAST-MODIFIED:20251126T191527Z
UID:1120-1764500400-1764507600@fbcvallejo.net
SUMMARY:Faith Food Fridays
DESCRIPTION:
URL:https://fbcvallejo.net/_event/faith-food-fridays-59/
END:VEVENT
BEGIN:VEVENT
DTSTART;TZID=America/Los_Angeles:20251202T190000
DTEND;TZID=America/Los_Angeles:20251202T210000
DTSTAMP:20260424T063924
CREATED:20250505T210042Z
LAST-MODIFIED:20251126T191527Z
UID:2521-1764702000-1764709200@fbcvallejo.net
SUMMARY:Celebrate Recovery
DESCRIPTION:
URL:https://fbcvallejo.net/_event/celebrate-recovery-48/
END:VEVENT
BEGIN:VEVENT
DTSTART;TZID=America/Los_Angeles:20251203T190000
DTEND;TZID=America/Los_Angeles:20251203T200000
DTSTAMP:20260424T063924
CREATED:20250507T211508Z
LAST-MODIFIED:20251126T191527Z
UID:2529-1764788400-1764792000@fbcvallejo.net
SUMMARY:Prayer Meeting
DESCRIPTION:
URL:https://fbcvallejo.net/_event/prayer-meeting-48/
END:VEVENT
BEGIN:VEVENT
DTSTART;TZID=America/Los_Angeles:20251204T193000
DTEND;TZID=America/Los_Angeles:20251204T203000
DTSTAMP:20260424T063924
CREATED:20241117T224532Z
LAST-MODIFIED:20251126T191527Z
UID:1205-1764876600-1764880200@fbcvallejo.net
SUMMARY:Women's Prayer Meeting
DESCRIPTION:
URL:https://fbcvallejo.net/_event/womens-prayer-meeting-14/
LOCATION:ZOOM
END:VEVENT
BEGIN:VEVENT
DTSTART;TZID=America/Los_Angeles:20251205T000000
DTEND;TZID=America/Los_Angeles:20251205T235959
DTSTAMP:20260424T063924
CREATED:20250507T211508Z
LAST-MODIFIED:20251126T191528Z
UID:2530-1764892800-1764979199@fbcvallejo.net
SUMMARY:Youth Outing (TBD)
DESCRIPTION:
URL:https://fbcvallejo.net/_event/youth-outing-tbd-2/
END:VEVENT
BEGIN:VEVENT
DTSTART;TZID=America/Los_Angeles:20251207T000000
DTEND;TZID=America/Los_Angeles:20251207T235959
DTSTAMP:20260424T063924
CREATED:20241117T224532Z
LAST-MODIFIED:20251126T191528Z
UID:1208-1765065600-1765151999@fbcvallejo.net
SUMMARY:Communion
DESCRIPTION:
URL:https://fbcvallejo.net/_event/communion-14/
END:VEVENT
BEGIN:VEVENT
DTSTART;TZID=America/Los_Angeles:20251207T090000
DTEND;TZID=America/Los_Angeles:20251207T103000
DTSTAMP:20260424T063924
CREATED:20241117T224532Z
LAST-MODIFIED:20251126T191528Z
UID:1206-1765098000-1765103400@fbcvallejo.net
SUMMARY:9AM Sunday Service
DESCRIPTION:Weekly Bulletins – https://fbcvallejo.net/sermons/bulletins/ \nMap Directions – https://maps.app.goo.gl/EeDx3fN8phUAtJ8y5
URL:https://fbcvallejo.net/_event/9am-sunday-service-60/
LOCATION:901 Solano Ave\, Vallejo\, CA\, United States
END:VEVENT
BEGIN:VEVENT
DTSTART;TZID=America/Los_Angeles:20251207T110000
DTEND;TZID=America/Los_Angeles:20251207T123000
DTSTAMP:20260424T063924
CREATED:20241117T224532Z
LAST-MODIFIED:20251126T191528Z
UID:1209-1765105200-1765110600@fbcvallejo.net
SUMMARY:11AM Sunday Live Stream Service
DESCRIPTION:Weekly Bulletins – https://fbcvallejo.net/sermons/bulletins/ \nLivestream Links \nFacebook: https://www.facebook.com/faithbiblechurchvallejo/live \nYouTube: https://youtube.com/channel/UCRvwFe65dkysxaJgD6mHUIw/live  
URL:https://fbcvallejo.net/_event/11am-sunday-live-stream-service-60/
LOCATION:901 Solano Ave\, Vallejo\, CA\, United States
END:VEVENT
BEGIN:VEVENT
DTSTART;TZID=America/Los_Angeles:20251207T110000
DTEND;TZID=America/Los_Angeles:20251207T123000
DTSTAMP:20260424T063924
CREATED:20241122T231629Z
LAST-MODIFIED:20251126T191528Z
UID:1232-1765105200-1765110600@fbcvallejo.net
SUMMARY:11AM Children's Sunday School
DESCRIPTION:Children’s Sanctuary \nMap Directions – https://maps.app.goo.gl/EeDx3fN8phUAtJ8y5
URL:https://fbcvallejo.net/_event/11am-childrens-sunday-school-60/
LOCATION:901 Solano Ave\, Vallejo\, CA\, United States
END:VEVENT
BEGIN:VEVENT
DTSTART;TZID=America/Los_Angeles:20251207T110000
DTEND;TZID=America/Los_Angeles:20251207T123000
DTSTAMP:20260424T063924
CREATED:20241122T231629Z
LAST-MODIFIED:20251126T191528Z
UID:1233-1765105200-1765110600@fbcvallejo.net
SUMMARY:11AM Sunday Service
DESCRIPTION:Weekly Bulletins – https://fbcvallejo.net/sermons/bulletins/ \nMap Directions – https://maps.app.goo.gl/EeDx3fN8phUAtJ8y5
URL:https://fbcvallejo.net/_event/11am-sunday-service-60/
LOCATION:901 Solano Ave\, Vallejo\, CA\, United States
END:VEVENT
BEGIN:VEVENT
DTSTART;TZID=America/Los_Angeles:20251207T110000
DTEND;TZID=America/Los_Angeles:20251207T130000
DTSTAMP:20260424T063924
CREATED:20241117T224532Z
LAST-MODIFIED:20251126T191528Z
UID:1207-1765105200-1765112400@fbcvallejo.net
SUMMARY:Faith Food Fridays
DESCRIPTION:
URL:https://fbcvallejo.net/_event/faith-food-fridays-60/
END:VEVENT
END:VCALENDAR