BEGIN:VCALENDAR
VERSION:2.0
PRODID:-//Faith Bible Church of Vallejo - ECPv6.15.20//NONSGML v1.0//EN
CALSCALE:GREGORIAN
METHOD:PUBLISH
X-ORIGINAL-URL:https://fbcvallejo.net
X-WR-CALDESC:Events for Faith Bible Church of Vallejo
REFRESH-INTERVAL;VALUE=DURATION:PT1H
X-Robots-Tag:noindex
X-PUBLISHED-TTL:PT1H
BEGIN:VTIMEZONE
TZID:America/Los_Angeles
BEGIN:DAYLIGHT
TZOFFSETFROM:-0800
TZOFFSETTO:-0700
TZNAME:PDT
DTSTART:20250309T100000
END:DAYLIGHT
BEGIN:STANDARD
TZOFFSETFROM:-0700
TZOFFSETTO:-0800
TZNAME:PST
DTSTART:20251102T090000
END:STANDARD
BEGIN:DAYLIGHT
TZOFFSETFROM:-0800
TZOFFSETTO:-0700
TZNAME:PDT
DTSTART:20260308T100000
END:DAYLIGHT
BEGIN:STANDARD
TZOFFSETFROM:-0700
TZOFFSETTO:-0800
TZNAME:PST
DTSTART:20261101T090000
END:STANDARD
BEGIN:DAYLIGHT
TZOFFSETFROM:-0800
TZOFFSETTO:-0700
TZNAME:PDT
DTSTART:20270314T100000
END:DAYLIGHT
BEGIN:STANDARD
TZOFFSETFROM:-0700
TZOFFSETTO:-0800
TZNAME:PST
DTSTART:20271107T090000
END:STANDARD
BEGIN:DAYLIGHT
TZOFFSETFROM:-0800
TZOFFSETTO:-0700
TZNAME:PDT
DTSTART:20280312T100000
END:DAYLIGHT
BEGIN:STANDARD
TZOFFSETFROM:-0700
TZOFFSETTO:-0800
TZNAME:PST
DTSTART:20281105T090000
END:STANDARD
END:VTIMEZONE
BEGIN:VEVENT
DTSTART;TZID=America/Los_Angeles:20261124T190000
DTEND;TZID=America/Los_Angeles:20261124T210000
DTSTAMP:20260424T055427
CREATED:20260107T180041Z
LAST-MODIFIED:20260423T235806Z
UID:11780-1795546800-1795554000@fbcvallejo.net
SUMMARY:Celebrate Recovery
DESCRIPTION:
URL:https://fbcvallejo.net/_event/celebrate-recovery-99/
END:VEVENT
BEGIN:VEVENT
DTSTART;TZID=America/Los_Angeles:20261125T190000
DTEND;TZID=America/Los_Angeles:20261125T200000
DTSTAMP:20260424T055427
CREATED:20260107T180041Z
LAST-MODIFIED:20260224T230533Z
UID:11778-1795633200-1795636800@fbcvallejo.net
SUMMARY:Prayer Meeting
DESCRIPTION:
URL:https://fbcvallejo.net/_event/prayer-meeting-99/
END:VEVENT
BEGIN:VEVENT
DTSTART;TZID=America/Los_Angeles:20261201T190000
DTEND;TZID=America/Los_Angeles:20261201T210000
DTSTAMP:20260424T055427
CREATED:20260107T180041Z
LAST-MODIFIED:20260423T235806Z
UID:11781-1796151600-1796158800@fbcvallejo.net
SUMMARY:Celebrate Recovery
DESCRIPTION:
URL:https://fbcvallejo.net/_event/celebrate-recovery-100/
END:VEVENT
BEGIN:VEVENT
DTSTART;TZID=America/Los_Angeles:20261202T190000
DTEND;TZID=America/Los_Angeles:20261202T200000
DTSTAMP:20260424T055427
CREATED:20260107T180041Z
LAST-MODIFIED:20260224T230534Z
UID:11782-1796238000-1796241600@fbcvallejo.net
SUMMARY:Prayer Meeting
DESCRIPTION:
URL:https://fbcvallejo.net/_event/prayer-meeting-100/
END:VEVENT
BEGIN:VEVENT
DTSTART;TZID=America/Los_Angeles:20261203T193000
DTEND;TZID=America/Los_Angeles:20261203T203000
DTSTAMP:20260424T055427
CREATED:20260107T180042Z
LAST-MODIFIED:20260423T235806Z
UID:11783-1796326200-1796329800@fbcvallejo.net
SUMMARY:Women's Prayer Meeting
DESCRIPTION:
URL:https://fbcvallejo.net/_event/womens-prayer-meeting-26/
LOCATION:ZOOM
END:VEVENT
BEGIN:VEVENT
DTSTART;TZID=America/Los_Angeles:20261204T190000
DTEND;TZID=America/Los_Angeles:20261204T213000
DTSTAMP:20260424T055427
CREATED:20260107T180042Z
LAST-MODIFIED:20260423T235806Z
UID:11784-1796410800-1796419800@fbcvallejo.net
SUMMARY:Youth Outing
DESCRIPTION:
URL:https://fbcvallejo.net/_event/youth-outing-5/
LOCATION:TBD
END:VEVENT
BEGIN:VEVENT
DTSTART;TZID=America/Los_Angeles:20261206T000000
DTEND;TZID=America/Los_Angeles:20261206T235959
DTSTAMP:20260424T055427
CREATED:20260107T180042Z
LAST-MODIFIED:20260423T235807Z
UID:11785-1796515200-1796601599@fbcvallejo.net
SUMMARY:Communion
DESCRIPTION:
URL:https://fbcvallejo.net/_event/communion-34/
END:VEVENT
BEGIN:VEVENT
DTSTART;TZID=America/Los_Angeles:20261208T190000
DTEND;TZID=America/Los_Angeles:20261208T210000
DTSTAMP:20260424T055427
CREATED:20260107T180042Z
LAST-MODIFIED:20260423T235807Z
UID:11786-1796756400-1796763600@fbcvallejo.net
SUMMARY:Celebrate Recovery
DESCRIPTION:
URL:https://fbcvallejo.net/_event/celebrate-recovery-101/
END:VEVENT
BEGIN:VEVENT
DTSTART;TZID=America/Los_Angeles:20261209T190000
DTEND;TZID=America/Los_Angeles:20261209T200000
DTSTAMP:20260424T055427
CREATED:20260107T180042Z
LAST-MODIFIED:20260224T230535Z
UID:11787-1796842800-1796846400@fbcvallejo.net
SUMMARY:Prayer Meeting
DESCRIPTION:
URL:https://fbcvallejo.net/_event/prayer-meeting-101/
END:VEVENT
BEGIN:VEVENT
DTSTART;TZID=America/Los_Angeles:20261211T190000
DTEND;TZID=America/Los_Angeles:20261211T213000
DTSTAMP:20260424T055427
CREATED:20260107T180042Z
LAST-MODIFIED:20260423T235807Z
UID:11788-1797015600-1797024600@fbcvallejo.net
SUMMARY:Youth Christmas Party
DESCRIPTION:
URL:https://fbcvallejo.net/_event/youth-christmas-party-2/
LOCATION:Fellowship Hall
END:VEVENT
BEGIN:VEVENT
DTSTART;TZID=America/Los_Angeles:20261212T000000
DTEND;TZID=America/Los_Angeles:20270114T235959
DTSTAMP:20260424T055427
CREATED:20260107T180044Z
LAST-MODIFIED:20260423T235807Z
UID:11801-1797033600-1799971199@fbcvallejo.net
SUMMARY:YOUTH WINTER BREAK
DESCRIPTION:
URL:https://fbcvallejo.net/_event/youth-winter-break-3/
END:VEVENT
BEGIN:VEVENT
DTSTART;TZID=America/Los_Angeles:20261215T190000
DTEND;TZID=America/Los_Angeles:20261215T210000
DTSTAMP:20260424T055427
CREATED:20260107T180042Z
LAST-MODIFIED:20260423T235807Z
UID:11789-1797361200-1797368400@fbcvallejo.net
SUMMARY:Celebrate Recovery
DESCRIPTION:
URL:https://fbcvallejo.net/_event/celebrate-recovery-102/
END:VEVENT
BEGIN:VEVENT
DTSTART;TZID=America/Los_Angeles:20261216T190000
DTEND;TZID=America/Los_Angeles:20261216T200000
DTSTAMP:20260424T055427
CREATED:20260107T180043Z
LAST-MODIFIED:20260224T230535Z
UID:11790-1797447600-1797451200@fbcvallejo.net
SUMMARY:Prayer Meeting
DESCRIPTION:
URL:https://fbcvallejo.net/_event/prayer-meeting-102/
END:VEVENT
BEGIN:VEVENT
DTSTART;TZID=America/Los_Angeles:20261222T190000
DTEND;TZID=America/Los_Angeles:20261222T210000
DTSTAMP:20260424T055427
CREATED:20260107T180043Z
LAST-MODIFIED:20260423T235807Z
UID:11791-1797966000-1797973200@fbcvallejo.net
SUMMARY:Celebrate Recovery
DESCRIPTION:
URL:https://fbcvallejo.net/_event/celebrate-recovery-103/
END:VEVENT
BEGIN:VEVENT
DTSTART;TZID=America/Los_Angeles:20261223T190000
DTEND;TZID=America/Los_Angeles:20261223T200000
DTSTAMP:20260424T055427
CREATED:20260107T180043Z
LAST-MODIFIED:20260224T230536Z
UID:11792-1798052400-1798056000@fbcvallejo.net
SUMMARY:Prayer Meeting
DESCRIPTION:
URL:https://fbcvallejo.net/_event/prayer-meeting-103/
END:VEVENT
BEGIN:VEVENT
DTSTART;TZID=America/Los_Angeles:20261229T190000
DTEND;TZID=America/Los_Angeles:20261229T210000
DTSTAMP:20260424T055427
CREATED:20260107T180043Z
LAST-MODIFIED:20260423T235808Z
UID:11793-1798570800-1798578000@fbcvallejo.net
SUMMARY:Celebrate Recovery
DESCRIPTION:
URL:https://fbcvallejo.net/_event/celebrate-recovery-104/
END:VEVENT
BEGIN:VEVENT
DTSTART;TZID=America/Los_Angeles:20261230T190000
DTEND;TZID=America/Los_Angeles:20261230T200000
DTSTAMP:20260424T055427
CREATED:20260107T180043Z
LAST-MODIFIED:20260113T183116Z
UID:11794-1798657200-1798660800@fbcvallejo.net
SUMMARY:Prayer Meeting
DESCRIPTION:
URL:https://fbcvallejo.net/_event/prayer-meeting-104/
END:VEVENT
BEGIN:VEVENT
DTSTART;TZID=America/Los_Angeles:20270103T000000
DTEND;TZID=America/Los_Angeles:20270103T235959
DTSTAMP:20260424T055427
CREATED:20260107T180043Z
LAST-MODIFIED:20260423T235808Z
UID:11795-1798934400-1799020799@fbcvallejo.net
SUMMARY:Communion
DESCRIPTION:
URL:https://fbcvallejo.net/_event/communion-35/
END:VEVENT
BEGIN:VEVENT
DTSTART;TZID=America/Los_Angeles:20270105T190000
DTEND;TZID=America/Los_Angeles:20270105T210000
DTSTAMP:20260424T055427
CREATED:20260107T180043Z
LAST-MODIFIED:20260423T235808Z
UID:11796-1799175600-1799182800@fbcvallejo.net
SUMMARY:Celebrate Recovery
DESCRIPTION:
URL:https://fbcvallejo.net/_event/celebrate-recovery-105/
END:VEVENT
BEGIN:VEVENT
DTSTART;TZID=America/Los_Angeles:20270106T190000
DTEND;TZID=America/Los_Angeles:20270106T200000
DTSTAMP:20260424T055427
CREATED:20260107T180044Z
LAST-MODIFIED:20260224T230536Z
UID:11797-1799262000-1799265600@fbcvallejo.net
SUMMARY:Prayer Meeting
DESCRIPTION:
URL:https://fbcvallejo.net/_event/prayer-meeting-105/
END:VEVENT
BEGIN:VEVENT
DTSTART;TZID=America/Los_Angeles:20270107T193000
DTEND;TZID=America/Los_Angeles:20270107T203000
DTSTAMP:20260424T055427
CREATED:20260107T180044Z
LAST-MODIFIED:20260423T235808Z
UID:11798-1799350200-1799353800@fbcvallejo.net
SUMMARY:Women's Prayer Meeting
DESCRIPTION:
URL:https://fbcvallejo.net/_event/womens-prayer-meeting-27/
LOCATION:ZOOM
END:VEVENT
BEGIN:VEVENT
DTSTART;TZID=America/Los_Angeles:20270112T190000
DTEND;TZID=America/Los_Angeles:20270112T210000
DTSTAMP:20260424T055427
CREATED:20260107T180044Z
LAST-MODIFIED:20260423T235808Z
UID:11799-1799780400-1799787600@fbcvallejo.net
SUMMARY:Celebrate Recovery
DESCRIPTION:
URL:https://fbcvallejo.net/_event/celebrate-recovery-106/
END:VEVENT
BEGIN:VEVENT
DTSTART;TZID=America/Los_Angeles:20270113T190000
DTEND;TZID=America/Los_Angeles:20270113T200000
DTSTAMP:20260424T055427
CREATED:20260107T180044Z
LAST-MODIFIED:20260224T230537Z
UID:11800-1799866800-1799870400@fbcvallejo.net
SUMMARY:Prayer Meeting
DESCRIPTION:
URL:https://fbcvallejo.net/_event/prayer-meeting-106/
END:VEVENT
BEGIN:VEVENT
DTSTART;TZID=America/Los_Angeles:20270115T190000
DTEND;TZID=America/Los_Angeles:20270115T213000
DTSTAMP:20260424T055427
CREATED:20260107T180044Z
LAST-MODIFIED:20260423T235808Z
UID:11802-1800039600-1800048600@fbcvallejo.net
SUMMARY:Youth Bible Study Kickoff
DESCRIPTION:
URL:https://fbcvallejo.net/_event/youth-bible-study-kickoff-2/
LOCATION:Fellowship Hall
END:VEVENT
BEGIN:VEVENT
DTSTART;TZID=America/Los_Angeles:20270119T190000
DTEND;TZID=America/Los_Angeles:20270119T210000
DTSTAMP:20260424T055427
CREATED:20260107T180044Z
LAST-MODIFIED:20260423T235809Z
UID:11803-1800385200-1800392400@fbcvallejo.net
SUMMARY:Celebrate Recovery
DESCRIPTION:
URL:https://fbcvallejo.net/_event/celebrate-recovery-107/
END:VEVENT
BEGIN:VEVENT
DTSTART;TZID=America/Los_Angeles:20270120T190000
DTEND;TZID=America/Los_Angeles:20270120T200000
DTSTAMP:20260424T055427
CREATED:20260107T180045Z
LAST-MODIFIED:20260224T230537Z
UID:11804-1800471600-1800475200@fbcvallejo.net
SUMMARY:Prayer Meeting
DESCRIPTION:
URL:https://fbcvallejo.net/_event/prayer-meeting-107/
END:VEVENT
BEGIN:VEVENT
DTSTART;TZID=America/Los_Angeles:20270122T190000
DTEND;TZID=America/Los_Angeles:20270122T213000
DTSTAMP:20260424T055427
CREATED:20260107T180045Z
LAST-MODIFIED:20260423T235809Z
UID:11805-1800644400-1800653400@fbcvallejo.net
SUMMARY:Youth Board Game Night
DESCRIPTION:
URL:https://fbcvallejo.net/_event/youth-board-game-night-2/
LOCATION:Fellowship Hall
END:VEVENT
BEGIN:VEVENT
DTSTART;TZID=America/Los_Angeles:20270126T190000
DTEND;TZID=America/Los_Angeles:20270126T210000
DTSTAMP:20260424T055427
CREATED:20260107T180045Z
LAST-MODIFIED:20260423T235809Z
UID:11806-1800990000-1800997200@fbcvallejo.net
SUMMARY:Celebrate Recovery
DESCRIPTION:
URL:https://fbcvallejo.net/_event/celebrate-recovery-108/
END:VEVENT
BEGIN:VEVENT
DTSTART;TZID=America/Los_Angeles:20270127T190000
DTEND;TZID=America/Los_Angeles:20270127T200000
DTSTAMP:20260424T055427
CREATED:20260107T180045Z
LAST-MODIFIED:20260224T230537Z
UID:11807-1801076400-1801080000@fbcvallejo.net
SUMMARY:Prayer Meeting
DESCRIPTION:
URL:https://fbcvallejo.net/_event/prayer-meeting-108/
END:VEVENT
BEGIN:VEVENT
DTSTART;TZID=America/Los_Angeles:20270202T190000
DTEND;TZID=America/Los_Angeles:20270202T210000
DTSTAMP:20260424T055427
CREATED:20260107T180045Z
LAST-MODIFIED:20260423T235809Z
UID:11808-1801594800-1801602000@fbcvallejo.net
SUMMARY:Celebrate Recovery
DESCRIPTION:
URL:https://fbcvallejo.net/_event/celebrate-recovery-109/
END:VEVENT
END:VCALENDAR