BEGIN:VCALENDAR
VERSION:2.0
PRODID:-//Faith Bible Church of Vallejo - ECPv6.15.20//NONSGML v1.0//EN
CALSCALE:GREGORIAN
METHOD:PUBLISH
X-ORIGINAL-URL:https://fbcvallejo.net
X-WR-CALDESC:Events for Faith Bible Church of Vallejo
REFRESH-INTERVAL;VALUE=DURATION:PT1H
X-Robots-Tag:noindex
X-PUBLISHED-TTL:PT1H
BEGIN:VTIMEZONE
TZID:America/Los_Angeles
BEGIN:DAYLIGHT
TZOFFSETFROM:-0800
TZOFFSETTO:-0700
TZNAME:PDT
DTSTART:20230312T100000
END:DAYLIGHT
BEGIN:STANDARD
TZOFFSETFROM:-0700
TZOFFSETTO:-0800
TZNAME:PST
DTSTART:20231105T090000
END:STANDARD
BEGIN:DAYLIGHT
TZOFFSETFROM:-0800
TZOFFSETTO:-0700
TZNAME:PDT
DTSTART:20240310T100000
END:DAYLIGHT
BEGIN:STANDARD
TZOFFSETFROM:-0700
TZOFFSETTO:-0800
TZNAME:PST
DTSTART:20241103T090000
END:STANDARD
BEGIN:DAYLIGHT
TZOFFSETFROM:-0800
TZOFFSETTO:-0700
TZNAME:PDT
DTSTART:20250309T100000
END:DAYLIGHT
BEGIN:STANDARD
TZOFFSETFROM:-0700
TZOFFSETTO:-0800
TZNAME:PST
DTSTART:20251102T090000
END:STANDARD
BEGIN:DAYLIGHT
TZOFFSETFROM:-0800
TZOFFSETTO:-0700
TZNAME:PDT
DTSTART:20260308T100000
END:DAYLIGHT
BEGIN:STANDARD
TZOFFSETFROM:-0700
TZOFFSETTO:-0800
TZNAME:PST
DTSTART:20261101T090000
END:STANDARD
END:VTIMEZONE
BEGIN:VEVENT
DTSTART;TZID=America/Los_Angeles:20241215T110000
DTEND;TZID=America/Los_Angeles:20241215T123000
DTSTAMP:20260425T053445
CREATED:20241014T005834Z
LAST-MODIFIED:20241215T184618Z
UID:425-1734260400-1734265800@fbcvallejo.net
SUMMARY:11AM Sunday Live Stream Service
DESCRIPTION:Weekly Bulletins – https://fbcvallejo.net/sermons/bulletins/ \nLivestream Links \nFacebook: https://www.facebook.com/faithbiblechurchvallejo/live \nYouTube: https://youtube.com/channel/UCRvwFe65dkysxaJgD6mHUIw/live  
URL:https://fbcvallejo.net/_event/11am-sunday-live-stream-service-9/
LOCATION:901 Solano Ave\, Vallejo\, CA\, United States
END:VEVENT
BEGIN:VEVENT
DTSTART;TZID=America/Los_Angeles:20241215T110000
DTEND;TZID=America/Los_Angeles:20241215T130000
DTSTAMP:20260425T053445
CREATED:20241014T005834Z
LAST-MODIFIED:20241215T184617Z
UID:426-1734260400-1734267600@fbcvallejo.net
SUMMARY:Faith Food Fridays
DESCRIPTION:
URL:https://fbcvallejo.net/_event/faith-food-fridays-9/
END:VEVENT
BEGIN:VEVENT
DTSTART;TZID=America/Los_Angeles:20241222T090000
DTEND;TZID=America/Los_Angeles:20241222T103000
DTSTAMP:20260425T053445
CREATED:20241014T005834Z
LAST-MODIFIED:20241221T193655Z
UID:427-1734858000-1734863400@fbcvallejo.net
SUMMARY:9AM Sunday Service
DESCRIPTION:Weekly Bulletins – https://fbcvallejo.net/sermons/bulletins/ \nMap Directions – https://maps.app.goo.gl/EeDx3fN8phUAtJ8y5
URL:https://fbcvallejo.net/_event/9am-sunday-service-10/
LOCATION:901 Solano Ave\, Vallejo\, CA\, United States
END:VEVENT
BEGIN:VEVENT
DTSTART;TZID=America/Los_Angeles:20241222T110000
DTEND;TZID=America/Los_Angeles:20241222T123000
DTSTAMP:20260425T053445
CREATED:20241014T005834Z
LAST-MODIFIED:20241222T193720Z
UID:428-1734865200-1734870600@fbcvallejo.net
SUMMARY:11AM Sunday Live Stream Service
DESCRIPTION:Weekly Bulletins – https://fbcvallejo.net/sermons/bulletins/ \nLivestream Links \nFacebook: https://www.facebook.com/faithbiblechurchvallejo/live \nYouTube: https://youtube.com/channel/UCRvwFe65dkysxaJgD6mHUIw/live  
URL:https://fbcvallejo.net/_event/11am-sunday-live-stream-service-10/
LOCATION:901 Solano Ave\, Vallejo\, CA\, United States
END:VEVENT
BEGIN:VEVENT
DTSTART;TZID=America/Los_Angeles:20241222T110000
DTEND;TZID=America/Los_Angeles:20241222T123000
DTSTAMP:20260425T053445
CREATED:20241014T005835Z
LAST-MODIFIED:20241222T193720Z
UID:429-1734865200-1734870600@fbcvallejo.net
SUMMARY:11AM Children's Sunday School
DESCRIPTION:Children’s Sanctuary \nMap Directions – https://maps.app.goo.gl/EeDx3fN8phUAtJ8y5
URL:https://fbcvallejo.net/_event/11am-childrens-sunday-school-10/
LOCATION:901 Solano Ave\, Vallejo\, CA\, United States
END:VEVENT
BEGIN:VEVENT
DTSTART;TZID=America/Los_Angeles:20241222T110000
DTEND;TZID=America/Los_Angeles:20241222T123000
DTSTAMP:20260425T053445
CREATED:20241014T005835Z
LAST-MODIFIED:20241222T193721Z
UID:430-1734865200-1734870600@fbcvallejo.net
SUMMARY:11AM Sunday Service
DESCRIPTION:Weekly Bulletins – https://fbcvallejo.net/sermons/bulletins/ \nMap Directions – https://maps.app.goo.gl/EeDx3fN8phUAtJ8y5
URL:https://fbcvallejo.net/_event/11am-sunday-service-10/
LOCATION:901 Solano Ave\, Vallejo\, CA\, United States
END:VEVENT
BEGIN:VEVENT
DTSTART;TZID=America/Los_Angeles:20241222T110000
DTEND;TZID=America/Los_Angeles:20241222T130000
DTSTAMP:20260425T053445
CREATED:20241014T005835Z
LAST-MODIFIED:20241222T193720Z
UID:431-1734865200-1734872400@fbcvallejo.net
SUMMARY:Faith Food Fridays
DESCRIPTION:
URL:https://fbcvallejo.net/_event/faith-food-fridays-10/
END:VEVENT
BEGIN:VEVENT
DTSTART;TZID=America/Los_Angeles:20241229T090000
DTEND;TZID=America/Los_Angeles:20241229T103000
DTSTAMP:20260425T053445
CREATED:20241014T005835Z
LAST-MODIFIED:20241228T221107Z
UID:432-1735462800-1735468200@fbcvallejo.net
SUMMARY:9AM Sunday Service
DESCRIPTION:Weekly Bulletins – https://fbcvallejo.net/sermons/bulletins/ \nMap Directions – https://maps.app.goo.gl/EeDx3fN8phUAtJ8y5
URL:https://fbcvallejo.net/_event/9am-sunday-service-11/
LOCATION:901 Solano Ave\, Vallejo\, CA\, United States
END:VEVENT
BEGIN:VEVENT
DTSTART;TZID=America/Los_Angeles:20241229T110000
DTEND;TZID=America/Los_Angeles:20241229T123000
DTSTAMP:20260425T053445
CREATED:20241014T005836Z
LAST-MODIFIED:20241228T221107Z
UID:433-1735470000-1735475400@fbcvallejo.net
SUMMARY:11AM Sunday Live Stream Service
DESCRIPTION:Weekly Bulletins – https://fbcvallejo.net/sermons/bulletins/ \nLivestream Links \nFacebook: https://www.facebook.com/faithbiblechurchvallejo/live \nYouTube: https://youtube.com/channel/UCRvwFe65dkysxaJgD6mHUIw/live  
URL:https://fbcvallejo.net/_event/11am-sunday-live-stream-service-11/
LOCATION:901 Solano Ave\, Vallejo\, CA\, United States
END:VEVENT
BEGIN:VEVENT
DTSTART;TZID=America/Los_Angeles:20241229T110000
DTEND;TZID=America/Los_Angeles:20241229T123000
DTSTAMP:20260425T053445
CREATED:20241014T005837Z
LAST-MODIFIED:20241228T221107Z
UID:435-1735470000-1735475400@fbcvallejo.net
SUMMARY:11AM Children's Sunday School
DESCRIPTION:Children’s Sanctuary \nMap Directions – https://maps.app.goo.gl/EeDx3fN8phUAtJ8y5
URL:https://fbcvallejo.net/_event/11am-childrens-sunday-school-11/
LOCATION:901 Solano Ave\, Vallejo\, CA\, United States
END:VEVENT
BEGIN:VEVENT
DTSTART;TZID=America/Los_Angeles:20241229T110000
DTEND;TZID=America/Los_Angeles:20241229T123000
DTSTAMP:20260425T053445
CREATED:20241014T005837Z
LAST-MODIFIED:20241228T221108Z
UID:436-1735470000-1735475400@fbcvallejo.net
SUMMARY:11AM Sunday Service
DESCRIPTION:Weekly Bulletins – https://fbcvallejo.net/sermons/bulletins/ \nMap Directions – https://maps.app.goo.gl/EeDx3fN8phUAtJ8y5
URL:https://fbcvallejo.net/_event/11am-sunday-service-11/
LOCATION:901 Solano Ave\, Vallejo\, CA\, United States
END:VEVENT
BEGIN:VEVENT
DTSTART;TZID=America/Los_Angeles:20241229T110000
DTEND;TZID=America/Los_Angeles:20241229T130000
DTSTAMP:20260425T053445
CREATED:20241014T005837Z
LAST-MODIFIED:20241228T221107Z
UID:434-1735470000-1735477200@fbcvallejo.net
SUMMARY:Faith Food Fridays
DESCRIPTION:
URL:https://fbcvallejo.net/_event/faith-food-fridays-11/
END:VEVENT
BEGIN:VEVENT
DTSTART;TZID=America/Los_Angeles:20250102T193000
DTEND;TZID=America/Los_Angeles:20250102T203000
DTSTAMP:20260425T053445
CREATED:20241014T005838Z
LAST-MODIFIED:20250102T223311Z
UID:437-1735846200-1735849800@fbcvallejo.net
SUMMARY:Women's Prayer Meeting
DESCRIPTION:
URL:https://fbcvallejo.net/_event/womens-prayer-meeting-3/
LOCATION:ZOOM
END:VEVENT
BEGIN:VEVENT
DTSTART;TZID=America/Los_Angeles:20250103T190000
DTEND;TZID=America/Los_Angeles:20250103T220000
DTSTAMP:20260425T053445
CREATED:20241223T212550Z
LAST-MODIFIED:20250103T224847Z
UID:1388-1735930800-1735941600@fbcvallejo.net
SUMMARY:Ministry Worker's Planning & Training - 2025  (Day 1)
DESCRIPTION:Registration Link
URL:https://fbcvallejo.net/_event/ministry-workers-planning-training-2025-day-1/
LOCATION:701 Solano Ave\, Vallejo\, CA\, United States
CATEGORIES:Event
END:VEVENT
BEGIN:VEVENT
DTSTART;TZID=America/Los_Angeles:20250104T090000
DTEND;TZID=America/Los_Angeles:20250104T150000
DTSTAMP:20260425T053445
CREATED:20241223T212550Z
LAST-MODIFIED:20250104T225102Z
UID:1389-1735981200-1736002800@fbcvallejo.net
SUMMARY:Ministry Worker's Planning & Training - 2025  (Day 2)
DESCRIPTION:Registration Link
URL:https://fbcvallejo.net/_event/ministry-workers-planning-training-2025-day-2/
LOCATION:701 Solano Ave\, Vallejo\, CA\, United States
CATEGORIES:Event
END:VEVENT
BEGIN:VEVENT
DTSTART;TZID=America/Los_Angeles:20250105T000000
DTEND;TZID=America/Los_Angeles:20250105T235959
DTSTAMP:20260425T053445
CREATED:20241014T005839Z
LAST-MODIFIED:20250105T230101Z
UID:442-1736035200-1736121599@fbcvallejo.net
SUMMARY:Communion
DESCRIPTION:
URL:https://fbcvallejo.net/_event/communion-3/
END:VEVENT
BEGIN:VEVENT
DTSTART;TZID=America/Los_Angeles:20250105T090000
DTEND;TZID=America/Los_Angeles:20250105T103000
DTSTAMP:20260425T053445
CREATED:20241014T005838Z
LAST-MODIFIED:20250104T225102Z
UID:438-1736067600-1736073000@fbcvallejo.net
SUMMARY:9AM Sunday Service
DESCRIPTION:Weekly Bulletins – https://fbcvallejo.net/sermons/bulletins/ \nMap Directions – https://maps.app.goo.gl/EeDx3fN8phUAtJ8y5
URL:https://fbcvallejo.net/_event/9am-sunday-service-12/
LOCATION:901 Solano Ave\, Vallejo\, CA\, United States
END:VEVENT
BEGIN:VEVENT
DTSTART;TZID=America/Los_Angeles:20250105T110000
DTEND;TZID=America/Los_Angeles:20250105T123000
DTSTAMP:20260425T053445
CREATED:20241014T005838Z
LAST-MODIFIED:20250104T225103Z
UID:439-1736074800-1736080200@fbcvallejo.net
SUMMARY:11AM Sunday Service
DESCRIPTION:Weekly Bulletins – https://fbcvallejo.net/sermons/bulletins/ \nMap Directions – https://maps.app.goo.gl/EeDx3fN8phUAtJ8y5
URL:https://fbcvallejo.net/_event/11am-sunday-service-12/
LOCATION:901 Solano Ave\, Vallejo\, CA\, United States
END:VEVENT
BEGIN:VEVENT
DTSTART;TZID=America/Los_Angeles:20250105T110000
DTEND;TZID=America/Los_Angeles:20250105T123000
DTSTAMP:20260425T053445
CREATED:20241014T005839Z
LAST-MODIFIED:20250104T225103Z
UID:441-1736074800-1736080200@fbcvallejo.net
SUMMARY:11AM Sunday Live Stream Service
DESCRIPTION:Weekly Bulletins – https://fbcvallejo.net/sermons/bulletins/ \nLivestream Links \nFacebook: https://www.facebook.com/faithbiblechurchvallejo/live \nYouTube: https://youtube.com/channel/UCRvwFe65dkysxaJgD6mHUIw/live  
URL:https://fbcvallejo.net/_event/11am-sunday-live-stream-service-12/
LOCATION:901 Solano Ave\, Vallejo\, CA\, United States
END:VEVENT
BEGIN:VEVENT
DTSTART;TZID=America/Los_Angeles:20250105T110000
DTEND;TZID=America/Los_Angeles:20250105T123000
DTSTAMP:20260425T053445
CREATED:20241014T005839Z
LAST-MODIFIED:20250104T225103Z
UID:443-1736074800-1736080200@fbcvallejo.net
SUMMARY:11AM Children's Sunday School
DESCRIPTION:Children’s Sanctuary \nMap Directions – https://maps.app.goo.gl/EeDx3fN8phUAtJ8y5
URL:https://fbcvallejo.net/_event/11am-childrens-sunday-school-12/
LOCATION:901 Solano Ave\, Vallejo\, CA\, United States
END:VEVENT
BEGIN:VEVENT
DTSTART;TZID=America/Los_Angeles:20250105T110000
DTEND;TZID=America/Los_Angeles:20250105T130000
DTSTAMP:20260425T053445
CREATED:20241014T005838Z
LAST-MODIFIED:20250104T225103Z
UID:440-1736074800-1736082000@fbcvallejo.net
SUMMARY:Faith Food Fridays
DESCRIPTION:
URL:https://fbcvallejo.net/_event/faith-food-fridays-12/
END:VEVENT
BEGIN:VEVENT
DTSTART;TZID=America/Los_Angeles:20250107T190000
DTEND;TZID=America/Los_Angeles:20250107T210000
DTSTAMP:20260425T053445
CREATED:20250104T225103Z
LAST-MODIFIED:20250107T230153Z
UID:1708-1736276400-1736283600@fbcvallejo.net
SUMMARY:Celebrate Recovery
DESCRIPTION:
URL:https://fbcvallejo.net/_event/celebrate-recovery/
END:VEVENT
BEGIN:VEVENT
DTSTART;TZID=America/Los_Angeles:20250108T190000
DTEND;TZID=America/Los_Angeles:20250108T200000
DTSTAMP:20260425T053445
CREATED:20241231T222659Z
LAST-MODIFIED:20250108T230352Z
UID:1425-1736362800-1736366400@fbcvallejo.net
SUMMARY:Prayer Meeting
DESCRIPTION:
URL:https://fbcvallejo.net/_event/prayer-meeting/
END:VEVENT
BEGIN:VEVENT
DTSTART;TZID=America/Los_Angeles:20250112T090000
DTEND;TZID=America/Los_Angeles:20250112T103000
DTSTAMP:20260425T053445
CREATED:20241014T005839Z
LAST-MODIFIED:20250111T230010Z
UID:444-1736672400-1736677800@fbcvallejo.net
SUMMARY:9AM Sunday Service
DESCRIPTION:Weekly Bulletins – https://fbcvallejo.net/sermons/bulletins/ \nMap Directions – https://maps.app.goo.gl/EeDx3fN8phUAtJ8y5
URL:https://fbcvallejo.net/_event/9am-sunday-service-13/
LOCATION:901 Solano Ave\, Vallejo\, CA\, United States
END:VEVENT
BEGIN:VEVENT
DTSTART;TZID=America/Los_Angeles:20250112T110000
DTEND;TZID=America/Los_Angeles:20250112T123000
DTSTAMP:20260425T053445
CREATED:20241014T005839Z
LAST-MODIFIED:20250111T230010Z
UID:445-1736679600-1736685000@fbcvallejo.net
SUMMARY:11AM Children's Sunday School
DESCRIPTION:Children’s Sanctuary \nMap Directions – https://maps.app.goo.gl/EeDx3fN8phUAtJ8y5
URL:https://fbcvallejo.net/_event/11am-childrens-sunday-school-13/
LOCATION:901 Solano Ave\, Vallejo\, CA\, United States
END:VEVENT
BEGIN:VEVENT
DTSTART;TZID=America/Los_Angeles:20250112T110000
DTEND;TZID=America/Los_Angeles:20250112T123000
DTSTAMP:20260425T053445
CREATED:20241014T005840Z
LAST-MODIFIED:20250111T230010Z
UID:446-1736679600-1736685000@fbcvallejo.net
SUMMARY:11AM Sunday Live Stream Service
DESCRIPTION:Weekly Bulletins – https://fbcvallejo.net/sermons/bulletins/ \nLivestream Links \nFacebook: https://www.facebook.com/faithbiblechurchvallejo/live \nYouTube: https://youtube.com/channel/UCRvwFe65dkysxaJgD6mHUIw/live  
URL:https://fbcvallejo.net/_event/11am-sunday-live-stream-service-13/
LOCATION:901 Solano Ave\, Vallejo\, CA\, United States
END:VEVENT
BEGIN:VEVENT
DTSTART;TZID=America/Los_Angeles:20250112T110000
DTEND;TZID=America/Los_Angeles:20250112T123000
DTSTAMP:20260425T053445
CREATED:20241014T005840Z
LAST-MODIFIED:20250111T230010Z
UID:447-1736679600-1736685000@fbcvallejo.net
SUMMARY:11AM Sunday Service
DESCRIPTION:Weekly Bulletins – https://fbcvallejo.net/sermons/bulletins/ \nMap Directions – https://maps.app.goo.gl/EeDx3fN8phUAtJ8y5
URL:https://fbcvallejo.net/_event/11am-sunday-service-13/
LOCATION:901 Solano Ave\, Vallejo\, CA\, United States
END:VEVENT
BEGIN:VEVENT
DTSTART;TZID=America/Los_Angeles:20250112T110000
DTEND;TZID=America/Los_Angeles:20250112T130000
DTSTAMP:20260425T053445
CREATED:20241014T005840Z
LAST-MODIFIED:20250111T230010Z
UID:448-1736679600-1736686800@fbcvallejo.net
SUMMARY:Faith Food Fridays
DESCRIPTION:
URL:https://fbcvallejo.net/_event/faith-food-fridays-13/
END:VEVENT
BEGIN:VEVENT
DTSTART;TZID=America/Los_Angeles:20250112T130000
DTEND;TZID=America/Los_Angeles:20250112T140000
DTSTAMP:20260425T053445
CREATED:20241231T222700Z
LAST-MODIFIED:20250111T230011Z
UID:1426-1736686800-1736690400@fbcvallejo.net
SUMMARY:Elders' Meeting
DESCRIPTION:
URL:https://fbcvallejo.net/_event/elders-meeting/
END:VEVENT
BEGIN:VEVENT
DTSTART;TZID=America/Los_Angeles:20250112T130000
DTEND;TZID=America/Los_Angeles:20250112T140000
DTSTAMP:20260425T053445
CREATED:20250102T223209Z
LAST-MODIFIED:20250111T230011Z
UID:1564-1736686800-1736690400@fbcvallejo.net
SUMMARY:Veritas FBE Prayer Meeting
DESCRIPTION:
URL:https://fbcvallejo.net/_event/veritas-fbe-prayer-meeting/
END:VEVENT
END:VCALENDAR