BEGIN:VCALENDAR
VERSION:2.0
PRODID:-//Faith Bible Church of Vallejo - ECPv6.15.20//NONSGML v1.0//EN
CALSCALE:GREGORIAN
METHOD:PUBLISH
X-ORIGINAL-URL:https://fbcvallejo.net
X-WR-CALDESC:Events for Faith Bible Church of Vallejo
REFRESH-INTERVAL;VALUE=DURATION:PT1H
X-Robots-Tag:noindex
X-PUBLISHED-TTL:PT1H
BEGIN:VTIMEZONE
TZID:America/Los_Angeles
BEGIN:DAYLIGHT
TZOFFSETFROM:-0800
TZOFFSETTO:-0700
TZNAME:PDT
DTSTART:20250309T100000
END:DAYLIGHT
BEGIN:STANDARD
TZOFFSETFROM:-0700
TZOFFSETTO:-0800
TZNAME:PST
DTSTART:20251102T090000
END:STANDARD
BEGIN:DAYLIGHT
TZOFFSETFROM:-0800
TZOFFSETTO:-0700
TZNAME:PDT
DTSTART:20260308T100000
END:DAYLIGHT
BEGIN:STANDARD
TZOFFSETFROM:-0700
TZOFFSETTO:-0800
TZNAME:PST
DTSTART:20261101T090000
END:STANDARD
BEGIN:DAYLIGHT
TZOFFSETFROM:-0800
TZOFFSETTO:-0700
TZNAME:PDT
DTSTART:20270314T100000
END:DAYLIGHT
BEGIN:STANDARD
TZOFFSETFROM:-0700
TZOFFSETTO:-0800
TZNAME:PST
DTSTART:20271107T090000
END:STANDARD
END:VTIMEZONE
BEGIN:VEVENT
DTSTART;TZID=America/Los_Angeles:20260308T110000
DTEND;TZID=America/Los_Angeles:20260308T130000
DTSTAMP:20260424T023953
CREATED:20250726T214636Z
LAST-MODIFIED:20260106T175956Z
UID:4121-1772967600-1772974800@fbcvallejo.net
SUMMARY:Faith Food Fridays
DESCRIPTION:
URL:https://fbcvallejo.net/_event/faith-food-fridays-73/
END:VEVENT
BEGIN:VEVENT
DTSTART;TZID=America/Los_Angeles:20260310T190000
DTEND;TZID=America/Los_Angeles:20260310T210000
DTSTAMP:20260424T023953
CREATED:20250727T214931Z
LAST-MODIFIED:20260310T183430Z
UID:4130-1773169200-1773176400@fbcvallejo.net
SUMMARY:Celebrate Recovery
DESCRIPTION:
URL:https://fbcvallejo.net/_event/celebrate-recovery-62/
END:VEVENT
BEGIN:VEVENT
DTSTART;TZID=America/Los_Angeles:20260311T190000
DTEND;TZID=America/Los_Angeles:20260311T200000
DTSTAMP:20260424T023953
CREATED:20250727T214932Z
LAST-MODIFIED:20260224T230509Z
UID:4131-1773255600-1773259200@fbcvallejo.net
SUMMARY:Prayer Meeting
DESCRIPTION:
URL:https://fbcvallejo.net/_event/prayer-meeting-62/
END:VEVENT
BEGIN:VEVENT
DTSTART;TZID=America/Los_Angeles:20260313T190000
DTEND;TZID=America/Los_Angeles:20260313T213000
DTSTAMP:20260424T023953
CREATED:20251214T121932Z
LAST-MODIFIED:20260313T184916Z
UID:11327-1773428400-1773437400@fbcvallejo.net
SUMMARY:JRHC Pre-Camp Worship Rally/Fellowship
DESCRIPTION:
URL:https://fbcvallejo.net/_event/jrhc-pre-camp-worship-rally-fellowship-2/
LOCATION:Fellowship Hall
END:VEVENT
BEGIN:VEVENT
DTSTART;TZID=America/Los_Angeles:20260315T090000
DTEND;TZID=America/Los_Angeles:20260315T103000
DTSTAMP:20260424T023953
CREATED:20250727T214932Z
LAST-MODIFIED:20260106T175957Z
UID:4132-1773565200-1773570600@fbcvallejo.net
SUMMARY:9AM Sunday Service
DESCRIPTION:Weekly Bulletins – https://fbcvallejo.net/sermons/bulletins/ \nMap Directions – https://maps.app.goo.gl/EeDx3fN8phUAtJ8y5
URL:https://fbcvallejo.net/_event/9am-sunday-service-74/
LOCATION:901 Solano Ave\, Vallejo\, CA\, United States
END:VEVENT
BEGIN:VEVENT
DTSTART;TZID=America/Los_Angeles:20260315T110000
DTEND;TZID=America/Los_Angeles:20260315T123000
DTSTAMP:20260424T023953
CREATED:20250730T220037Z
LAST-MODIFIED:20260106T175957Z
UID:4148-1773572400-1773577800@fbcvallejo.net
SUMMARY:11AM Children's Sunday School
DESCRIPTION:Children’s Sanctuary \nMap Directions – https://maps.app.goo.gl/EeDx3fN8phUAtJ8y5
URL:https://fbcvallejo.net/_event/11am-childrens-sunday-school-74/
LOCATION:901 Solano Ave\, Vallejo\, CA\, United States
END:VEVENT
BEGIN:VEVENT
DTSTART;TZID=America/Los_Angeles:20260315T110000
DTEND;TZID=America/Los_Angeles:20260315T123000
DTSTAMP:20260424T023953
CREATED:20250731T220119Z
LAST-MODIFIED:20260106T175957Z
UID:4152-1773572400-1773577800@fbcvallejo.net
SUMMARY:11AM Sunday Service
DESCRIPTION:Weekly Bulletins – https://fbcvallejo.net/sermons/bulletins/ \nMap Directions – https://maps.app.goo.gl/EeDx3fN8phUAtJ8y5
URL:https://fbcvallejo.net/_event/11am-sunday-service-74/
LOCATION:901 Solano Ave\, Vallejo\, CA\, United States
END:VEVENT
BEGIN:VEVENT
DTSTART;TZID=America/Los_Angeles:20260315T110000
DTEND;TZID=America/Los_Angeles:20260315T123000
DTSTAMP:20260424T023953
CREATED:20250731T220119Z
LAST-MODIFIED:20260106T175957Z
UID:4154-1773572400-1773577800@fbcvallejo.net
SUMMARY:11AM Sunday Live Stream Service
DESCRIPTION:Weekly Bulletins – https://fbcvallejo.net/sermons/bulletins/ \nLivestream Links \nFacebook: https://www.facebook.com/faithbiblechurchvallejo/live \nYouTube: https://youtube.com/channel/UCRvwFe65dkysxaJgD6mHUIw/live  
URL:https://fbcvallejo.net/_event/11am-sunday-live-stream-service-74/
LOCATION:901 Solano Ave\, Vallejo\, CA\, United States
END:VEVENT
BEGIN:VEVENT
DTSTART;TZID=America/Los_Angeles:20260315T110000
DTEND;TZID=America/Los_Angeles:20260315T130000
DTSTAMP:20260424T023953
CREATED:20250730T220036Z
LAST-MODIFIED:20260106T175957Z
UID:4147-1773572400-1773579600@fbcvallejo.net
SUMMARY:Faith Food Fridays
DESCRIPTION:
URL:https://fbcvallejo.net/_event/faith-food-fridays-74/
END:VEVENT
BEGIN:VEVENT
DTSTART;TZID=America/Los_Angeles:20260317T190000
DTEND;TZID=America/Los_Angeles:20260317T210000
DTSTAMP:20260424T023953
CREATED:20250803T220026Z
LAST-MODIFIED:20260317T193715Z
UID:4167-1773774000-1773781200@fbcvallejo.net
SUMMARY:Celebrate Recovery
DESCRIPTION:
URL:https://fbcvallejo.net/_event/celebrate-recovery-63/
END:VEVENT
BEGIN:VEVENT
DTSTART;TZID=America/Los_Angeles:20260318T190000
DTEND;TZID=America/Los_Angeles:20260318T200000
DTSTAMP:20260424T023953
CREATED:20250803T220027Z
LAST-MODIFIED:20260224T230511Z
UID:4168-1773860400-1773864000@fbcvallejo.net
SUMMARY:Prayer Meeting
DESCRIPTION:
URL:https://fbcvallejo.net/_event/prayer-meeting-63/
END:VEVENT
BEGIN:VEVENT
DTSTART;TZID=America/Los_Angeles:20260320T190000
DTEND;TZID=America/Los_Angeles:20260320T213000
DTSTAMP:20260424T023953
CREATED:20251214T121934Z
LAST-MODIFIED:20260318T195033Z
UID:11329-1774033200-1774042200@fbcvallejo.net
SUMMARY:Youth (Guest Speaker)
DESCRIPTION:
URL:https://fbcvallejo.net/_event/youth-guest-speaker/
END:VEVENT
BEGIN:VEVENT
DTSTART;TZID=America/Los_Angeles:20260321T100000
DTEND;TZID=America/Los_Angeles:20260321T123000
DTSTAMP:20260424T023953
CREATED:20251214T121932Z
LAST-MODIFIED:20260318T195034Z
UID:11328-1774087200-1774096200@fbcvallejo.net
SUMMARY:MENS Teaching Hour Meeting #1 - Coffee Prayer
DESCRIPTION:
URL:https://fbcvallejo.net/_event/mens-teaching-hour-meeting-1-coffee-prayer-2/
LOCATION:Fellowship Hall
END:VEVENT
BEGIN:VEVENT
DTSTART;TZID=America/Los_Angeles:20260322T090000
DTEND;TZID=America/Los_Angeles:20260322T103000
DTSTAMP:20260424T023953
CREATED:20250803T220027Z
LAST-MODIFIED:20260106T175958Z
UID:4169-1774170000-1774175400@fbcvallejo.net
SUMMARY:9AM Sunday Service
DESCRIPTION:Weekly Bulletins – https://fbcvallejo.net/sermons/bulletins/ \nMap Directions – https://maps.app.goo.gl/EeDx3fN8phUAtJ8y5
URL:https://fbcvallejo.net/_event/9am-sunday-service-75/
LOCATION:901 Solano Ave\, Vallejo\, CA\, United States
END:VEVENT
BEGIN:VEVENT
DTSTART;TZID=America/Los_Angeles:20260322T110000
DTEND;TZID=America/Los_Angeles:20260322T123000
DTSTAMP:20260424T023953
CREATED:20250803T220027Z
LAST-MODIFIED:20260106T175958Z
UID:4171-1774177200-1774182600@fbcvallejo.net
SUMMARY:11AM Sunday Live Stream Service
DESCRIPTION:Weekly Bulletins – https://fbcvallejo.net/sermons/bulletins/ \nLivestream Links \nFacebook: https://www.facebook.com/faithbiblechurchvallejo/live \nYouTube: https://youtube.com/channel/UCRvwFe65dkysxaJgD6mHUIw/live  
URL:https://fbcvallejo.net/_event/11am-sunday-live-stream-service-75/
LOCATION:901 Solano Ave\, Vallejo\, CA\, United States
END:VEVENT
BEGIN:VEVENT
DTSTART;TZID=America/Los_Angeles:20260322T110000
DTEND;TZID=America/Los_Angeles:20260322T123000
DTSTAMP:20260424T023953
CREATED:20250803T220028Z
LAST-MODIFIED:20260106T175958Z
UID:4172-1774177200-1774182600@fbcvallejo.net
SUMMARY:11AM Sunday Service
DESCRIPTION:Weekly Bulletins – https://fbcvallejo.net/sermons/bulletins/ \nMap Directions – https://maps.app.goo.gl/EeDx3fN8phUAtJ8y5
URL:https://fbcvallejo.net/_event/11am-sunday-service-75/
LOCATION:901 Solano Ave\, Vallejo\, CA\, United States
END:VEVENT
BEGIN:VEVENT
DTSTART;TZID=America/Los_Angeles:20260322T110000
DTEND;TZID=America/Los_Angeles:20260322T123000
DTSTAMP:20260424T023953
CREATED:20250804T220038Z
LAST-MODIFIED:20260106T175958Z
UID:4182-1774177200-1774182600@fbcvallejo.net
SUMMARY:11AM Children's Sunday School
DESCRIPTION:Children’s Sanctuary \nMap Directions – https://maps.app.goo.gl/EeDx3fN8phUAtJ8y5
URL:https://fbcvallejo.net/_event/11am-childrens-sunday-school-75/
LOCATION:901 Solano Ave\, Vallejo\, CA\, United States
END:VEVENT
BEGIN:VEVENT
DTSTART;TZID=America/Los_Angeles:20260322T110000
DTEND;TZID=America/Los_Angeles:20260322T130000
DTSTAMP:20260424T023953
CREATED:20250803T220027Z
LAST-MODIFIED:20260106T175958Z
UID:4170-1774177200-1774184400@fbcvallejo.net
SUMMARY:Faith Food Fridays
DESCRIPTION:
URL:https://fbcvallejo.net/_event/faith-food-fridays-75/
END:VEVENT
BEGIN:VEVENT
DTSTART;TZID=America/Los_Angeles:20260324T190000
DTEND;TZID=America/Los_Angeles:20260324T210000
DTSTAMP:20260424T023953
CREATED:20250806T220156Z
LAST-MODIFIED:20260318T195035Z
UID:4190-1774378800-1774386000@fbcvallejo.net
SUMMARY:Celebrate Recovery
DESCRIPTION:
URL:https://fbcvallejo.net/_event/celebrate-recovery-64/
END:VEVENT
BEGIN:VEVENT
DTSTART;TZID=America/Los_Angeles:20260325T190000
DTEND;TZID=America/Los_Angeles:20260325T200000
DTSTAMP:20260424T023953
CREATED:20250807T220027Z
LAST-MODIFIED:20260224T230513Z
UID:4195-1774465200-1774468800@fbcvallejo.net
SUMMARY:Prayer Meeting
DESCRIPTION:
URL:https://fbcvallejo.net/_event/prayer-meeting-64/
END:VEVENT
BEGIN:VEVENT
DTSTART;TZID=America/Los_Angeles:20260327T190000
DTEND;TZID=America/Los_Angeles:20260327T213000
DTSTAMP:20260424T023953
CREATED:20251214T121937Z
LAST-MODIFIED:20260328T210419Z
UID:11330-1774638000-1774647000@fbcvallejo.net
SUMMARY:Youth Karaoke Fellowship
DESCRIPTION:
URL:https://fbcvallejo.net/_event/youth-karaoke-fellowship-2/
LOCATION:Fellowship Hall
END:VEVENT
BEGIN:VEVENT
DTSTART;TZID=America/Los_Angeles:20260329T090000
DTEND;TZID=America/Los_Angeles:20260329T103000
DTSTAMP:20260424T023953
CREATED:20250808T220145Z
LAST-MODIFIED:20260106T175959Z
UID:4200-1774774800-1774780200@fbcvallejo.net
SUMMARY:9AM Sunday Service
DESCRIPTION:Weekly Bulletins – https://fbcvallejo.net/sermons/bulletins/ \nMap Directions – https://maps.app.goo.gl/EeDx3fN8phUAtJ8y5
URL:https://fbcvallejo.net/_event/9am-sunday-service-76/
LOCATION:901 Solano Ave\, Vallejo\, CA\, United States
END:VEVENT
BEGIN:VEVENT
DTSTART;TZID=America/Los_Angeles:20260329T110000
DTEND;TZID=America/Los_Angeles:20260329T123000
DTSTAMP:20260424T023953
CREATED:20250810T221542Z
LAST-MODIFIED:20260106T180001Z
UID:4211-1774782000-1774787400@fbcvallejo.net
SUMMARY:11AM Sunday Live Stream Service
DESCRIPTION:Weekly Bulletins – https://fbcvallejo.net/sermons/bulletins/ \nLivestream Links \nFacebook: https://www.facebook.com/faithbiblechurchvallejo/live \nYouTube: https://youtube.com/channel/UCRvwFe65dkysxaJgD6mHUIw/live  
URL:https://fbcvallejo.net/_event/11am-sunday-live-stream-service-76/
LOCATION:901 Solano Ave\, Vallejo\, CA\, United States
END:VEVENT
BEGIN:VEVENT
DTSTART;TZID=America/Los_Angeles:20260329T110000
DTEND;TZID=America/Los_Angeles:20260329T123000
DTSTAMP:20260424T023953
CREATED:20250810T221542Z
LAST-MODIFIED:20260106T180000Z
UID:4210-1774782000-1774787400@fbcvallejo.net
SUMMARY:11AM Sunday Service
DESCRIPTION:Weekly Bulletins – https://fbcvallejo.net/sermons/bulletins/ \nMap Directions – https://maps.app.goo.gl/EeDx3fN8phUAtJ8y5
URL:https://fbcvallejo.net/_event/11am-sunday-service-76/
LOCATION:901 Solano Ave\, Vallejo\, CA\, United States
END:VEVENT
BEGIN:VEVENT
DTSTART;TZID=America/Los_Angeles:20260329T110000
DTEND;TZID=America/Los_Angeles:20260329T123000
DTSTAMP:20260424T023953
CREATED:20250810T221543Z
LAST-MODIFIED:20260106T180000Z
UID:4212-1774782000-1774787400@fbcvallejo.net
SUMMARY:11AM Children's Sunday School
DESCRIPTION:Children’s Sanctuary \nMap Directions – https://maps.app.goo.gl/EeDx3fN8phUAtJ8y5
URL:https://fbcvallejo.net/_event/11am-childrens-sunday-school-76/
LOCATION:901 Solano Ave\, Vallejo\, CA\, United States
END:VEVENT
BEGIN:VEVENT
DTSTART;TZID=America/Los_Angeles:20260329T110000
DTEND;TZID=America/Los_Angeles:20260329T130000
DTSTAMP:20260424T023953
CREATED:20250809T221157Z
LAST-MODIFIED:20260106T180000Z
UID:4205-1774782000-1774789200@fbcvallejo.net
SUMMARY:Faith Food Fridays
DESCRIPTION:
URL:https://fbcvallejo.net/_event/faith-food-fridays-76/
END:VEVENT
BEGIN:VEVENT
DTSTART;TZID=America/Los_Angeles:20260331T190000
DTEND;TZID=America/Los_Angeles:20260331T210000
DTSTAMP:20260424T023953
CREATED:20250810T221543Z
LAST-MODIFIED:20260331T211554Z
UID:4213-1774983600-1774990800@fbcvallejo.net
SUMMARY:Celebrate Recovery
DESCRIPTION:
URL:https://fbcvallejo.net/_event/celebrate-recovery-65/
END:VEVENT
BEGIN:VEVENT
DTSTART;TZID=America/Los_Angeles:20260401T190000
DTEND;TZID=America/Los_Angeles:20260401T200000
DTSTAMP:20260424T023953
CREATED:20250810T221543Z
LAST-MODIFIED:20260224T230516Z
UID:4214-1775070000-1775073600@fbcvallejo.net
SUMMARY:Prayer Meeting
DESCRIPTION:
URL:https://fbcvallejo.net/_event/prayer-meeting-65/
END:VEVENT
BEGIN:VEVENT
DTSTART;TZID=America/Los_Angeles:20260402T193000
DTEND;TZID=America/Los_Angeles:20260402T203000
DTSTAMP:20260424T023953
CREATED:20250810T221543Z
LAST-MODIFIED:20260402T214424Z
UID:4215-1775158200-1775161800@fbcvallejo.net
SUMMARY:Women's Prayer Meeting
DESCRIPTION:
URL:https://fbcvallejo.net/_event/womens-prayer-meeting-18/
LOCATION:ZOOM
END:VEVENT
BEGIN:VEVENT
DTSTART;TZID=America/Los_Angeles:20260403T000000
DTEND;TZID=America/Los_Angeles:20260403T235959
DTSTAMP:20260424T023953
CREATED:20251214T121941Z
LAST-MODIFIED:20260403T214956Z
UID:11331-1775174400-1775260799@fbcvallejo.net
SUMMARY:Youth - No Bible Study (Good Friday Service)
DESCRIPTION:
URL:https://fbcvallejo.net/_event/youth-no-bible-study-good-friday-service/
END:VEVENT
END:VCALENDAR