BEGIN:VCALENDAR
VERSION:2.0
PRODID:-//Faith Bible Church of Vallejo - ECPv6.15.20//NONSGML v1.0//EN
CALSCALE:GREGORIAN
METHOD:PUBLISH
X-WR-CALNAME:Faith Bible Church of Vallejo
X-ORIGINAL-URL:https://fbcvallejo.net
X-WR-CALDESC:Events for Faith Bible Church of Vallejo
REFRESH-INTERVAL;VALUE=DURATION:PT1H
X-Robots-Tag:noindex
X-PUBLISHED-TTL:PT1H
BEGIN:VTIMEZONE
TZID:America/Los_Angeles
BEGIN:DAYLIGHT
TZOFFSETFROM:-0800
TZOFFSETTO:-0700
TZNAME:PDT
DTSTART:20240310T100000
END:DAYLIGHT
BEGIN:STANDARD
TZOFFSETFROM:-0700
TZOFFSETTO:-0800
TZNAME:PST
DTSTART:20241103T090000
END:STANDARD
BEGIN:DAYLIGHT
TZOFFSETFROM:-0800
TZOFFSETTO:-0700
TZNAME:PDT
DTSTART:20250309T100000
END:DAYLIGHT
BEGIN:STANDARD
TZOFFSETFROM:-0700
TZOFFSETTO:-0800
TZNAME:PST
DTSTART:20251102T090000
END:STANDARD
BEGIN:DAYLIGHT
TZOFFSETFROM:-0800
TZOFFSETTO:-0700
TZNAME:PDT
DTSTART:20260308T100000
END:DAYLIGHT
BEGIN:STANDARD
TZOFFSETFROM:-0700
TZOFFSETTO:-0800
TZNAME:PST
DTSTART:20261101T090000
END:STANDARD
END:VTIMEZONE
BEGIN:VEVENT
DTSTART;TZID=America/Los_Angeles:20250112T130000
DTEND;TZID=America/Los_Angeles:20250112T140000
DTSTAMP:20260425T064944
CREATED:20241231T222700Z
LAST-MODIFIED:20250111T230011Z
UID:1426-1736686800-1736690400@fbcvallejo.net
SUMMARY:Elders' Meeting
DESCRIPTION:
URL:https://fbcvallejo.net/_event/elders-meeting/
END:VEVENT
BEGIN:VEVENT
DTSTART;TZID=America/Los_Angeles:20250112T130000
DTEND;TZID=America/Los_Angeles:20250112T140000
DTSTAMP:20260425T064944
CREATED:20250102T223209Z
LAST-MODIFIED:20250111T230011Z
UID:1564-1736686800-1736690400@fbcvallejo.net
SUMMARY:Veritas FBE Prayer Meeting
DESCRIPTION:
URL:https://fbcvallejo.net/_event/veritas-fbe-prayer-meeting/
END:VEVENT
BEGIN:VEVENT
DTSTART;TZID=America/Los_Angeles:20250114T190000
DTEND;TZID=America/Los_Angeles:20250114T200000
DTSTAMP:20260425T064944
CREATED:20250103T224851Z
LAST-MODIFIED:20250114T231637Z
UID:1685-1736881200-1736884800@fbcvallejo.net
SUMMARY:The Veritas School Board Meeting
DESCRIPTION:
URL:https://fbcvallejo.net/_event/the-veritas-school-board-meeting/
END:VEVENT
BEGIN:VEVENT
DTSTART;TZID=America/Los_Angeles:20250114T190000
DTEND;TZID=America/Los_Angeles:20250114T210000
DTSTAMP:20260425T064944
CREATED:20250104T225105Z
LAST-MODIFIED:20250114T231637Z
UID:1710-1736881200-1736888400@fbcvallejo.net
SUMMARY:Celebrate Recovery
DESCRIPTION:
URL:https://fbcvallejo.net/_event/celebrate-recovery-2/
END:VEVENT
BEGIN:VEVENT
DTSTART;TZID=America/Los_Angeles:20250115T190000
DTEND;TZID=America/Los_Angeles:20250115T200000
DTSTAMP:20260425T064944
CREATED:20241231T222700Z
LAST-MODIFIED:20250115T231902Z
UID:1427-1736967600-1736971200@fbcvallejo.net
SUMMARY:Prayer Meeting
DESCRIPTION:
URL:https://fbcvallejo.net/_event/prayer-meeting-2/
END:VEVENT
BEGIN:VEVENT
DTSTART;TZID=America/Los_Angeles:20250117T000000
DTEND;TZID=America/Los_Angeles:20250117T235959
DTSTAMP:20260425T064944
CREATED:20250104T225106Z
LAST-MODIFIED:20250117T231916Z
UID:1711-1737072000-1737158399@fbcvallejo.net
SUMMARY:Bread - Cast Party
DESCRIPTION:
URL:https://fbcvallejo.net/_event/bread-cast-party/
END:VEVENT
BEGIN:VEVENT
DTSTART;TZID=America/Los_Angeles:20250117T000000
DTEND;TZID=America/Los_Angeles:20250120T235959
DTSTAMP:20260425T064944
CREATED:20250102T223209Z
LAST-MODIFIED:20250120T231944Z
UID:1565-1737072000-1737417599@fbcvallejo.net
SUMMARY:College & Career Winter Camp
DESCRIPTION:
URL:https://fbcvallejo.net/_event/college-career-winter-camp/
END:VEVENT
BEGIN:VEVENT
DTSTART;TZID=America/Los_Angeles:20250119T090000
DTEND;TZID=America/Los_Angeles:20250119T103000
DTSTAMP:20260425T064944
CREATED:20241014T005840Z
LAST-MODIFIED:20250118T231725Z
UID:449-1737277200-1737282600@fbcvallejo.net
SUMMARY:9AM Sunday Service
DESCRIPTION:Weekly Bulletins – https://fbcvallejo.net/sermons/bulletins/ \nMap Directions – https://maps.app.goo.gl/EeDx3fN8phUAtJ8y5
URL:https://fbcvallejo.net/_event/9am-sunday-service-14/
LOCATION:901 Solano Ave\, Vallejo\, CA\, United States
END:VEVENT
BEGIN:VEVENT
DTSTART;TZID=America/Los_Angeles:20250119T110000
DTEND;TZID=America/Los_Angeles:20250119T123000
DTSTAMP:20260425T064944
CREATED:20241014T005841Z
LAST-MODIFIED:20250118T231725Z
UID:452-1737284400-1737289800@fbcvallejo.net
SUMMARY:11AM Children's Sunday School
DESCRIPTION:Children’s Sanctuary \nMap Directions – https://maps.app.goo.gl/EeDx3fN8phUAtJ8y5
URL:https://fbcvallejo.net/_event/11am-childrens-sunday-school-14/
LOCATION:901 Solano Ave\, Vallejo\, CA\, United States
END:VEVENT
BEGIN:VEVENT
DTSTART;TZID=America/Los_Angeles:20250119T110000
DTEND;TZID=America/Los_Angeles:20250119T123000
DTSTAMP:20260425T064944
CREATED:20241014T005841Z
LAST-MODIFIED:20250118T231725Z
UID:451-1737284400-1737289800@fbcvallejo.net
SUMMARY:11AM Sunday Live Stream Service
DESCRIPTION:Weekly Bulletins – https://fbcvallejo.net/sermons/bulletins/ \nLivestream Links \nFacebook: https://www.facebook.com/faithbiblechurchvallejo/live \nYouTube: https://youtube.com/channel/UCRvwFe65dkysxaJgD6mHUIw/live  
URL:https://fbcvallejo.net/_event/11am-sunday-live-stream-service-14/
LOCATION:901 Solano Ave\, Vallejo\, CA\, United States
END:VEVENT
BEGIN:VEVENT
DTSTART;TZID=America/Los_Angeles:20250119T110000
DTEND;TZID=America/Los_Angeles:20250119T123000
DTSTAMP:20260425T064944
CREATED:20241014T005842Z
LAST-MODIFIED:20250118T231725Z
UID:453-1737284400-1737289800@fbcvallejo.net
SUMMARY:11AM Sunday Service
DESCRIPTION:Weekly Bulletins – https://fbcvallejo.net/sermons/bulletins/ \nMap Directions – https://maps.app.goo.gl/EeDx3fN8phUAtJ8y5
URL:https://fbcvallejo.net/_event/11am-sunday-service-14/
LOCATION:901 Solano Ave\, Vallejo\, CA\, United States
END:VEVENT
BEGIN:VEVENT
DTSTART;TZID=America/Los_Angeles:20250119T110000
DTEND;TZID=America/Los_Angeles:20250119T130000
DTSTAMP:20260425T064944
CREATED:20241014T005841Z
LAST-MODIFIED:20250118T231725Z
UID:450-1737284400-1737291600@fbcvallejo.net
SUMMARY:Faith Food Fridays
DESCRIPTION:
URL:https://fbcvallejo.net/_event/faith-food-fridays-14/
END:VEVENT
BEGIN:VEVENT
DTSTART;TZID=America/Los_Angeles:20250119T124500
DTEND;TZID=America/Los_Angeles:20250119T134500
DTSTAMP:20260425T064944
CREATED:20241231T222701Z
LAST-MODIFIED:20250118T231725Z
UID:1428-1737290700-1737294300@fbcvallejo.net
SUMMARY:Care Ministry Meeting
DESCRIPTION:
URL:https://fbcvallejo.net/_event/care-ministry-meeting/
END:VEVENT
BEGIN:VEVENT
DTSTART;TZID=America/Los_Angeles:20250121T190000
DTEND;TZID=America/Los_Angeles:20250121T210000
DTSTAMP:20260425T064944
CREATED:20250104T225107Z
LAST-MODIFIED:20250121T231919Z
UID:1712-1737486000-1737493200@fbcvallejo.net
SUMMARY:Celebrate Recovery
DESCRIPTION:
URL:https://fbcvallejo.net/_event/celebrate-recovery-3/
END:VEVENT
BEGIN:VEVENT
DTSTART;TZID=America/Los_Angeles:20250122T190000
DTEND;TZID=America/Los_Angeles:20250122T200000
DTSTAMP:20260425T064944
CREATED:20241231T222701Z
LAST-MODIFIED:20250122T233209Z
UID:1429-1737572400-1737576000@fbcvallejo.net
SUMMARY:Prayer Meeting
DESCRIPTION:
URL:https://fbcvallejo.net/_event/prayer-meeting-3/
END:VEVENT
BEGIN:VEVENT
DTSTART;TZID=America/Los_Angeles:20250124T190000
DTEND;TZID=America/Los_Angeles:20250124T213000
DTSTAMP:20260425T064944
CREATED:20250102T223211Z
LAST-MODIFIED:20250124T233046Z
UID:1569-1737745200-1737754200@fbcvallejo.net
SUMMARY:Youth Bible Study Kick-Off
DESCRIPTION:
URL:https://fbcvallejo.net/_event/youth-bible-study-kick-off/
LOCATION:Fellowship Hall
END:VEVENT
BEGIN:VEVENT
DTSTART;TZID=America/Los_Angeles:20250125T000000
DTEND;TZID=America/Los_Angeles:20250125T235959
DTSTAMP:20260425T064944
CREATED:20250102T223210Z
LAST-MODIFIED:20250125T234509Z
UID:1567-1737763200-1737849599@fbcvallejo.net
SUMMARY:Men's Fellowship Bowling
DESCRIPTION:
URL:https://fbcvallejo.net/_event/mens-fellowship-bowling/
LOCATION:Napa
END:VEVENT
BEGIN:VEVENT
DTSTART;TZID=America/Los_Angeles:20250126T090000
DTEND;TZID=America/Los_Angeles:20250126T103000
DTSTAMP:20260425T064944
CREATED:20241014T005842Z
LAST-MODIFIED:20250125T234509Z
UID:454-1737882000-1737887400@fbcvallejo.net
SUMMARY:9AM Sunday Service
DESCRIPTION:Weekly Bulletins – https://fbcvallejo.net/sermons/bulletins/ \nMap Directions – https://maps.app.goo.gl/EeDx3fN8phUAtJ8y5
URL:https://fbcvallejo.net/_event/9am-sunday-service-15/
LOCATION:901 Solano Ave\, Vallejo\, CA\, United States
END:VEVENT
BEGIN:VEVENT
DTSTART;TZID=America/Los_Angeles:20250126T110000
DTEND;TZID=America/Los_Angeles:20250126T123000
DTSTAMP:20260425T064944
CREATED:20241014T005842Z
LAST-MODIFIED:20250125T234509Z
UID:456-1737889200-1737894600@fbcvallejo.net
SUMMARY:11AM Sunday Live Stream Service
DESCRIPTION:Weekly Bulletins – https://fbcvallejo.net/sermons/bulletins/ \nLivestream Links \nFacebook: https://www.facebook.com/faithbiblechurchvallejo/live \nYouTube: https://youtube.com/channel/UCRvwFe65dkysxaJgD6mHUIw/live  
URL:https://fbcvallejo.net/_event/11am-sunday-live-stream-service-15/
LOCATION:901 Solano Ave\, Vallejo\, CA\, United States
END:VEVENT
BEGIN:VEVENT
DTSTART;TZID=America/Los_Angeles:20250126T110000
DTEND;TZID=America/Los_Angeles:20250126T123000
DTSTAMP:20260425T064944
CREATED:20241014T005843Z
LAST-MODIFIED:20250125T234509Z
UID:457-1737889200-1737894600@fbcvallejo.net
SUMMARY:11AM Sunday Service
DESCRIPTION:Weekly Bulletins – https://fbcvallejo.net/sermons/bulletins/ \nMap Directions – https://maps.app.goo.gl/EeDx3fN8phUAtJ8y5
URL:https://fbcvallejo.net/_event/11am-sunday-service-15/
LOCATION:901 Solano Ave\, Vallejo\, CA\, United States
END:VEVENT
BEGIN:VEVENT
DTSTART;TZID=America/Los_Angeles:20250126T110000
DTEND;TZID=America/Los_Angeles:20250126T123000
DTSTAMP:20260425T064944
CREATED:20241014T005843Z
LAST-MODIFIED:20250125T234509Z
UID:458-1737889200-1737894600@fbcvallejo.net
SUMMARY:11AM Children's Sunday School
DESCRIPTION:Children’s Sanctuary \nMap Directions – https://maps.app.goo.gl/EeDx3fN8phUAtJ8y5
URL:https://fbcvallejo.net/_event/11am-childrens-sunday-school-15/
LOCATION:901 Solano Ave\, Vallejo\, CA\, United States
END:VEVENT
BEGIN:VEVENT
DTSTART;TZID=America/Los_Angeles:20250126T110000
DTEND;TZID=America/Los_Angeles:20250126T130000
DTSTAMP:20260425T064944
CREATED:20241014T005842Z
LAST-MODIFIED:20250125T234509Z
UID:455-1737889200-1737896400@fbcvallejo.net
SUMMARY:Faith Food Fridays
DESCRIPTION:
URL:https://fbcvallejo.net/_event/faith-food-fridays-15/
END:VEVENT
BEGIN:VEVENT
DTSTART;TZID=America/Los_Angeles:20250128T190000
DTEND;TZID=America/Los_Angeles:20250128T200000
DTSTAMP:20260425T064944
CREATED:20250103T224853Z
LAST-MODIFIED:20250128T234711Z
UID:1686-1738090800-1738094400@fbcvallejo.net
SUMMARY:The Veritas School Board Meeting
DESCRIPTION:
URL:https://fbcvallejo.net/_event/the-veritas-school-board-meeting-2/
END:VEVENT
BEGIN:VEVENT
DTSTART;TZID=America/Los_Angeles:20250128T190000
DTEND;TZID=America/Los_Angeles:20250128T210000
DTSTAMP:20260425T064944
CREATED:20250104T225108Z
LAST-MODIFIED:20250128T234712Z
UID:1713-1738090800-1738098000@fbcvallejo.net
SUMMARY:Celebrate Recovery
DESCRIPTION:
URL:https://fbcvallejo.net/_event/celebrate-recovery-4/
END:VEVENT
BEGIN:VEVENT
DTSTART;TZID=America/Los_Angeles:20250129T190000
DTEND;TZID=America/Los_Angeles:20250129T200000
DTSTAMP:20260425T064944
CREATED:20241231T222702Z
LAST-MODIFIED:20250130T000015Z
UID:1430-1738177200-1738180800@fbcvallejo.net
SUMMARY:Prayer Meeting
DESCRIPTION:
URL:https://fbcvallejo.net/_event/prayer-meeting-4/
END:VEVENT
BEGIN:VEVENT
DTSTART;TZID=America/Los_Angeles:20250131T190000
DTEND;TZID=America/Los_Angeles:20250131T213000
DTSTAMP:20260425T064944
CREATED:20250102T223212Z
LAST-MODIFIED:20250131T000017Z
UID:1570-1738350000-1738359000@fbcvallejo.net
SUMMARY:Youth - Different Series #1
DESCRIPTION:
URL:https://fbcvallejo.net/_event/youth-different-series-1/
LOCATION:Fellowship Hall
END:VEVENT
BEGIN:VEVENT
DTSTART;TZID=America/Los_Angeles:20250201T000000
DTEND;TZID=America/Los_Angeles:20250201T235959
DTSTAMP:20260425T064944
CREATED:20241231T222702Z
LAST-MODIFIED:20250201T180051Z
UID:1431-1738368000-1738454399@fbcvallejo.net
SUMMARY:MM - Leaders' Meeting (TBD)
DESCRIPTION:
URL:https://fbcvallejo.net/_event/mm-leaders-meeting-tbd/
END:VEVENT
BEGIN:VEVENT
DTSTART;TZID=America/Los_Angeles:20250201T000000
DTEND;TZID=America/Los_Angeles:20250223T235959
DTSTAMP:20260425T064944
CREATED:20250104T225110Z
LAST-MODIFIED:20250223T204637Z
UID:1716-1738368000-1740355199@fbcvallejo.net
SUMMARY:Mission Trip
DESCRIPTION:
URL:https://fbcvallejo.net/_event/mission-trip/
END:VEVENT
BEGIN:VEVENT
DTSTART;TZID=America/Los_Angeles:20250202T000000
DTEND;TZID=America/Los_Angeles:20250202T235959
DTSTAMP:20260425T064944
CREATED:20241014T005844Z
LAST-MODIFIED:20250202T181533Z
UID:463-1738454400-1738540799@fbcvallejo.net
SUMMARY:Communion
DESCRIPTION:
URL:https://fbcvallejo.net/_event/communion-4/
END:VEVENT
BEGIN:VEVENT
DTSTART;TZID=America/Los_Angeles:20250202T090000
DTEND;TZID=America/Los_Angeles:20250202T103000
DTSTAMP:20260425T064944
CREATED:20241014T005843Z
LAST-MODIFIED:20250202T181530Z
UID:459-1738486800-1738492200@fbcvallejo.net
SUMMARY:9AM Sunday Service
DESCRIPTION:Weekly Bulletins – https://fbcvallejo.net/sermons/bulletins/ \nMap Directions – https://maps.app.goo.gl/EeDx3fN8phUAtJ8y5
URL:https://fbcvallejo.net/_event/9am-sunday-service-16/
LOCATION:901 Solano Ave\, Vallejo\, CA\, United States
END:VEVENT
END:VCALENDAR