BEGIN:VCALENDAR
VERSION:2.0
PRODID:-//Faith Bible Church of Vallejo - ECPv6.15.20//NONSGML v1.0//EN
CALSCALE:GREGORIAN
METHOD:PUBLISH
X-ORIGINAL-URL:https://fbcvallejo.net
X-WR-CALDESC:Events for Faith Bible Church of Vallejo
REFRESH-INTERVAL;VALUE=DURATION:PT1H
X-Robots-Tag:noindex
X-PUBLISHED-TTL:PT1H
BEGIN:VTIMEZONE
TZID:America/Los_Angeles
BEGIN:DAYLIGHT
TZOFFSETFROM:-0800
TZOFFSETTO:-0700
TZNAME:PDT
DTSTART:20250309T100000
END:DAYLIGHT
BEGIN:STANDARD
TZOFFSETFROM:-0700
TZOFFSETTO:-0800
TZNAME:PST
DTSTART:20251102T090000
END:STANDARD
BEGIN:DAYLIGHT
TZOFFSETFROM:-0800
TZOFFSETTO:-0700
TZNAME:PDT
DTSTART:20260308T100000
END:DAYLIGHT
BEGIN:STANDARD
TZOFFSETFROM:-0700
TZOFFSETTO:-0800
TZNAME:PST
DTSTART:20261101T090000
END:STANDARD
BEGIN:DAYLIGHT
TZOFFSETFROM:-0800
TZOFFSETTO:-0700
TZNAME:PDT
DTSTART:20270314T100000
END:DAYLIGHT
BEGIN:STANDARD
TZOFFSETFROM:-0700
TZOFFSETTO:-0800
TZNAME:PST
DTSTART:20271107T090000
END:STANDARD
END:VTIMEZONE
BEGIN:VEVENT
DTSTART;TZID=America/Los_Angeles:20260829T100000
DTEND;TZID=America/Los_Angeles:20260829T123000
DTSTAMP:20260424T072529
CREATED:20251222T180254Z
LAST-MODIFIED:20260423T235758Z
UID:11648-1787997600-1788006600@fbcvallejo.net
SUMMARY:MENS Teaching Hour Meeting #3 - Coffee/Prayer
DESCRIPTION:
URL:https://fbcvallejo.net/_event/mens-teaching-hour-meeting-3-coffee-prayer-2/
LOCATION:Fellowship Hall
END:VEVENT
BEGIN:VEVENT
DTSTART;TZID=America/Los_Angeles:20260830T090000
DTEND;TZID=America/Los_Angeles:20260830T103000
DTSTAMP:20260424T072529
CREATED:20251225T181541Z
LAST-MODIFIED:20260106T180027Z
UID:11665-1788080400-1788085800@fbcvallejo.net
SUMMARY:9AM Sunday Service
DESCRIPTION:Weekly Bulletins – https://fbcvallejo.net/sermons/bulletins/ \nMap Directions – https://maps.app.goo.gl/EeDx3fN8phUAtJ8y5
URL:https://fbcvallejo.net/_event/9am-sunday-service-98/
LOCATION:901 Solano Ave\, Vallejo\, CA\, United States
END:VEVENT
BEGIN:VEVENT
DTSTART;TZID=America/Los_Angeles:20260830T110000
DTEND;TZID=America/Los_Angeles:20260830T123000
DTSTAMP:20260424T072529
CREATED:20251225T181541Z
LAST-MODIFIED:20260106T180027Z
UID:11666-1788087600-1788093000@fbcvallejo.net
SUMMARY:11AM Sunday Service
DESCRIPTION:Weekly Bulletins – https://fbcvallejo.net/sermons/bulletins/ \nMap Directions – https://maps.app.goo.gl/EeDx3fN8phUAtJ8y5
URL:https://fbcvallejo.net/_event/11am-sunday-service-98/
LOCATION:901 Solano Ave\, Vallejo\, CA\, United States
END:VEVENT
BEGIN:VEVENT
DTSTART;TZID=America/Los_Angeles:20260830T110000
DTEND;TZID=America/Los_Angeles:20260830T123000
DTSTAMP:20260424T072529
CREATED:20251228T183156Z
LAST-MODIFIED:20260106T180027Z
UID:11678-1788087600-1788093000@fbcvallejo.net
SUMMARY:11AM Children's Sunday School
DESCRIPTION:Children’s Sanctuary \nMap Directions – https://maps.app.goo.gl/EeDx3fN8phUAtJ8y5
URL:https://fbcvallejo.net/_event/11am-childrens-sunday-school-98/
LOCATION:901 Solano Ave\, Vallejo\, CA\, United States
END:VEVENT
BEGIN:VEVENT
DTSTART;TZID=America/Los_Angeles:20260830T110000
DTEND;TZID=America/Los_Angeles:20260830T123000
DTSTAMP:20260424T072529
CREATED:20251229T183217Z
LAST-MODIFIED:20260106T180027Z
UID:11685-1788087600-1788093000@fbcvallejo.net
SUMMARY:11AM Sunday Live Stream Service
DESCRIPTION:Weekly Bulletins – https://fbcvallejo.net/sermons/bulletins/ \nLivestream Links \nFacebook: https://www.facebook.com/faithbiblechurchvallejo/live \nYouTube: https://youtube.com/channel/UCRvwFe65dkysxaJgD6mHUIw/live  
URL:https://fbcvallejo.net/_event/11am-sunday-live-stream-service-98/
LOCATION:901 Solano Ave\, Vallejo\, CA\, United States
END:VEVENT
BEGIN:VEVENT
DTSTART;TZID=America/Los_Angeles:20260830T110000
DTEND;TZID=America/Los_Angeles:20260830T130000
DTSTAMP:20260424T072529
CREATED:20251228T183156Z
LAST-MODIFIED:20260106T180027Z
UID:11677-1788087600-1788094800@fbcvallejo.net
SUMMARY:Faith Food Fridays
DESCRIPTION:
URL:https://fbcvallejo.net/_event/faith-food-fridays-98/
END:VEVENT
BEGIN:VEVENT
DTSTART;TZID=America/Los_Angeles:20260901T190000
DTEND;TZID=America/Los_Angeles:20260901T210000
DTSTAMP:20260424T072529
CREATED:20251229T183217Z
LAST-MODIFIED:20260423T235759Z
UID:11686-1788289200-1788296400@fbcvallejo.net
SUMMARY:Celebrate Recovery
DESCRIPTION:
URL:https://fbcvallejo.net/_event/celebrate-recovery-87/
END:VEVENT
BEGIN:VEVENT
DTSTART;TZID=America/Los_Angeles:20260902T190000
DTEND;TZID=America/Los_Angeles:20260902T200000
DTSTAMP:20260424T072529
CREATED:20251231T183159Z
LAST-MODIFIED:20260224T230527Z
UID:11695-1788375600-1788379200@fbcvallejo.net
SUMMARY:Prayer Meeting
DESCRIPTION:
URL:https://fbcvallejo.net/_event/prayer-meeting-87/
END:VEVENT
BEGIN:VEVENT
DTSTART;TZID=America/Los_Angeles:20260903T193000
DTEND;TZID=America/Los_Angeles:20260903T203000
DTSTAMP:20260424T072529
CREATED:20260101T183212Z
LAST-MODIFIED:20260423T235759Z
UID:11700-1788463800-1788467400@fbcvallejo.net
SUMMARY:Women's Prayer Meeting
DESCRIPTION:
URL:https://fbcvallejo.net/_event/womens-prayer-meeting-23/
LOCATION:ZOOM
END:VEVENT
BEGIN:VEVENT
DTSTART;TZID=America/Los_Angeles:20260906T000000
DTEND;TZID=America/Los_Angeles:20260906T235959
DTSTAMP:20260424T072529
CREATED:20260101T183212Z
LAST-MODIFIED:20260106T180028Z
UID:11701-1788652800-1788739199@fbcvallejo.net
SUMMARY:Communion
DESCRIPTION:
URL:https://fbcvallejo.net/_event/communion-23/
END:VEVENT
BEGIN:VEVENT
DTSTART;TZID=America/Los_Angeles:20260906T000000
DTEND;TZID=America/Los_Angeles:20260906T235959
DTSTAMP:20260424T072529
CREATED:20260107T180036Z
LAST-MODIFIED:20260423T235759Z
UID:11738-1788652800-1788739199@fbcvallejo.net
SUMMARY:Communion
DESCRIPTION:
URL:https://fbcvallejo.net/_event/communion-31/
END:VEVENT
BEGIN:VEVENT
DTSTART;TZID=America/Los_Angeles:20260906T090000
DTEND;TZID=America/Los_Angeles:20260906T103000
DTSTAMP:20260424T072529
CREATED:20260103T184800Z
LAST-MODIFIED:20260106T180028Z
UID:11712-1788685200-1788690600@fbcvallejo.net
SUMMARY:9AM Sunday Service
DESCRIPTION:Weekly Bulletins – https://fbcvallejo.net/sermons/bulletins/ \nMap Directions – https://maps.app.goo.gl/EeDx3fN8phUAtJ8y5
URL:https://fbcvallejo.net/_event/9am-sunday-service-99/
LOCATION:901 Solano Ave\, Vallejo\, CA\, United States
END:VEVENT
BEGIN:VEVENT
DTSTART;TZID=America/Los_Angeles:20260906T110000
DTEND;TZID=America/Los_Angeles:20260906T123000
DTSTAMP:20260424T072529
CREATED:20260103T184800Z
LAST-MODIFIED:20260106T180028Z
UID:11713-1788692400-1788697800@fbcvallejo.net
SUMMARY:11AM Sunday Service
DESCRIPTION:Weekly Bulletins – https://fbcvallejo.net/sermons/bulletins/ \nMap Directions – https://maps.app.goo.gl/EeDx3fN8phUAtJ8y5
URL:https://fbcvallejo.net/_event/11am-sunday-service-99/
LOCATION:901 Solano Ave\, Vallejo\, CA\, United States
END:VEVENT
BEGIN:VEVENT
DTSTART;TZID=America/Los_Angeles:20260906T110000
DTEND;TZID=America/Los_Angeles:20260906T123000
DTSTAMP:20260424T072529
CREATED:20260104T190348Z
LAST-MODIFIED:20260106T180028Z
UID:11718-1788692400-1788697800@fbcvallejo.net
SUMMARY:11AM Sunday Live Stream Service
DESCRIPTION:Weekly Bulletins – https://fbcvallejo.net/sermons/bulletins/ \nLivestream Links \nFacebook: https://www.facebook.com/faithbiblechurchvallejo/live \nYouTube: https://youtube.com/channel/UCRvwFe65dkysxaJgD6mHUIw/live  
URL:https://fbcvallejo.net/_event/11am-sunday-live-stream-service-99/
LOCATION:901 Solano Ave\, Vallejo\, CA\, United States
END:VEVENT
BEGIN:VEVENT
DTSTART;TZID=America/Los_Angeles:20260906T110000
DTEND;TZID=America/Los_Angeles:20260906T123000
DTSTAMP:20260424T072529
CREATED:20260106T180029Z
LAST-MODIFIED:20260106T180029Z
UID:11726-1788692400-1788697800@fbcvallejo.net
SUMMARY:11AM Children's Sunday School
DESCRIPTION:Children’s Sanctuary \nMap Directions – https://maps.app.goo.gl/EeDx3fN8phUAtJ8y5
URL:https://fbcvallejo.net/_event/11am-childrens-sunday-school-99/
LOCATION:901 Solano Ave\, Vallejo\, CA\, United States
END:VEVENT
BEGIN:VEVENT
DTSTART;TZID=America/Los_Angeles:20260906T110000
DTEND;TZID=America/Los_Angeles:20260906T130000
DTSTAMP:20260424T072529
CREATED:20260102T183047Z
LAST-MODIFIED:20260106T180028Z
UID:11706-1788692400-1788699600@fbcvallejo.net
SUMMARY:Faith Food Fridays
DESCRIPTION:
URL:https://fbcvallejo.net/_event/faith-food-fridays-99/
END:VEVENT
BEGIN:VEVENT
DTSTART;TZID=America/Los_Angeles:20260908T190000
DTEND;TZID=America/Los_Angeles:20260908T210000
DTSTAMP:20260424T072529
CREATED:20260106T180029Z
LAST-MODIFIED:20260423T235759Z
UID:11727-1788894000-1788901200@fbcvallejo.net
SUMMARY:Celebrate Recovery
DESCRIPTION:
URL:https://fbcvallejo.net/_event/celebrate-recovery-88/
END:VEVENT
BEGIN:VEVENT
DTSTART;TZID=America/Los_Angeles:20260909T190000
DTEND;TZID=America/Los_Angeles:20260909T200000
DTSTAMP:20260424T072529
CREATED:20260107T180036Z
LAST-MODIFIED:20260224T230528Z
UID:11740-1788980400-1788984000@fbcvallejo.net
SUMMARY:Prayer Meeting
DESCRIPTION:
URL:https://fbcvallejo.net/_event/prayer-meeting-88/
END:VEVENT
BEGIN:VEVENT
DTSTART;TZID=America/Los_Angeles:20260911T190000
DTEND;TZID=America/Los_Angeles:20260911T213000
DTSTAMP:20260424T072529
CREATED:20260107T180036Z
LAST-MODIFIED:20260423T235759Z
UID:11741-1789153200-1789162200@fbcvallejo.net
SUMMARY:Youth Bible Study Kickoff
DESCRIPTION:
URL:https://fbcvallejo.net/_event/youth-bible-study-kickoff/
LOCATION:Fellowship Hall
END:VEVENT
BEGIN:VEVENT
DTSTART;TZID=America/Los_Angeles:20260915T190000
DTEND;TZID=America/Los_Angeles:20260915T210000
DTSTAMP:20260424T072529
CREATED:20260107T180036Z
LAST-MODIFIED:20260423T235800Z
UID:11742-1789498800-1789506000@fbcvallejo.net
SUMMARY:Celebrate Recovery
DESCRIPTION:
URL:https://fbcvallejo.net/_event/celebrate-recovery-89/
END:VEVENT
BEGIN:VEVENT
DTSTART;TZID=America/Los_Angeles:20260916T190000
DTEND;TZID=America/Los_Angeles:20260916T200000
DTSTAMP:20260424T072529
CREATED:20260107T180036Z
LAST-MODIFIED:20260224T230528Z
UID:11743-1789585200-1789588800@fbcvallejo.net
SUMMARY:Prayer Meeting
DESCRIPTION:
URL:https://fbcvallejo.net/_event/prayer-meeting-89/
END:VEVENT
BEGIN:VEVENT
DTSTART;TZID=America/Los_Angeles:20260918T190000
DTEND;TZID=America/Los_Angeles:20260918T213000
DTSTAMP:20260424T072529
CREATED:20260107T180036Z
LAST-MODIFIED:20260423T235800Z
UID:11744-1789758000-1789767000@fbcvallejo.net
SUMMARY:Youth Bible Study - Guest Speaker
DESCRIPTION:
URL:https://fbcvallejo.net/_event/youth-bible-study-guest-speaker/
LOCATION:Fellowship Hall
END:VEVENT
BEGIN:VEVENT
DTSTART;TZID=America/Los_Angeles:20260922T190000
DTEND;TZID=America/Los_Angeles:20260922T210000
DTSTAMP:20260424T072529
CREATED:20260107T180036Z
LAST-MODIFIED:20260423T235800Z
UID:11745-1790103600-1790110800@fbcvallejo.net
SUMMARY:Celebrate Recovery
DESCRIPTION:
URL:https://fbcvallejo.net/_event/celebrate-recovery-90/
END:VEVENT
BEGIN:VEVENT
DTSTART;TZID=America/Los_Angeles:20260923T190000
DTEND;TZID=America/Los_Angeles:20260923T200000
DTSTAMP:20260424T072529
CREATED:20260107T180037Z
LAST-MODIFIED:20260224T230529Z
UID:11746-1790190000-1790193600@fbcvallejo.net
SUMMARY:Prayer Meeting
DESCRIPTION:
URL:https://fbcvallejo.net/_event/prayer-meeting-90/
END:VEVENT
BEGIN:VEVENT
DTSTART;TZID=America/Los_Angeles:20260925T190000
DTEND;TZID=America/Los_Angeles:20260925T213000
DTSTAMP:20260424T072529
CREATED:20260107T180037Z
LAST-MODIFIED:20260423T235800Z
UID:11747-1790362800-1790371800@fbcvallejo.net
SUMMARY:Youth Anti Bullying/Self Defense Seminar
DESCRIPTION:
URL:https://fbcvallejo.net/_event/youth-anti-bullying-self-defense-seminar/
LOCATION:Fellowship Hall
END:VEVENT
BEGIN:VEVENT
DTSTART;TZID=America/Los_Angeles:20260929T190000
DTEND;TZID=America/Los_Angeles:20260929T210000
DTSTAMP:20260424T072529
CREATED:20260107T180037Z
LAST-MODIFIED:20260423T235800Z
UID:11748-1790708400-1790715600@fbcvallejo.net
SUMMARY:Celebrate Recovery
DESCRIPTION:
URL:https://fbcvallejo.net/_event/celebrate-recovery-91/
END:VEVENT
BEGIN:VEVENT
DTSTART;TZID=America/Los_Angeles:20260930T190000
DTEND;TZID=America/Los_Angeles:20260930T200000
DTSTAMP:20260424T072529
CREATED:20260107T180037Z
LAST-MODIFIED:20260224T230529Z
UID:11749-1790794800-1790798400@fbcvallejo.net
SUMMARY:Prayer Meeting
DESCRIPTION:
URL:https://fbcvallejo.net/_event/prayer-meeting-91/
END:VEVENT
BEGIN:VEVENT
DTSTART;TZID=America/Los_Angeles:20261001T193000
DTEND;TZID=America/Los_Angeles:20261001T203000
DTSTAMP:20260424T072529
CREATED:20260107T180037Z
LAST-MODIFIED:20260423T235800Z
UID:11750-1790883000-1790886600@fbcvallejo.net
SUMMARY:Women's Prayer Meeting
DESCRIPTION:
URL:https://fbcvallejo.net/_event/womens-prayer-meeting-24/
LOCATION:ZOOM
END:VEVENT
BEGIN:VEVENT
DTSTART;TZID=America/Los_Angeles:20261002T190000
DTEND;TZID=America/Los_Angeles:20261002T213000
DTSTAMP:20260424T072529
CREATED:20260107T180037Z
LAST-MODIFIED:20260423T235801Z
UID:11752-1790967600-1790976600@fbcvallejo.net
SUMMARY:Youth Bible Study
DESCRIPTION:
URL:https://fbcvallejo.net/_event/youth-bible-study-9/
END:VEVENT
BEGIN:VEVENT
DTSTART;TZID=America/Los_Angeles:20261003T000000
DTEND;TZID=America/Los_Angeles:20261003T235959
DTSTAMP:20260424T072529
CREATED:20260107T180037Z
LAST-MODIFIED:20260423T235802Z
UID:11751-1790985600-1791071999@fbcvallejo.net
SUMMARY:Men's Fellowship Outing
DESCRIPTION:
URL:https://fbcvallejo.net/_event/mens-fellowship-outing-2/
LOCATION:TBD
END:VEVENT
END:VCALENDAR