BEGIN:VCALENDAR
VERSION:2.0
PRODID:-//Faith Bible Church of Vallejo - ECPv6.15.20//NONSGML v1.0//EN
CALSCALE:GREGORIAN
METHOD:PUBLISH
X-ORIGINAL-URL:https://fbcvallejo.net
X-WR-CALDESC:Events for Faith Bible Church of Vallejo
REFRESH-INTERVAL;VALUE=DURATION:PT1H
X-Robots-Tag:noindex
X-PUBLISHED-TTL:PT1H
BEGIN:VTIMEZONE
TZID:America/Los_Angeles
BEGIN:DAYLIGHT
TZOFFSETFROM:-0800
TZOFFSETTO:-0700
TZNAME:PDT
DTSTART:20240310T100000
END:DAYLIGHT
BEGIN:STANDARD
TZOFFSETFROM:-0700
TZOFFSETTO:-0800
TZNAME:PST
DTSTART:20241103T090000
END:STANDARD
BEGIN:DAYLIGHT
TZOFFSETFROM:-0800
TZOFFSETTO:-0700
TZNAME:PDT
DTSTART:20250309T100000
END:DAYLIGHT
BEGIN:STANDARD
TZOFFSETFROM:-0700
TZOFFSETTO:-0800
TZNAME:PST
DTSTART:20251102T090000
END:STANDARD
BEGIN:DAYLIGHT
TZOFFSETFROM:-0800
TZOFFSETTO:-0700
TZNAME:PDT
DTSTART:20260308T100000
END:DAYLIGHT
BEGIN:STANDARD
TZOFFSETFROM:-0700
TZOFFSETTO:-0800
TZNAME:PST
DTSTART:20261101T090000
END:STANDARD
END:VTIMEZONE
BEGIN:VEVENT
DTSTART;TZID=America/Los_Angeles:20250205T190000
DTEND;TZID=America/Los_Angeles:20250205T200000
DTSTAMP:20260425T054706
CREATED:20241231T222703Z
LAST-MODIFIED:20250205T185048Z
UID:1432-1738782000-1738785600@fbcvallejo.net
SUMMARY:Prayer Meeting
DESCRIPTION:
URL:https://fbcvallejo.net/_event/prayer-meeting-5/
END:VEVENT
BEGIN:VEVENT
DTSTART;TZID=America/Los_Angeles:20250206T193000
DTEND;TZID=America/Los_Angeles:20250206T203000
DTSTAMP:20260425T054706
CREATED:20241014T005844Z
LAST-MODIFIED:20250206T190028Z
UID:465-1738870200-1738873800@fbcvallejo.net
SUMMARY:Women's Prayer Meeting
DESCRIPTION:
URL:https://fbcvallejo.net/_event/womens-prayer-meeting-4/
LOCATION:ZOOM
END:VEVENT
BEGIN:VEVENT
DTSTART;TZID=America/Los_Angeles:20250207T190000
DTEND;TZID=America/Los_Angeles:20250207T213000
DTSTAMP:20260425T054706
CREATED:20250102T223213Z
LAST-MODIFIED:20250207T191003Z
UID:1571-1738954800-1738963800@fbcvallejo.net
SUMMARY:Youth - ACTS OF THE APOSTLES SERIES #1
DESCRIPTION:
URL:https://fbcvallejo.net/_event/youth-different-series-2/
END:VEVENT
BEGIN:VEVENT
DTSTART;TZID=America/Los_Angeles:20250209T090000
DTEND;TZID=America/Los_Angeles:20250209T103000
DTSTAMP:20260425T054706
CREATED:20241014T005845Z
LAST-MODIFIED:20250208T191627Z
UID:466-1739091600-1739097000@fbcvallejo.net
SUMMARY:9AM Sunday Service
DESCRIPTION:Weekly Bulletins – https://fbcvallejo.net/sermons/bulletins/ \nMap Directions – https://maps.app.goo.gl/EeDx3fN8phUAtJ8y5
URL:https://fbcvallejo.net/_event/9am-sunday-service-17/
LOCATION:901 Solano Ave\, Vallejo\, CA\, United States
END:VEVENT
BEGIN:VEVENT
DTSTART;TZID=America/Los_Angeles:20250209T110000
DTEND;TZID=America/Los_Angeles:20250209T123000
DTSTAMP:20260425T054706
CREATED:20241014T005845Z
LAST-MODIFIED:20250209T191608Z
UID:467-1739098800-1739104200@fbcvallejo.net
SUMMARY:11AM Sunday Service
DESCRIPTION:Weekly Bulletins – https://fbcvallejo.net/sermons/bulletins/ \nMap Directions – https://maps.app.goo.gl/EeDx3fN8phUAtJ8y5
URL:https://fbcvallejo.net/_event/11am-sunday-service-17/
LOCATION:901 Solano Ave\, Vallejo\, CA\, United States
END:VEVENT
BEGIN:VEVENT
DTSTART;TZID=America/Los_Angeles:20250209T110000
DTEND;TZID=America/Los_Angeles:20250209T123000
DTSTAMP:20260425T054706
CREATED:20241014T005845Z
LAST-MODIFIED:20250209T191607Z
UID:468-1739098800-1739104200@fbcvallejo.net
SUMMARY:11AM Children's Sunday School
DESCRIPTION:Children’s Sanctuary \nMap Directions – https://maps.app.goo.gl/EeDx3fN8phUAtJ8y5
URL:https://fbcvallejo.net/_event/11am-childrens-sunday-school-17/
LOCATION:901 Solano Ave\, Vallejo\, CA\, United States
END:VEVENT
BEGIN:VEVENT
DTSTART;TZID=America/Los_Angeles:20250209T110000
DTEND;TZID=America/Los_Angeles:20250209T123000
DTSTAMP:20260425T054706
CREATED:20241014T005845Z
LAST-MODIFIED:20250209T191607Z
UID:469-1739098800-1739104200@fbcvallejo.net
SUMMARY:11AM Sunday Live Stream Service
DESCRIPTION:Weekly Bulletins – https://fbcvallejo.net/sermons/bulletins/ \nLivestream Links \nFacebook: https://www.facebook.com/faithbiblechurchvallejo/live \nYouTube: https://youtube.com/channel/UCRvwFe65dkysxaJgD6mHUIw/live  
URL:https://fbcvallejo.net/_event/11am-sunday-live-stream-service-17/
LOCATION:901 Solano Ave\, Vallejo\, CA\, United States
END:VEVENT
BEGIN:VEVENT
DTSTART;TZID=America/Los_Angeles:20250209T110000
DTEND;TZID=America/Los_Angeles:20250209T130000
DTSTAMP:20260425T054706
CREATED:20241014T005845Z
LAST-MODIFIED:20250209T191608Z
UID:470-1739098800-1739106000@fbcvallejo.net
SUMMARY:Faith Food Fridays
DESCRIPTION:
URL:https://fbcvallejo.net/_event/faith-food-fridays-17/
END:VEVENT
BEGIN:VEVENT
DTSTART;TZID=America/Los_Angeles:20250209T130000
DTEND;TZID=America/Los_Angeles:20250209T140000
DTSTAMP:20260425T054706
CREATED:20250102T223214Z
LAST-MODIFIED:20250209T191607Z
UID:1572-1739106000-1739109600@fbcvallejo.net
SUMMARY:Elders\, Leaders & Ministry Workers Quarterly Meeting
DESCRIPTION:
URL:https://fbcvallejo.net/_event/elders-leaders-ministry-workers-quarterly-meeting/
END:VEVENT
BEGIN:VEVENT
DTSTART;TZID=America/Los_Angeles:20250211T190000
DTEND;TZID=America/Los_Angeles:20250211T200000
DTSTAMP:20260425T054706
CREATED:20250103T224856Z
LAST-MODIFIED:20250211T191824Z
UID:1687-1739300400-1739304000@fbcvallejo.net
SUMMARY:The Veritas School Board Meeting
DESCRIPTION:
URL:https://fbcvallejo.net/_event/the-veritas-school-board-meeting-3/
END:VEVENT
BEGIN:VEVENT
DTSTART;TZID=America/Los_Angeles:20250211T190000
DTEND;TZID=America/Los_Angeles:20250211T210000
DTSTAMP:20260425T054706
CREATED:20250104T225111Z
LAST-MODIFIED:20250211T191824Z
UID:1718-1739300400-1739307600@fbcvallejo.net
SUMMARY:Celebrate Recovery
DESCRIPTION:
URL:https://fbcvallejo.net/_event/celebrate-recovery-6/
END:VEVENT
BEGIN:VEVENT
DTSTART;TZID=America/Los_Angeles:20250212T190000
DTEND;TZID=America/Los_Angeles:20250212T200000
DTSTAMP:20260425T054706
CREATED:20241231T222704Z
LAST-MODIFIED:20250212T193103Z
UID:1433-1739386800-1739390400@fbcvallejo.net
SUMMARY:Prayer Meeting
DESCRIPTION:
URL:https://fbcvallejo.net/_event/prayer-meeting-6/
END:VEVENT
BEGIN:VEVENT
DTSTART;TZID=America/Los_Angeles:20250215T000000
DTEND;TZID=America/Los_Angeles:20250215T235959
DTSTAMP:20260425T054706
CREATED:20250102T223214Z
LAST-MODIFIED:20250215T193050Z
UID:1573-1739577600-1739663999@fbcvallejo.net
SUMMARY:Women's Fellowship (Miriam Part 3)
DESCRIPTION:
URL:https://fbcvallejo.net/_event/womens-fellowship-miriam-part-3/
END:VEVENT
BEGIN:VEVENT
DTSTART;TZID=America/Los_Angeles:20250216T090000
DTEND;TZID=America/Los_Angeles:20250216T100000
DTSTAMP:20260425T054706
CREATED:20250102T223215Z
LAST-MODIFIED:20250215T193050Z
UID:1574-1739696400-1739700000@fbcvallejo.net
SUMMARY:Sunday School Coordinator Meeting
DESCRIPTION:
URL:https://fbcvallejo.net/_event/sunday-school-coordinator-meeting/
END:VEVENT
BEGIN:VEVENT
DTSTART;TZID=America/Los_Angeles:20250216T090000
DTEND;TZID=America/Los_Angeles:20250216T103000
DTSTAMP:20260425T054706
CREATED:20241014T005846Z
LAST-MODIFIED:20250215T193050Z
UID:471-1739696400-1739701800@fbcvallejo.net
SUMMARY:9AM Sunday Service
DESCRIPTION:Weekly Bulletins – https://fbcvallejo.net/sermons/bulletins/ \nMap Directions – https://maps.app.goo.gl/EeDx3fN8phUAtJ8y5
URL:https://fbcvallejo.net/_event/9am-sunday-service-18/
LOCATION:901 Solano Ave\, Vallejo\, CA\, United States
END:VEVENT
BEGIN:VEVENT
DTSTART;TZID=America/Los_Angeles:20250216T110000
DTEND;TZID=America/Los_Angeles:20250216T123000
DTSTAMP:20260425T054706
CREATED:20241014T005846Z
LAST-MODIFIED:20250216T193118Z
UID:473-1739703600-1739709000@fbcvallejo.net
SUMMARY:11AM Children's Sunday School
DESCRIPTION:Children’s Sanctuary \nMap Directions – https://maps.app.goo.gl/EeDx3fN8phUAtJ8y5
URL:https://fbcvallejo.net/_event/11am-childrens-sunday-school-18/
LOCATION:901 Solano Ave\, Vallejo\, CA\, United States
END:VEVENT
BEGIN:VEVENT
DTSTART;TZID=America/Los_Angeles:20250216T110000
DTEND;TZID=America/Los_Angeles:20250216T123000
DTSTAMP:20260425T054706
CREATED:20241014T005846Z
LAST-MODIFIED:20250216T193118Z
UID:472-1739703600-1739709000@fbcvallejo.net
SUMMARY:11AM Sunday Live Stream Service
DESCRIPTION:Weekly Bulletins – https://fbcvallejo.net/sermons/bulletins/ \nLivestream Links \nFacebook: https://www.facebook.com/faithbiblechurchvallejo/live \nYouTube: https://youtube.com/channel/UCRvwFe65dkysxaJgD6mHUIw/live  
URL:https://fbcvallejo.net/_event/11am-sunday-live-stream-service-18/
LOCATION:901 Solano Ave\, Vallejo\, CA\, United States
END:VEVENT
BEGIN:VEVENT
DTSTART;TZID=America/Los_Angeles:20250216T110000
DTEND;TZID=America/Los_Angeles:20250216T123000
DTSTAMP:20260425T054706
CREATED:20241014T005847Z
LAST-MODIFIED:20250216T193117Z
UID:475-1739703600-1739709000@fbcvallejo.net
SUMMARY:11AM Sunday Service
DESCRIPTION:Weekly Bulletins – https://fbcvallejo.net/sermons/bulletins/ \nMap Directions – https://maps.app.goo.gl/EeDx3fN8phUAtJ8y5
URL:https://fbcvallejo.net/_event/11am-sunday-service-18/
LOCATION:901 Solano Ave\, Vallejo\, CA\, United States
END:VEVENT
BEGIN:VEVENT
DTSTART;TZID=America/Los_Angeles:20250216T110000
DTEND;TZID=America/Los_Angeles:20250216T130000
DTSTAMP:20260425T054706
CREATED:20241014T005846Z
LAST-MODIFIED:20250216T193117Z
UID:474-1739703600-1739710800@fbcvallejo.net
SUMMARY:Faith Food Fridays
DESCRIPTION:
URL:https://fbcvallejo.net/_event/faith-food-fridays-18/
END:VEVENT
BEGIN:VEVENT
DTSTART;TZID=America/Los_Angeles:20250218T190000
DTEND;TZID=America/Los_Angeles:20250218T210000
DTSTAMP:20260425T054706
CREATED:20250104T225112Z
LAST-MODIFIED:20250218T194653Z
UID:1719-1739905200-1739912400@fbcvallejo.net
SUMMARY:Celebrate Recovery
DESCRIPTION:
URL:https://fbcvallejo.net/_event/celebrate-recovery-7/
END:VEVENT
BEGIN:VEVENT
DTSTART;TZID=America/Los_Angeles:20250219T190000
DTEND;TZID=America/Los_Angeles:20250219T200000
DTSTAMP:20260425T054706
CREATED:20241231T222704Z
LAST-MODIFIED:20250219T200030Z
UID:1434-1739991600-1739995200@fbcvallejo.net
SUMMARY:Prayer Meeting
DESCRIPTION:
URL:https://fbcvallejo.net/_event/prayer-meeting-7/
END:VEVENT
BEGIN:VEVENT
DTSTART;TZID=America/Los_Angeles:20250221T190000
DTEND;TZID=America/Los_Angeles:20250221T213000
DTSTAMP:20260425T054706
CREATED:20250102T223215Z
LAST-MODIFIED:20250221T203055Z
UID:1575-1740164400-1740173400@fbcvallejo.net
SUMMARY:Youth - ACTS OF THE APOSTLES SERIES #3
DESCRIPTION:
URL:https://fbcvallejo.net/_event/youth-different-series-3/
LOCATION:Fellowship Hall
END:VEVENT
BEGIN:VEVENT
DTSTART;TZID=America/Los_Angeles:20250223T090000
DTEND;TZID=America/Los_Angeles:20250223T103000
DTSTAMP:20260425T054706
CREATED:20241014T005847Z
LAST-MODIFIED:20250222T204428Z
UID:476-1740301200-1740306600@fbcvallejo.net
SUMMARY:9AM Sunday Service
DESCRIPTION:Weekly Bulletins – https://fbcvallejo.net/sermons/bulletins/ \nMap Directions – https://maps.app.goo.gl/EeDx3fN8phUAtJ8y5
URL:https://fbcvallejo.net/_event/9am-sunday-service-19/
LOCATION:901 Solano Ave\, Vallejo\, CA\, United States
END:VEVENT
BEGIN:VEVENT
DTSTART;TZID=America/Los_Angeles:20250223T103000
DTEND;TZID=America/Los_Angeles:20250223T130000
DTSTAMP:20260425T054706
CREATED:20250102T223216Z
LAST-MODIFIED:20250223T204637Z
UID:1576-1740306600-1740315600@fbcvallejo.net
SUMMARY:Jr. High Camp Registration Begins
DESCRIPTION:
URL:https://fbcvallejo.net/_event/jr-high-camp-registration-begins/
END:VEVENT
BEGIN:VEVENT
DTSTART;TZID=America/Los_Angeles:20250223T110000
DTEND;TZID=America/Los_Angeles:20250223T123000
DTSTAMP:20260425T054706
CREATED:20241014T005847Z
LAST-MODIFIED:20250222T204430Z
UID:478-1740308400-1740313800@fbcvallejo.net
SUMMARY:11AM Sunday Service
DESCRIPTION:Weekly Bulletins – https://fbcvallejo.net/sermons/bulletins/ \nMap Directions – https://maps.app.goo.gl/EeDx3fN8phUAtJ8y5
URL:https://fbcvallejo.net/_event/11am-sunday-service-19/
LOCATION:901 Solano Ave\, Vallejo\, CA\, United States
END:VEVENT
BEGIN:VEVENT
DTSTART;TZID=America/Los_Angeles:20250223T110000
DTEND;TZID=America/Los_Angeles:20250223T123000
DTSTAMP:20260425T054706
CREATED:20241014T005847Z
LAST-MODIFIED:20250222T204429Z
UID:477-1740308400-1740313800@fbcvallejo.net
SUMMARY:11AM Sunday Live Stream Service
DESCRIPTION:Weekly Bulletins – https://fbcvallejo.net/sermons/bulletins/ \nLivestream Links \nFacebook: https://www.facebook.com/faithbiblechurchvallejo/live \nYouTube: https://youtube.com/channel/UCRvwFe65dkysxaJgD6mHUIw/live  
URL:https://fbcvallejo.net/_event/11am-sunday-live-stream-service-19/
LOCATION:901 Solano Ave\, Vallejo\, CA\, United States
END:VEVENT
BEGIN:VEVENT
DTSTART;TZID=America/Los_Angeles:20250223T110000
DTEND;TZID=America/Los_Angeles:20250223T123000
DTSTAMP:20260425T054706
CREATED:20241014T005848Z
LAST-MODIFIED:20250222T204429Z
UID:480-1740308400-1740313800@fbcvallejo.net
SUMMARY:11AM Children's Sunday School
DESCRIPTION:Children’s Sanctuary \nMap Directions – https://maps.app.goo.gl/EeDx3fN8phUAtJ8y5
URL:https://fbcvallejo.net/_event/11am-childrens-sunday-school-19/
LOCATION:901 Solano Ave\, Vallejo\, CA\, United States
END:VEVENT
BEGIN:VEVENT
DTSTART;TZID=America/Los_Angeles:20250223T110000
DTEND;TZID=America/Los_Angeles:20250223T130000
DTSTAMP:20260425T054706
CREATED:20241014T005847Z
LAST-MODIFIED:20250223T204637Z
UID:479-1740308400-1740315600@fbcvallejo.net
SUMMARY:Faith Food Fridays
DESCRIPTION:
URL:https://fbcvallejo.net/_event/faith-food-fridays-19/
END:VEVENT
BEGIN:VEVENT
DTSTART;TZID=America/Los_Angeles:20250223T190000
DTEND;TZID=America/Los_Angeles:20250223T213000
DTSTAMP:20260425T054706
CREATED:20250102T223216Z
LAST-MODIFIED:20250223T204637Z
UID:1578-1740337200-1740346200@fbcvallejo.net
SUMMARY:Youth Outing
DESCRIPTION:
URL:https://fbcvallejo.net/_event/youth-outing/
LOCATION:TBD
END:VEVENT
BEGIN:VEVENT
DTSTART;TZID=America/Los_Angeles:20250225T190000
DTEND;TZID=America/Los_Angeles:20250225T200000
DTSTAMP:20260425T054706
CREATED:20250103T224858Z
LAST-MODIFIED:20250225T211646Z
UID:1688-1740510000-1740513600@fbcvallejo.net
SUMMARY:The Veritas School Board Meeting
DESCRIPTION:
URL:https://fbcvallejo.net/_event/the-veritas-school-board-meeting-4/
END:VEVENT
END:VCALENDAR