BEGIN:VCALENDAR
VERSION:2.0
PRODID:-//Faith Bible Church of Vallejo - ECPv6.15.20//NONSGML v1.0//EN
CALSCALE:GREGORIAN
METHOD:PUBLISH
X-WR-CALNAME:Faith Bible Church of Vallejo
X-ORIGINAL-URL:https://fbcvallejo.net
X-WR-CALDESC:Events for Faith Bible Church of Vallejo
REFRESH-INTERVAL;VALUE=DURATION:PT1H
X-Robots-Tag:noindex
X-PUBLISHED-TTL:PT1H
BEGIN:VTIMEZONE
TZID:America/Los_Angeles
BEGIN:DAYLIGHT
TZOFFSETFROM:-0800
TZOFFSETTO:-0700
TZNAME:PDT
DTSTART:20260308T100000
END:DAYLIGHT
BEGIN:STANDARD
TZOFFSETFROM:-0700
TZOFFSETTO:-0800
TZNAME:PST
DTSTART:20261101T090000
END:STANDARD
BEGIN:DAYLIGHT
TZOFFSETFROM:-0800
TZOFFSETTO:-0700
TZNAME:PDT
DTSTART:20270314T100000
END:DAYLIGHT
BEGIN:STANDARD
TZOFFSETFROM:-0700
TZOFFSETTO:-0800
TZNAME:PST
DTSTART:20271107T090000
END:STANDARD
BEGIN:DAYLIGHT
TZOFFSETFROM:-0800
TZOFFSETTO:-0700
TZNAME:PDT
DTSTART:20280312T100000
END:DAYLIGHT
BEGIN:STANDARD
TZOFFSETFROM:-0700
TZOFFSETTO:-0800
TZNAME:PST
DTSTART:20281105T090000
END:STANDARD
END:VTIMEZONE
BEGIN:VEVENT
DTSTART;TZID=America/Los_Angeles:20270601T190000
DTEND;TZID=America/Los_Angeles:20270601T210000
DTSTAMP:20260424T122958
CREATED:20260107T180052Z
LAST-MODIFIED:20260423T235816Z
UID:11859-1811876400-1811883600@fbcvallejo.net
SUMMARY:Celebrate Recovery
DESCRIPTION:
URL:https://fbcvallejo.net/_event/celebrate-recovery-126/
END:VEVENT
BEGIN:VEVENT
DTSTART;TZID=America/Los_Angeles:20270602T190000
DTEND;TZID=America/Los_Angeles:20270602T200000
DTSTAMP:20260424T122958
CREATED:20260107T180052Z
LAST-MODIFIED:20260224T230545Z
UID:11860-1811962800-1811966400@fbcvallejo.net
SUMMARY:Prayer Meeting
DESCRIPTION:
URL:https://fbcvallejo.net/_event/prayer-meeting-126/
END:VEVENT
BEGIN:VEVENT
DTSTART;TZID=America/Los_Angeles:20270603T193000
DTEND;TZID=America/Los_Angeles:20270603T203000
DTSTAMP:20260424T122958
CREATED:20260107T180052Z
LAST-MODIFIED:20260423T235816Z
UID:11861-1812051000-1812054600@fbcvallejo.net
SUMMARY:Women's Prayer Meeting
DESCRIPTION:
URL:https://fbcvallejo.net/_event/womens-prayer-meeting-32/
LOCATION:ZOOM
END:VEVENT
BEGIN:VEVENT
DTSTART;TZID=America/Los_Angeles:20270606T000000
DTEND;TZID=America/Los_Angeles:20270606T235959
DTSTAMP:20260424T122958
CREATED:20260107T180053Z
LAST-MODIFIED:20260423T235816Z
UID:11862-1812240000-1812326399@fbcvallejo.net
SUMMARY:Communion
DESCRIPTION:
URL:https://fbcvallejo.net/_event/communion-40/
END:VEVENT
BEGIN:VEVENT
DTSTART;TZID=America/Los_Angeles:20270608T190000
DTEND;TZID=America/Los_Angeles:20270608T210000
DTSTAMP:20260424T122958
CREATED:20260107T180053Z
LAST-MODIFIED:20260423T235816Z
UID:11863-1812481200-1812488400@fbcvallejo.net
SUMMARY:Celebrate Recovery
DESCRIPTION:
URL:https://fbcvallejo.net/_event/celebrate-recovery-127/
END:VEVENT
BEGIN:VEVENT
DTSTART;TZID=America/Los_Angeles:20270609T190000
DTEND;TZID=America/Los_Angeles:20270609T200000
DTSTAMP:20260424T122958
CREATED:20260107T180053Z
LAST-MODIFIED:20260224T230546Z
UID:11864-1812567600-1812571200@fbcvallejo.net
SUMMARY:Prayer Meeting
DESCRIPTION:
URL:https://fbcvallejo.net/_event/prayer-meeting-127/
END:VEVENT
BEGIN:VEVENT
DTSTART;TZID=America/Los_Angeles:20270615T190000
DTEND;TZID=America/Los_Angeles:20270615T210000
DTSTAMP:20260424T122958
CREATED:20260107T180053Z
LAST-MODIFIED:20260423T235816Z
UID:11865-1813086000-1813093200@fbcvallejo.net
SUMMARY:Celebrate Recovery
DESCRIPTION:
URL:https://fbcvallejo.net/_event/celebrate-recovery-128/
END:VEVENT
BEGIN:VEVENT
DTSTART;TZID=America/Los_Angeles:20270616T190000
DTEND;TZID=America/Los_Angeles:20270616T200000
DTSTAMP:20260424T122958
CREATED:20260107T180053Z
LAST-MODIFIED:20260224T230546Z
UID:11866-1813172400-1813176000@fbcvallejo.net
SUMMARY:Prayer Meeting
DESCRIPTION:
URL:https://fbcvallejo.net/_event/prayer-meeting-128/
END:VEVENT
BEGIN:VEVENT
DTSTART;TZID=America/Los_Angeles:20270622T190000
DTEND;TZID=America/Los_Angeles:20270622T210000
DTSTAMP:20260424T122958
CREATED:20260107T180053Z
LAST-MODIFIED:20260423T235817Z
UID:11867-1813690800-1813698000@fbcvallejo.net
SUMMARY:Celebrate Recovery
DESCRIPTION:
URL:https://fbcvallejo.net/_event/celebrate-recovery-129/
END:VEVENT
BEGIN:VEVENT
DTSTART;TZID=America/Los_Angeles:20270623T190000
DTEND;TZID=America/Los_Angeles:20270623T200000
DTSTAMP:20260424T122958
CREATED:20260107T180053Z
LAST-MODIFIED:20260224T230547Z
UID:11868-1813777200-1813780800@fbcvallejo.net
SUMMARY:Prayer Meeting
DESCRIPTION:
URL:https://fbcvallejo.net/_event/prayer-meeting-129/
END:VEVENT
BEGIN:VEVENT
DTSTART;TZID=America/Los_Angeles:20270629T190000
DTEND;TZID=America/Los_Angeles:20270629T210000
DTSTAMP:20260424T122958
CREATED:20260107T180053Z
LAST-MODIFIED:20260423T235817Z
UID:11869-1814295600-1814302800@fbcvallejo.net
SUMMARY:Celebrate Recovery
DESCRIPTION:
URL:https://fbcvallejo.net/_event/celebrate-recovery-130/
END:VEVENT
BEGIN:VEVENT
DTSTART;TZID=America/Los_Angeles:20270630T190000
DTEND;TZID=America/Los_Angeles:20270630T200000
DTSTAMP:20260424T122958
CREATED:20260107T180054Z
LAST-MODIFIED:20260224T230547Z
UID:11870-1814382000-1814385600@fbcvallejo.net
SUMMARY:Prayer Meeting
DESCRIPTION:
URL:https://fbcvallejo.net/_event/prayer-meeting-130/
END:VEVENT
END:VCALENDAR