BEGIN:VCALENDAR
VERSION:2.0
PRODID:-//Faith Bible Church of Vallejo - ECPv6.15.20//NONSGML v1.0//EN
CALSCALE:GREGORIAN
METHOD:PUBLISH
X-ORIGINAL-URL:https://fbcvallejo.net
X-WR-CALDESC:Events for Faith Bible Church of Vallejo
REFRESH-INTERVAL;VALUE=DURATION:PT1H
X-Robots-Tag:noindex
X-PUBLISHED-TTL:PT1H
BEGIN:VTIMEZONE
TZID:America/Los_Angeles
BEGIN:DAYLIGHT
TZOFFSETFROM:-0800
TZOFFSETTO:-0700
TZNAME:PDT
DTSTART:20260308T100000
END:DAYLIGHT
BEGIN:STANDARD
TZOFFSETFROM:-0700
TZOFFSETTO:-0800
TZNAME:PST
DTSTART:20261101T090000
END:STANDARD
BEGIN:DAYLIGHT
TZOFFSETFROM:-0800
TZOFFSETTO:-0700
TZNAME:PDT
DTSTART:20270314T100000
END:DAYLIGHT
BEGIN:STANDARD
TZOFFSETFROM:-0700
TZOFFSETTO:-0800
TZNAME:PST
DTSTART:20271107T090000
END:STANDARD
BEGIN:DAYLIGHT
TZOFFSETFROM:-0800
TZOFFSETTO:-0700
TZNAME:PDT
DTSTART:20280312T100000
END:DAYLIGHT
BEGIN:STANDARD
TZOFFSETFROM:-0700
TZOFFSETTO:-0800
TZNAME:PST
DTSTART:20281105T090000
END:STANDARD
END:VTIMEZONE
BEGIN:VEVENT
DTSTART;TZID=America/Los_Angeles:20270801T000000
DTEND;TZID=America/Los_Angeles:20270801T235959
DTSTAMP:20260424T150533
CREATED:20260107T180055Z
LAST-MODIFIED:20260423T235818Z
UID:11881-1817078400-1817164799@fbcvallejo.net
SUMMARY:Communion
DESCRIPTION:
URL:https://fbcvallejo.net/_event/communion-42/
END:VEVENT
BEGIN:VEVENT
DTSTART;TZID=America/Los_Angeles:20270803T190000
DTEND;TZID=America/Los_Angeles:20270803T210000
DTSTAMP:20260424T150533
CREATED:20260107T180055Z
LAST-MODIFIED:20260423T235818Z
UID:11882-1817319600-1817326800@fbcvallejo.net
SUMMARY:Celebrate Recovery
DESCRIPTION:
URL:https://fbcvallejo.net/_event/celebrate-recovery-135/
END:VEVENT
BEGIN:VEVENT
DTSTART;TZID=America/Los_Angeles:20270804T190000
DTEND;TZID=America/Los_Angeles:20270804T200000
DTSTAMP:20260424T150533
CREATED:20260107T180055Z
LAST-MODIFIED:20260224T230549Z
UID:11883-1817406000-1817409600@fbcvallejo.net
SUMMARY:Prayer Meeting
DESCRIPTION:
URL:https://fbcvallejo.net/_event/prayer-meeting-135/
END:VEVENT
BEGIN:VEVENT
DTSTART;TZID=America/Los_Angeles:20270805T193000
DTEND;TZID=America/Los_Angeles:20270805T203000
DTSTAMP:20260424T150533
CREATED:20260107T180055Z
LAST-MODIFIED:20260423T235818Z
UID:11884-1817494200-1817497800@fbcvallejo.net
SUMMARY:Women's Prayer Meeting
DESCRIPTION:
URL:https://fbcvallejo.net/_event/womens-prayer-meeting-34/
LOCATION:ZOOM
END:VEVENT
BEGIN:VEVENT
DTSTART;TZID=America/Los_Angeles:20270810T190000
DTEND;TZID=America/Los_Angeles:20270810T210000
DTSTAMP:20260424T150533
CREATED:20260107T180056Z
LAST-MODIFIED:20260423T235819Z
UID:11885-1817924400-1817931600@fbcvallejo.net
SUMMARY:Celebrate Recovery
DESCRIPTION:
URL:https://fbcvallejo.net/_event/celebrate-recovery-136/
END:VEVENT
BEGIN:VEVENT
DTSTART;TZID=America/Los_Angeles:20270811T190000
DTEND;TZID=America/Los_Angeles:20270811T200000
DTSTAMP:20260424T150533
CREATED:20260107T180056Z
LAST-MODIFIED:20260224T230549Z
UID:11886-1818010800-1818014400@fbcvallejo.net
SUMMARY:Prayer Meeting
DESCRIPTION:
URL:https://fbcvallejo.net/_event/prayer-meeting-136/
END:VEVENT
BEGIN:VEVENT
DTSTART;TZID=America/Los_Angeles:20270817T190000
DTEND;TZID=America/Los_Angeles:20270817T210000
DTSTAMP:20260424T150533
CREATED:20260107T180056Z
LAST-MODIFIED:20260423T235819Z
UID:11887-1818529200-1818536400@fbcvallejo.net
SUMMARY:Celebrate Recovery
DESCRIPTION:
URL:https://fbcvallejo.net/_event/celebrate-recovery-137/
END:VEVENT
BEGIN:VEVENT
DTSTART;TZID=America/Los_Angeles:20270818T190000
DTEND;TZID=America/Los_Angeles:20270818T200000
DTSTAMP:20260424T150533
CREATED:20260107T180056Z
LAST-MODIFIED:20260224T230549Z
UID:11888-1818615600-1818619200@fbcvallejo.net
SUMMARY:Prayer Meeting
DESCRIPTION:
URL:https://fbcvallejo.net/_event/prayer-meeting-137/
END:VEVENT
BEGIN:VEVENT
DTSTART;TZID=America/Los_Angeles:20270824T190000
DTEND;TZID=America/Los_Angeles:20270824T210000
DTSTAMP:20260424T150533
CREATED:20260107T180056Z
LAST-MODIFIED:20260423T235819Z
UID:11889-1819134000-1819141200@fbcvallejo.net
SUMMARY:Celebrate Recovery
DESCRIPTION:
URL:https://fbcvallejo.net/_event/celebrate-recovery-138/
END:VEVENT
BEGIN:VEVENT
DTSTART;TZID=America/Los_Angeles:20270825T190000
DTEND;TZID=America/Los_Angeles:20270825T200000
DTSTAMP:20260424T150533
CREATED:20260107T180056Z
LAST-MODIFIED:20260224T230550Z
UID:11890-1819220400-1819224000@fbcvallejo.net
SUMMARY:Prayer Meeting
DESCRIPTION:
URL:https://fbcvallejo.net/_event/prayer-meeting-138/
END:VEVENT
BEGIN:VEVENT
DTSTART;TZID=America/Los_Angeles:20270831T190000
DTEND;TZID=America/Los_Angeles:20270831T210000
DTSTAMP:20260424T150533
CREATED:20260107T180056Z
LAST-MODIFIED:20260423T235819Z
UID:11891-1819738800-1819746000@fbcvallejo.net
SUMMARY:Celebrate Recovery
DESCRIPTION:
URL:https://fbcvallejo.net/_event/celebrate-recovery-139/
END:VEVENT
END:VCALENDAR