BEGIN:VCALENDAR
VERSION:2.0
PRODID:-//Faith Bible Church of Vallejo - ECPv6.15.20//NONSGML v1.0//EN
CALSCALE:GREGORIAN
METHOD:PUBLISH
X-ORIGINAL-URL:https://fbcvallejo.net
X-WR-CALDESC:Events for Faith Bible Church of Vallejo
REFRESH-INTERVAL;VALUE=DURATION:PT1H
X-Robots-Tag:noindex
X-PUBLISHED-TTL:PT1H
BEGIN:VTIMEZONE
TZID:America/Los_Angeles
BEGIN:DAYLIGHT
TZOFFSETFROM:-0800
TZOFFSETTO:-0700
TZNAME:PDT
DTSTART:20260308T100000
END:DAYLIGHT
BEGIN:STANDARD
TZOFFSETFROM:-0700
TZOFFSETTO:-0800
TZNAME:PST
DTSTART:20261101T090000
END:STANDARD
BEGIN:DAYLIGHT
TZOFFSETFROM:-0800
TZOFFSETTO:-0700
TZNAME:PDT
DTSTART:20270314T100000
END:DAYLIGHT
BEGIN:STANDARD
TZOFFSETFROM:-0700
TZOFFSETTO:-0800
TZNAME:PST
DTSTART:20271107T090000
END:STANDARD
BEGIN:DAYLIGHT
TZOFFSETFROM:-0800
TZOFFSETTO:-0700
TZNAME:PDT
DTSTART:20280312T100000
END:DAYLIGHT
BEGIN:STANDARD
TZOFFSETFROM:-0700
TZOFFSETTO:-0800
TZNAME:PST
DTSTART:20281105T090000
END:STANDARD
END:VTIMEZONE
BEGIN:VEVENT
DTSTART;TZID=America/Los_Angeles:20270901T190000
DTEND;TZID=America/Los_Angeles:20270901T200000
DTSTAMP:20260424T162422
CREATED:20260107T180056Z
LAST-MODIFIED:20260224T230550Z
UID:11892-1819825200-1819828800@fbcvallejo.net
SUMMARY:Prayer Meeting
DESCRIPTION:
URL:https://fbcvallejo.net/_event/prayer-meeting-139/
END:VEVENT
BEGIN:VEVENT
DTSTART;TZID=America/Los_Angeles:20270902T193000
DTEND;TZID=America/Los_Angeles:20270902T203000
DTSTAMP:20260424T162422
CREATED:20260107T180057Z
LAST-MODIFIED:20260423T235819Z
UID:11893-1819913400-1819917000@fbcvallejo.net
SUMMARY:Women's Prayer Meeting
DESCRIPTION:
URL:https://fbcvallejo.net/_event/womens-prayer-meeting-35/
LOCATION:ZOOM
END:VEVENT
BEGIN:VEVENT
DTSTART;TZID=America/Los_Angeles:20270905T000000
DTEND;TZID=America/Los_Angeles:20270905T235959
DTSTAMP:20260424T162422
CREATED:20260107T180057Z
LAST-MODIFIED:20260423T235819Z
UID:11894-1820102400-1820188799@fbcvallejo.net
SUMMARY:Communion
DESCRIPTION:
URL:https://fbcvallejo.net/_event/communion-43/
END:VEVENT
BEGIN:VEVENT
DTSTART;TZID=America/Los_Angeles:20270907T190000
DTEND;TZID=America/Los_Angeles:20270907T210000
DTSTAMP:20260424T162422
CREATED:20260107T180057Z
LAST-MODIFIED:20260423T235819Z
UID:11895-1820343600-1820350800@fbcvallejo.net
SUMMARY:Celebrate Recovery
DESCRIPTION:
URL:https://fbcvallejo.net/_event/celebrate-recovery-140/
END:VEVENT
BEGIN:VEVENT
DTSTART;TZID=America/Los_Angeles:20270908T190000
DTEND;TZID=America/Los_Angeles:20270908T200000
DTSTAMP:20260424T162422
CREATED:20260107T180057Z
LAST-MODIFIED:20260224T230551Z
UID:11896-1820430000-1820433600@fbcvallejo.net
SUMMARY:Prayer Meeting
DESCRIPTION:
URL:https://fbcvallejo.net/_event/prayer-meeting-140/
END:VEVENT
BEGIN:VEVENT
DTSTART;TZID=America/Los_Angeles:20270914T190000
DTEND;TZID=America/Los_Angeles:20270914T210000
DTSTAMP:20260424T162422
CREATED:20260107T180057Z
LAST-MODIFIED:20260423T235820Z
UID:11897-1820948400-1820955600@fbcvallejo.net
SUMMARY:Celebrate Recovery
DESCRIPTION:
URL:https://fbcvallejo.net/_event/celebrate-recovery-141/
END:VEVENT
BEGIN:VEVENT
DTSTART;TZID=America/Los_Angeles:20270915T190000
DTEND;TZID=America/Los_Angeles:20270915T200000
DTSTAMP:20260424T162422
CREATED:20260107T180057Z
LAST-MODIFIED:20260224T230551Z
UID:11898-1821034800-1821038400@fbcvallejo.net
SUMMARY:Prayer Meeting
DESCRIPTION:
URL:https://fbcvallejo.net/_event/prayer-meeting-141/
END:VEVENT
BEGIN:VEVENT
DTSTART;TZID=America/Los_Angeles:20270921T190000
DTEND;TZID=America/Los_Angeles:20270921T210000
DTSTAMP:20260424T162422
CREATED:20260107T180057Z
LAST-MODIFIED:20260423T235820Z
UID:11899-1821553200-1821560400@fbcvallejo.net
SUMMARY:Celebrate Recovery
DESCRIPTION:
URL:https://fbcvallejo.net/_event/celebrate-recovery-142/
END:VEVENT
BEGIN:VEVENT
DTSTART;TZID=America/Los_Angeles:20270922T190000
DTEND;TZID=America/Los_Angeles:20270922T200000
DTSTAMP:20260424T162422
CREATED:20260107T180057Z
LAST-MODIFIED:20260224T230551Z
UID:11900-1821639600-1821643200@fbcvallejo.net
SUMMARY:Prayer Meeting
DESCRIPTION:
URL:https://fbcvallejo.net/_event/prayer-meeting-142/
END:VEVENT
BEGIN:VEVENT
DTSTART;TZID=America/Los_Angeles:20270928T190000
DTEND;TZID=America/Los_Angeles:20270928T210000
DTSTAMP:20260424T162422
CREATED:20260107T180058Z
LAST-MODIFIED:20260423T235820Z
UID:11901-1822158000-1822165200@fbcvallejo.net
SUMMARY:Celebrate Recovery
DESCRIPTION:
URL:https://fbcvallejo.net/_event/celebrate-recovery-143/
END:VEVENT
BEGIN:VEVENT
DTSTART;TZID=America/Los_Angeles:20270929T190000
DTEND;TZID=America/Los_Angeles:20270929T200000
DTSTAMP:20260424T162422
CREATED:20260107T180058Z
LAST-MODIFIED:20260224T230551Z
UID:11902-1822244400-1822248000@fbcvallejo.net
SUMMARY:Prayer Meeting
DESCRIPTION:
URL:https://fbcvallejo.net/_event/prayer-meeting-143/
END:VEVENT
END:VCALENDAR