BEGIN:VCALENDAR
VERSION:2.0
PRODID:-//Faith Bible Church of Vallejo - ECPv6.15.20//NONSGML v1.0//EN
CALSCALE:GREGORIAN
METHOD:PUBLISH
X-ORIGINAL-URL:https://fbcvallejo.net
X-WR-CALDESC:Events for Faith Bible Church of Vallejo
REFRESH-INTERVAL;VALUE=DURATION:PT1H
X-Robots-Tag:noindex
X-PUBLISHED-TTL:PT1H
BEGIN:VTIMEZONE
TZID:America/Los_Angeles
BEGIN:DAYLIGHT
TZOFFSETFROM:-0800
TZOFFSETTO:-0700
TZNAME:PDT
DTSTART:20260308T100000
END:DAYLIGHT
BEGIN:STANDARD
TZOFFSETFROM:-0700
TZOFFSETTO:-0800
TZNAME:PST
DTSTART:20261101T090000
END:STANDARD
BEGIN:DAYLIGHT
TZOFFSETFROM:-0800
TZOFFSETTO:-0700
TZNAME:PDT
DTSTART:20270314T100000
END:DAYLIGHT
BEGIN:STANDARD
TZOFFSETFROM:-0700
TZOFFSETTO:-0800
TZNAME:PST
DTSTART:20271107T090000
END:STANDARD
BEGIN:DAYLIGHT
TZOFFSETFROM:-0800
TZOFFSETTO:-0700
TZNAME:PDT
DTSTART:20280312T100000
END:DAYLIGHT
BEGIN:STANDARD
TZOFFSETFROM:-0700
TZOFFSETTO:-0800
TZNAME:PST
DTSTART:20281105T090000
END:STANDARD
END:VTIMEZONE
BEGIN:VEVENT
DTSTART;TZID=America/Los_Angeles:20271102T190000
DTEND;TZID=America/Los_Angeles:20271102T210000
DTSTAMP:20260424T191002
CREATED:20260107T180059Z
LAST-MODIFIED:20260424T235848Z
UID:11913-1825182000-1825189200@fbcvallejo.net
SUMMARY:Celebrate Recovery
DESCRIPTION:
URL:https://fbcvallejo.net/_event/celebrate-recovery-148/
END:VEVENT
BEGIN:VEVENT
DTSTART;TZID=America/Los_Angeles:20271103T190000
DTEND;TZID=America/Los_Angeles:20271103T200000
DTSTAMP:20260424T191002
CREATED:20260107T180059Z
LAST-MODIFIED:20260224T230553Z
UID:11914-1825268400-1825272000@fbcvallejo.net
SUMMARY:Prayer Meeting
DESCRIPTION:
URL:https://fbcvallejo.net/_event/prayer-meeting-148/
END:VEVENT
BEGIN:VEVENT
DTSTART;TZID=America/Los_Angeles:20271104T193000
DTEND;TZID=America/Los_Angeles:20271104T203000
DTSTAMP:20260424T191002
CREATED:20260107T180059Z
LAST-MODIFIED:20260424T235848Z
UID:11915-1825356600-1825360200@fbcvallejo.net
SUMMARY:Women's Prayer Meeting
DESCRIPTION:
URL:https://fbcvallejo.net/_event/womens-prayer-meeting-37/
LOCATION:ZOOM
END:VEVENT
BEGIN:VEVENT
DTSTART;TZID=America/Los_Angeles:20271107T000000
DTEND;TZID=America/Los_Angeles:20271107T235959
DTSTAMP:20260424T191002
CREATED:20260108T180353Z
LAST-MODIFIED:20260424T235848Z
UID:12103-1825545600-1825631999@fbcvallejo.net
SUMMARY:Communion
DESCRIPTION:
URL:https://fbcvallejo.net/_event/communion-45/
END:VEVENT
BEGIN:VEVENT
DTSTART;TZID=America/Los_Angeles:20271109T190000
DTEND;TZID=America/Los_Angeles:20271109T210000
DTSTAMP:20260424T191002
CREATED:20260114T183032Z
LAST-MODIFIED:20260424T235848Z
UID:12123-1825786800-1825794000@fbcvallejo.net
SUMMARY:Celebrate Recovery
DESCRIPTION:
URL:https://fbcvallejo.net/_event/celebrate-recovery-149/
END:VEVENT
BEGIN:VEVENT
DTSTART;TZID=America/Los_Angeles:20271110T190000
DTEND;TZID=America/Los_Angeles:20271110T200000
DTSTAMP:20260424T191002
CREATED:20260114T183032Z
LAST-MODIFIED:20260224T230554Z
UID:12124-1825873200-1825876800@fbcvallejo.net
SUMMARY:Prayer Meeting
DESCRIPTION:
URL:https://fbcvallejo.net/_event/prayer-meeting-149/
END:VEVENT
BEGIN:VEVENT
DTSTART;TZID=America/Los_Angeles:20271116T190000
DTEND;TZID=America/Los_Angeles:20271116T210000
DTSTAMP:20260424T191002
CREATED:20260115T184831Z
LAST-MODIFIED:20260424T235848Z
UID:12130-1826391600-1826398800@fbcvallejo.net
SUMMARY:Celebrate Recovery
DESCRIPTION:
URL:https://fbcvallejo.net/_event/celebrate-recovery-150/
END:VEVENT
BEGIN:VEVENT
DTSTART;TZID=America/Los_Angeles:20271117T190000
DTEND;TZID=America/Los_Angeles:20271117T200000
DTSTAMP:20260424T191002
CREATED:20260121T193506Z
LAST-MODIFIED:20260224T230554Z
UID:12150-1826478000-1826481600@fbcvallejo.net
SUMMARY:Prayer Meeting
DESCRIPTION:
URL:https://fbcvallejo.net/_event/prayer-meeting-150/
END:VEVENT
BEGIN:VEVENT
DTSTART;TZID=America/Los_Angeles:20271123T190000
DTEND;TZID=America/Los_Angeles:20271123T210000
DTSTAMP:20260424T191002
CREATED:20260122T195636Z
LAST-MODIFIED:20260424T235849Z
UID:12155-1826996400-1827003600@fbcvallejo.net
SUMMARY:Celebrate Recovery
DESCRIPTION:
URL:https://fbcvallejo.net/_event/celebrate-recovery-151/
END:VEVENT
BEGIN:VEVENT
DTSTART;TZID=America/Los_Angeles:20271124T190000
DTEND;TZID=America/Los_Angeles:20271124T200000
DTSTAMP:20260424T191002
CREATED:20260123T200041Z
LAST-MODIFIED:20260224T230554Z
UID:12160-1827082800-1827086400@fbcvallejo.net
SUMMARY:Prayer Meeting
DESCRIPTION:
URL:https://fbcvallejo.net/_event/prayer-meeting-151/
END:VEVENT
BEGIN:VEVENT
DTSTART;TZID=America/Los_Angeles:20271130T190000
DTEND;TZID=America/Los_Angeles:20271130T210000
DTSTAMP:20260424T191002
CREATED:20260124T200246Z
LAST-MODIFIED:20260424T235849Z
UID:12165-1827601200-1827608400@fbcvallejo.net
SUMMARY:Celebrate Recovery
DESCRIPTION:
URL:https://fbcvallejo.net/_event/celebrate-recovery-152/
END:VEVENT
END:VCALENDAR